Workbook

Sheet ابدأ هنا
B2: شيت احتياجات القماش والماركر
B3: يحسب استهلاك القطعة من الماركر، ثم الطبقات والمتر والكيلو المطلوبة لكل أمر قص، ويجمع احتياج كل قماش ويقارنه بالرصيد ليظهر العجز.
B5: طريقة الاستخدام
B6: 1. في شيت «الماركرات» اكتب كل موديل: القماش وطول الماركر وعدد القطع فيه وفاقد الأطراف وعرض القماش والوزن (GSM).
B7: 2. في شيت «الأوامر» اكتب رقم الأمر واختر الموديل واكتب الكمية ونسبة المرفوض، فتظهر القطع والطبقات والمتر والكيلو.
B8: 3. في شيت «المخزون والنواقص» اكتب اسم كل قماش كما كتبته في «الماركرات»، ثم رصيده بالمتر أو بالكيلو.
B9: 4. راجع العمود الأخير: «ناقص» تعني أن الرصيد لا يغطي الأوامر المكتوبة.
B11: الألوان
B12: الخانة البيضاء: اكتب فيها.
B13: الخانة الرمادية: تُحسب تلقائيًا، فلا تكتب فيها.
B14: الخانة الصفراء أو الحمراء: تنبيه يحتاج إلى مراجعتك.
B16: معلومات مهمة
... B24: القالب مجاني: استخدمه وعدّله وشاركه كما تشاء.

Sheet الماركرات
A1: شيت احتياجات القماش والماركر · قالب مجاني من Softwiro
A2: هل تعبت من نقل الأرقام بين الشيتات؟ هذا العمل يتم تلقائيًا في MESwiro ← اضغط هنا
A4: الموديل | B4: القماش | C4: طول الماركر (متر) | D4: عدد القطع في الماركر | E4: فاقد الأطراف (سم) | F4: فواقد أخرى (%) | G4: العرض (سم) | H4: الوزن GSM | I4: الاستهلاك بالمتر للقطعة | J4: وزن المتر (كيلو) | K4: الاستهلاك بالكيلو للقطعة
A5: تيشيرت بولو | B5: جيرسيه قطن | C5: 6.5 | D5: 5 | E5: 4 | F5: 2 | G5: 180 | H5: 180 | I5: =IF(OR(A5="",C5="",D5=""),"",IF(D5>0,(C5+E5/100)/D5*(1+F5/100),"")) | J5: =IF(OR(A5="",G5="",H5=""),"",G5/100*H5/1000) | K5: =IF(OR(I5="",J5=""),"",I5*J5)
A6: ليجن نسائي | B6: ليكرا ميلانج | C6: 5.2 | D6: 4 | E6: 3 | F6: 2 | G6: 160 | H6: 220 | I6: =IF(OR(A6="",C6="",D6=""),"",IF(D6>0,(C6+E6/100)/D6*(1+F6/100),"")) | J6: =IF(OR(A6="",G6="",H6=""),"",G6/100*H6/1000) | K6: =IF(OR(I6="",J6=""),"",I6*J6)
A7: بنطلون رجالي | B7: جبردين | C7: 8.4 | D7: 6 | E7: 5 | F7: 3 | I7: =IF(OR(A7="",C7="",D7=""),"",IF(D7>0,(C7+E7/100)/D7*(1+F7/100),"")) | J7: =IF(OR(A7="",G7="",H7=""),"",G7/100*H7/1000) | K7: =IF(OR(I7="",J7=""),"",I7*J7)
I8: =IF(OR(A8="",C8="",D8=""),"",IF(D8>0,(C8+E8/100)/D8*(1+F8/100),"")) | J8: =IF(OR(A8="",G8="",H8=""),"",G8/100*H8/1000) | K8: =IF(OR(I8="",J8=""),"",I8*J8)
I9: =IF(OR(A9="",C9="",D9=""),"",IF(D9>0,(C9+E9/100)/D9*(1+F9/100),"")) | J9: =IF(OR(A9="",G9="",H9=""),"",G9/100*H9/1000) | K9: =IF(OR(I9="",J9=""),"",I9*J9)
I10: =IF(OR(A10="",C10="",D10=""),"",IF(D10>0,(C10+E10/100)/D10*(1+F10/100),"")) | J10: =IF(OR(A10="",G10="",H10=""),"",G10/100*H10/1000) | K10: =IF(OR(I10="",J10=""),"",I10*J10)
I11: =IF(OR(A11="",C11="",D11=""),"",IF(D11>0,(C11+E11/100)/D11*(1+F11/100),"")) | J11: =IF(OR(A11="",G11="",H11=""),"",G11/100*H11/1000) | K11: =IF(OR(I11="",J11=""),"",I11*J11)
I12: =IF(OR(A12="",C12="",D12=""),"",IF(D12>0,(C12+E12/100)/D12*(1+F12/100),"")) | J12: =IF(OR(A12="",G12="",H12=""),"",G12/100*H12/1000) | K12: =IF(OR(I12="",J12=""),"",I12*J12)
I13: =IF(OR(A13="",C13="",D13=""),"",IF(D13>0,(C13+E13/100)/D13*(1+F13/100),"")) | J13: =IF(OR(A13="",G13="",H13=""),"",G13/100*H13/1000) | K13: =IF(OR(I13="",J13=""),"",I13*J13)
I14: =IF(OR(A14="",C14="",D14=""),"",IF(D14>0,(C14+E14/100)/D14*(1+F14/100),"")) | J14: =IF(OR(A14="",G14="",H14=""),"",G14/100*H14/1000) | K14: =IF(OR(I14="",J14=""),"",I14*J14)
I15: =IF(OR(A15="",C15="",D15=""),"",IF(D15>0,(C15+E15/100)/D15*(1+F15/100),"")) | J15: =IF(OR(A15="",G15="",H15=""),"",G15/100*H15/1000) | K15: =IF(OR(I15="",J15=""),"",I15*J15)
I16: =IF(OR(A16="",C16="",D16=""),"",IF(D16>0,(C16+E16/100)/D16*(1+F16/100),"")) | J16: =IF(OR(A16="",G16="",H16=""),"",G16/100*H16/1000) | K16: =IF(OR(I16="",J16=""),"",I16*J16)
I17: =IF(OR(A17="",C17="",D17=""),"",IF(D17>0,(C17+E17/100)/D17*(1+F17/100),"")) | J17: =IF(OR(A17="",G17="",H17=""),"",G17/100*H17/1000) | K17: =IF(OR(I17="",J17=""),"",I17*J17)
I18: =IF(OR(A18="",C18="",D18=""),"",IF(D18>0,(C18+E18/100)/D18*(1+F18/100),"")) | J18: =IF(OR(A18="",G18="",H18=""),"",G18/100*H18/1000) | K18: =IF(OR(I18="",J18=""),"",I18*J18)
I19: =IF(OR(A19="",C19="",D19=""),"",IF(D19>0,(C19+E19/100)/D19*(1+F19/100),"")) | J19: =IF(OR(A19="",G19="",H19=""),"",G19/100*H19/1000) | K19: =IF(OR(I19="",J19=""),"",I19*J19)
... I104: =IF(OR(A104="",C104="",D104=""),"",IF(D104>0,(C104+E104/100)/D104*(1+F104/100),"")) | J104: =IF(OR(A104="",G104="",H104=""),"",G104/100*H104/1000) | K104: =IF(OR(I104="",J104=""),"",I104*J104)

Sheet الأوامر
A1: شيت احتياجات القماش والماركر · قالب مجاني من Softwiro
A2: هل تعبت من نقل الأرقام بين الشيتات؟ هذا العمل يتم تلقائيًا في MESwiro ← اضغط هنا
A4: رقم الأمر | B4: الموديل | C4: الكمية | D4: المرفوض (%) | E4: القماش | F4: القطع المطلوبة | G4: الطبقات | H4: القطع التي ستُقص | I4: المتر المطلوب | J4: الكيلو المطلوب
A5: ق-101 | B5: تيشيرت بولو | C5: 1000 | D5: 3 | E5: =IF(B5="","",IFERROR(INDEX('الماركرات'!$B$5:$B$104,MATCH($B5,'الماركرات'!$A$5:$A$104,0))&"","")) | F5: =IF(OR(B5="",C5=""),"",IF(D5<100,ROUNDUP(C5/(1-D5/100),0),"")) | G5: =IF(F5="","",IFERROR(ROUNDUP(F5/INDEX('الماركرات'!$D$5:$D$104,MATCH($B5,'الماركرات'!$A$5:$A$104,0)),0),"")) | H5: =IF(G5="","",IFERROR(G5*INDEX('الماركرات'!$D$5:$D$104,MATCH($B5,'الماركرات'!$A$5:$A$104,0)),"")) | I5: =IF(G5="","",IFERROR(G5*(INDEX('الماركرات'!$C$5:$C$104,MATCH($B5,'الماركرات'!$A$5:$A$104,0))+INDEX('الماركرات'!$E$5:$E$104,MATCH($B5,'الماركرات'!$A$5:$A$104,0))/100)*(1+INDEX('الماركرات'!$F$5:$F$104,MATCH($B5,'الماركرات'!$A$5:$A$104,0))/100),"")) | J5: =IF(I5="","",IFERROR(I5*INDEX('الماركرات'!$J$5:$J$104,MATCH($B5,'الماركرات'!$A$5:$A$104,0)),""))
A6: ق-102 | B6: تيشيرت بولو | C6: 400 | D6: 2 | E6: =IF(B6="","",IFERROR(INDEX('الماركرات'!$B$5:$B$104,MATCH($B6,'الماركرات'!$A$5:$A$104,0))&"","")) | F6: =IF(OR(B6="",C6=""),"",IF(D6<100,ROUNDUP(C6/(1-D6/100),0),"")) | G6: =IF(F6="","",IFERROR(ROUNDUP(F6/INDEX('الماركرات'!$D$5:$D$104,MATCH($B6,'الماركرات'!$A$5:$A$104,0)),0),"")) | H6: =IF(G6="","",IFERROR(G6*INDEX('الماركرات'!$D$5:$D$104,MATCH($B6,'الماركرات'!$A$5:$A$104,0)),"")) | I6: =IF(G6="","",IFERROR(G6*(INDEX('الماركرات'!$C$5:$C$104,MATCH($B6,'الماركرات'!$A$5:$A$104,0))+INDEX('الماركرات'!$E$5:$E$104,MATCH($B6,'الماركرات'!$A$5:$A$104,0))/100)*(1+INDEX('الماركرات'!$F$5:$F$104,MATCH($B6,'الماركرات'!$A$5:$A$104,0))/100),"")) | J6: =IF(I6="","",IFERROR(I6*INDEX('الماركرات'!$J$5:$J$104,MATCH($B6,'الماركرات'!$A$5:$A$104,0)),""))
A7: ق-103 | B7: ليجن نسائي | C7: 600 | D7: 4 | E7: =IF(B7="","",IFERROR(INDEX('الماركرات'!$B$5:$B$104,MATCH($B7,'الماركرات'!$A$5:$A$104,0))&"","")) | F7: =IF(OR(B7="",C7=""),"",IF(D7<100,ROUNDUP(C7/(1-D7/100),0),"")) | G7: =IF(F7="","",IFERROR(ROUNDUP(F7/INDEX('الماركرات'!$D$5:$D$104,MATCH($B7,'الماركرات'!$A$5:$A$104,0)),0),"")) | H7: =IF(G7="","",IFERROR(G7*INDEX('الماركرات'!$D$5:$D$104,MATCH($B7,'الماركرات'!$A$5:$A$104,0)),"")) | I7: =IF(G7="","",IFERROR(G7*(INDEX('الماركرات'!$C$5:$C$104,MATCH($B7,'الماركرات'!$A$5:$A$104,0))+INDEX('الماركرات'!$E$5:$E$104,MATCH($B7,'الماركرات'!$A$5:$A$104,0))/100)*(1+INDEX('الماركرات'!$F$5:$F$104,MATCH($B7,'الماركرات'!$A$5:$A$104,0))/100),"")) | J7: =IF(I7="","",IFERROR(I7*INDEX('الماركرات'!$J$5:$J$104,MATCH($B7,'الماركرات'!$A$5:$A$104,0)),""))
A8: ق-104 | B8: بنطلون رجالي | C8: 500 | D8: 3 | E8: =IF(B8="","",IFERROR(INDEX('الماركرات'!$B$5:$B$104,MATCH($B8,'الماركرات'!$A$5:$A$104,0))&"","")) | F8: =IF(OR(B8="",C8=""),"",IF(D8<100,ROUNDUP(C8/(1-D8/100),0),"")) | G8: =IF(F8="","",IFERROR(ROUNDUP(F8/INDEX('الماركرات'!$D$5:$D$104,MATCH($B8,'الماركرات'!$A$5:$A$104,0)),0),"")) | H8: =IF(G8="","",IFERROR(G8*INDEX('الماركرات'!$D$5:$D$104,MATCH($B8,'الماركرات'!$A$5:$A$104,0)),"")) | I8: =IF(G8="","",IFERROR(G8*(INDEX('الماركرات'!$C$5:$C$104,MATCH($B8,'الماركرات'!$A$5:$A$104,0))+INDEX('الماركرات'!$E$5:$E$104,MATCH($B8,'الماركرات'!$A$5:$A$104,0))/100)*(1+INDEX('الماركرات'!$F$5:$F$104,MATCH($B8,'الماركرات'!$A$5:$A$104,0))/100),"")) | J8: =IF(I8="","",IFERROR(I8*INDEX('الماركرات'!$J$5:$J$104,MATCH($B8,'الماركرات'!$A$5:$A$104,0)),""))
E9: =IF(B9="","",IFERROR(INDEX('الماركرات'!$B$5:$B$104,MATCH($B9,'الماركرات'!$A$5:$A$104,0))&"","")) | F9: =IF(OR(B9="",C9=""),"",IF(D9<100,ROUNDUP(C9/(1-D9/100),0),"")) | G9: =IF(F9="","",IFERROR(ROUNDUP(F9/INDEX('الماركرات'!$D$5:$D$104,MATCH($B9,'الماركرات'!$A$5:$A$104,0)),0),"")) | H9: =IF(G9="","",IFERROR(G9*INDEX('الماركرات'!$D$5:$D$104,MATCH($B9,'الماركرات'!$A$5:$A$104,0)),"")) | I9: =IF(G9="","",IFERROR(G9*(INDEX('الماركرات'!$C$5:$C$104,MATCH($B9,'الماركرات'!$A$5:$A$104,0))+INDEX('الماركرات'!$E$5:$E$104,MATCH($B9,'الماركرات'!$A$5:$A$104,0))/100)*(1+INDEX('الماركرات'!$F$5:$F$104,MATCH($B9,'الماركرات'!$A$5:$A$104,0))/100),"")) | J9: =IF(I9="","",IFERROR(I9*INDEX('الماركرات'!$J$5:$J$104,MATCH($B9,'الماركرات'!$A$5:$A$104,0)),""))
E10: =IF(B10="","",IFERROR(INDEX('الماركرات'!$B$5:$B$104,MATCH($B10,'الماركرات'!$A$5:$A$104,0))&"","")) | F10: =IF(OR(B10="",C10=""),"",IF(D10<100,ROUNDUP(C10/(1-D10/100),0),"")) | G10: =IF(F10="","",IFERROR(ROUNDUP(F10/INDEX('الماركرات'!$D$5:$D$104,MATCH($B10,'الماركرات'!$A$5:$A$104,0)),0),"")) | H10: =IF(G10="","",IFERROR(G10*INDEX('الماركرات'!$D$5:$D$104,MATCH($B10,'الماركرات'!$A$5:$A$104,0)),"")) | I10: =IF(G10="","",IFERROR(G10*(INDEX('الماركرات'!$C$5:$C$104,MATCH($B10,'الماركرات'!$A$5:$A$104,0))+INDEX('الماركرات'!$E$5:$E$104,MATCH($B10,'الماركرات'!$A$5:$A$104,0))/100)*(1+INDEX('الماركرات'!$F$5:$F$104,MATCH($B10,'الماركرات'!$A$5:$A$104,0))/100),"")) | J10: =IF(I10="","",IFERROR(I10*INDEX('الماركرات'!$J$5:$J$104,MATCH($B10,'الماركرات'!$A$5:$A$104,0)),""))
E11: =IF(B11="","",IFERROR(INDEX('الماركرات'!$B$5:$B$104,MATCH($B11,'الماركرات'!$A$5:$A$104,0))&"","")) | F11: =IF(OR(B11="",C11=""),"",IF(D11<100,ROUNDUP(C11/(1-D11/100),0),"")) | G11: =IF(F11="","",IFERROR(ROUNDUP(F11/INDEX('الماركرات'!$D$5:$D$104,MATCH($B11,'الماركرات'!$A$5:$A$104,0)),0),"")) | H11: =IF(G11="","",IFERROR(G11*INDEX('الماركرات'!$D$5:$D$104,MATCH($B11,'الماركرات'!$A$5:$A$104,0)),"")) | I11: =IF(G11="","",IFERROR(G11*(INDEX('الماركرات'!$C$5:$C$104,MATCH($B11,'الماركرات'!$A$5:$A$104,0))+INDEX('الماركرات'!$E$5:$E$104,MATCH($B11,'الماركرات'!$A$5:$A$104,0))/100)*(1+INDEX('الماركرات'!$F$5:$F$104,MATCH($B11,'الماركرات'!$A$5:$A$104,0))/100),"")) | J11: =IF(I11="","",IFERROR(I11*INDEX('الماركرات'!$J$5:$J$104,MATCH($B11,'الماركرات'!$A$5:$A$104,0)),""))
E12: =IF(B12="","",IFERROR(INDEX('الماركرات'!$B$5:$B$104,MATCH($B12,'الماركرات'!$A$5:$A$104,0))&"","")) | F12: =IF(OR(B12="",C12=""),"",IF(D12<100,ROUNDUP(C12/(1-D12/100),0),"")) | G12: =IF(F12="","",IFERROR(ROUNDUP(F12/INDEX('الماركرات'!$D$5:$D$104,MATCH($B12,'الماركرات'!$A$5:$A$104,0)),0),"")) | H12: =IF(G12="","",IFERROR(G12*INDEX('الماركرات'!$D$5:$D$104,MATCH($B12,'الماركرات'!$A$5:$A$104,0)),"")) | I12: =IF(G12="","",IFERROR(G12*(INDEX('الماركرات'!$C$5:$C$104,MATCH($B12,'الماركرات'!$A$5:$A$104,0))+INDEX('الماركرات'!$E$5:$E$104,MATCH($B12,'الماركرات'!$A$5:$A$104,0))/100)*(1+INDEX('الماركرات'!$F$5:$F$104,MATCH($B12,'الماركرات'!$A$5:$A$104,0))/100),"")) | J12: =IF(I12="","",IFERROR(I12*INDEX('الماركرات'!$J$5:$J$104,MATCH($B12,'الماركرات'!$A$5:$A$104,0)),""))
E13: =IF(B13="","",IFERROR(INDEX('الماركرات'!$B$5:$B$104,MATCH($B13,'الماركرات'!$A$5:$A$104,0))&"","")) | F13: =IF(OR(B13="",C13=""),"",IF(D13<100,ROUNDUP(C13/(1-D13/100),0),"")) | G13: =IF(F13="","",IFERROR(ROUNDUP(F13/INDEX('الماركرات'!$D$5:$D$104,MATCH($B13,'الماركرات'!$A$5:$A$104,0)),0),"")) | H13: =IF(G13="","",IFERROR(G13*INDEX('الماركرات'!$D$5:$D$104,MATCH($B13,'الماركرات'!$A$5:$A$104,0)),"")) | I13: =IF(G13="","",IFERROR(G13*(INDEX('الماركرات'!$C$5:$C$104,MATCH($B13,'الماركرات'!$A$5:$A$104,0))+INDEX('الماركرات'!$E$5:$E$104,MATCH($B13,'الماركرات'!$A$5:$A$104,0))/100)*(1+INDEX('الماركرات'!$F$5:$F$104,MATCH($B13,'الماركرات'!$A$5:$A$104,0))/100),"")) | J13: =IF(I13="","",IFERROR(I13*INDEX('الماركرات'!$J$5:$J$104,MATCH($B13,'الماركرات'!$A$5:$A$104,0)),""))
E14: =IF(B14="","",IFERROR(INDEX('الماركرات'!$B$5:$B$104,MATCH($B14,'الماركرات'!$A$5:$A$104,0))&"","")) | F14: =IF(OR(B14="",C14=""),"",IF(D14<100,ROUNDUP(C14/(1-D14/100),0),"")) | G14: =IF(F14="","",IFERROR(ROUNDUP(F14/INDEX('الماركرات'!$D$5:$D$104,MATCH($B14,'الماركرات'!$A$5:$A$104,0)),0),"")) | H14: =IF(G14="","",IFERROR(G14*INDEX('الماركرات'!$D$5:$D$104,MATCH($B14,'الماركرات'!$A$5:$A$104,0)),"")) | I14: =IF(G14="","",IFERROR(G14*(INDEX('الماركرات'!$C$5:$C$104,MATCH($B14,'الماركرات'!$A$5:$A$104,0))+INDEX('الماركرات'!$E$5:$E$104,MATCH($B14,'الماركرات'!$A$5:$A$104,0))/100)*(1+INDEX('الماركرات'!$F$5:$F$104,MATCH($B14,'الماركرات'!$A$5:$A$104,0))/100),"")) | J14: =IF(I14="","",IFERROR(I14*INDEX('الماركرات'!$J$5:$J$104,MATCH($B14,'الماركرات'!$A$5:$A$104,0)),""))
E15: =IF(B15="","",IFERROR(INDEX('الماركرات'!$B$5:$B$104,MATCH($B15,'الماركرات'!$A$5:$A$104,0))&"","")) | F15: =IF(OR(B15="",C15=""),"",IF(D15<100,ROUNDUP(C15/(1-D15/100),0),"")) | G15: =IF(F15="","",IFERROR(ROUNDUP(F15/INDEX('الماركرات'!$D$5:$D$104,MATCH($B15,'الماركرات'!$A$5:$A$104,0)),0),"")) | H15: =IF(G15="","",IFERROR(G15*INDEX('الماركرات'!$D$5:$D$104,MATCH($B15,'الماركرات'!$A$5:$A$104,0)),"")) | I15: =IF(G15="","",IFERROR(G15*(INDEX('الماركرات'!$C$5:$C$104,MATCH($B15,'الماركرات'!$A$5:$A$104,0))+INDEX('الماركرات'!$E$5:$E$104,MATCH($B15,'الماركرات'!$A$5:$A$104,0))/100)*(1+INDEX('الماركرات'!$F$5:$F$104,MATCH($B15,'الماركرات'!$A$5:$A$104,0))/100),"")) | J15: =IF(I15="","",IFERROR(I15*INDEX('الماركرات'!$J$5:$J$104,MATCH($B15,'الماركرات'!$A$5:$A$104,0)),""))
E16: =IF(B16="","",IFERROR(INDEX('الماركرات'!$B$5:$B$104,MATCH($B16,'الماركرات'!$A$5:$A$104,0))&"","")) | F16: =IF(OR(B16="",C16=""),"",IF(D16<100,ROUNDUP(C16/(1-D16/100),0),"")) | G16: =IF(F16="","",IFERROR(ROUNDUP(F16/INDEX('الماركرات'!$D$5:$D$104,MATCH($B16,'الماركرات'!$A$5:$A$104,0)),0),"")) | H16: =IF(G16="","",IFERROR(G16*INDEX('الماركرات'!$D$5:$D$104,MATCH($B16,'الماركرات'!$A$5:$A$104,0)),"")) | I16: =IF(G16="","",IFERROR(G16*(INDEX('الماركرات'!$C$5:$C$104,MATCH($B16,'الماركرات'!$A$5:$A$104,0))+INDEX('الماركرات'!$E$5:$E$104,MATCH($B16,'الماركرات'!$A$5:$A$104,0))/100)*(1+INDEX('الماركرات'!$F$5:$F$104,MATCH($B16,'الماركرات'!$A$5:$A$104,0))/100),"")) | J16: =IF(I16="","",IFERROR(I16*INDEX('الماركرات'!$J$5:$J$104,MATCH($B16,'الماركرات'!$A$5:$A$104,0)),""))
E17: =IF(B17="","",IFERROR(INDEX('الماركرات'!$B$5:$B$104,MATCH($B17,'الماركرات'!$A$5:$A$104,0))&"","")) | F17: =IF(OR(B17="",C17=""),"",IF(D17<100,ROUNDUP(C17/(1-D17/100),0),"")) | G17: =IF(F17="","",IFERROR(ROUNDUP(F17/INDEX('الماركرات'!$D$5:$D$104,MATCH($B17,'الماركرات'!$A$5:$A$104,0)),0),"")) | H17: =IF(G17="","",IFERROR(G17*INDEX('الماركرات'!$D$5:$D$104,MATCH($B17,'الماركرات'!$A$5:$A$104,0)),"")) | I17: =IF(G17="","",IFERROR(G17*(INDEX('الماركرات'!$C$5:$C$104,MATCH($B17,'الماركرات'!$A$5:$A$104,0))+INDEX('الماركرات'!$E$5:$E$104,MATCH($B17,'الماركرات'!$A$5:$A$104,0))/100)*(1+INDEX('الماركرات'!$F$5:$F$104,MATCH($B17,'الماركرات'!$A$5:$A$104,0))/100),"")) | J17: =IF(I17="","",IFERROR(I17*INDEX('الماركرات'!$J$5:$J$104,MATCH($B17,'الماركرات'!$A$5:$A$104,0)),""))
E18: =IF(B18="","",IFERROR(INDEX('الماركرات'!$B$5:$B$104,MATCH($B18,'الماركرات'!$A$5:$A$104,0))&"","")) | F18: =IF(OR(B18="",C18=""),"",IF(D18<100,ROUNDUP(C18/(1-D18/100),0),"")) | G18: =IF(F18="","",IFERROR(ROUNDUP(F18/INDEX('الماركرات'!$D$5:$D$104,MATCH($B18,'الماركرات'!$A$5:$A$104,0)),0),"")) | H18: =IF(G18="","",IFERROR(G18*INDEX('الماركرات'!$D$5:$D$104,MATCH($B18,'الماركرات'!$A$5:$A$104,0)),"")) | I18: =IF(G18="","",IFERROR(G18*(INDEX('الماركرات'!$C$5:$C$104,MATCH($B18,'الماركرات'!$A$5:$A$104,0))+INDEX('الماركرات'!$E$5:$E$104,MATCH($B18,'الماركرات'!$A$5:$A$104,0))/100)*(1+INDEX('الماركرات'!$F$5:$F$104,MATCH($B18,'الماركرات'!$A$5:$A$104,0))/100),"")) | J18: =IF(I18="","",IFERROR(I18*INDEX('الماركرات'!$J$5:$J$104,MATCH($B18,'الماركرات'!$A$5:$A$104,0)),""))
E19: =IF(B19="","",IFERROR(INDEX('الماركرات'!$B$5:$B$104,MATCH($B19,'الماركرات'!$A$5:$A$104,0))&"","")) | F19: =IF(OR(B19="",C19=""),"",IF(D19<100,ROUNDUP(C19/(1-D19/100),0),"")) | G19: =IF(F19="","",IFERROR(ROUNDUP(F19/INDEX('الماركرات'!$D$5:$D$104,MATCH($B19,'الماركرات'!$A$5:$A$104,0)),0),"")) | H19: =IF(G19="","",IFERROR(G19*INDEX('الماركرات'!$D$5:$D$104,MATCH($B19,'الماركرات'!$A$5:$A$104,0)),"")) | I19: =IF(G19="","",IFERROR(G19*(INDEX('الماركرات'!$C$5:$C$104,MATCH($B19,'الماركرات'!$A$5:$A$104,0))+INDEX('الماركرات'!$E$5:$E$104,MATCH($B19,'الماركرات'!$A$5:$A$104,0))/100)*(1+INDEX('الماركرات'!$F$5:$F$104,MATCH($B19,'الماركرات'!$A$5:$A$104,0))/100),"")) | J19: =IF(I19="","",IFERROR(I19*INDEX('الماركرات'!$J$5:$J$104,MATCH($B19,'الماركرات'!$A$5:$A$104,0)),""))
E20: =IF(B20="","",IFERROR(INDEX('الماركرات'!$B$5:$B$104,MATCH($B20,'الماركرات'!$A$5:$A$104,0))&"","")) | F20: =IF(OR(B20="",C20=""),"",IF(D20<100,ROUNDUP(C20/(1-D20/100),0),"")) | G20: =IF(F20="","",IFERROR(ROUNDUP(F20/INDEX('الماركرات'!$D$5:$D$104,MATCH($B20,'الماركرات'!$A$5:$A$104,0)),0),"")) | H20: =IF(G20="","",IFERROR(G20*INDEX('الماركرات'!$D$5:$D$104,MATCH($B20,'الماركرات'!$A$5:$A$104,0)),"")) | I20: =IF(G20="","",IFERROR(G20*(INDEX('الماركرات'!$C$5:$C$104,MATCH($B20,'الماركرات'!$A$5:$A$104,0))+INDEX('الماركرات'!$E$5:$E$104,MATCH($B20,'الماركرات'!$A$5:$A$104,0))/100)*(1+INDEX('الماركرات'!$F$5:$F$104,MATCH($B20,'الماركرات'!$A$5:$A$104,0))/100),"")) | J20: =IF(I20="","",IFERROR(I20*INDEX('الماركرات'!$J$5:$J$104,MATCH($B20,'الماركرات'!$A$5:$A$104,0)),""))
... E304: =IF(B304="","",IFERROR(INDEX('الماركرات'!$B$5:$B$104,MATCH($B304,'الماركرات'!$A$5:$A$104,0))&"","")) | F304: =IF(OR(B304="",C304=""),"",IF(D304<100,ROUNDUP(C304/(1-D304/100),0),"")) | G304: =IF(F304="","",IFERROR(ROUNDUP(F304/INDEX('الماركرات'!$D$5:$D$104,MATCH($B304,'الماركرات'!$A$5:$A$104,0)),0),"")) | H304: =IF(G304="","",IFERROR(G304*INDEX('الماركرات'!$D$5:$D$104,MATCH($B304,'الماركرات'!$A$5:$A$104,0)),"")) | I304: =IF(G304="","",IFERROR(G304*(INDEX('الماركرات'!$C$5:$C$104,MATCH($B304,'الماركرات'!$A$5:$A$104,0))+INDEX('الماركرات'!$E$5:$E$104,MATCH($B304,'الماركرات'!$A$5:$A$104,0))/100)*(1+INDEX('الماركرات'!$F$5:$F$104,MATCH($B304,'الماركرات'!$A$5:$A$104,0))/100),"")) | J304: =IF(I304="","",IFERROR(I304*INDEX('الماركرات'!$J$5:$J$104,MATCH($B304,'الماركرات'!$A$5:$A$104,0)),""))

Sheet المخزون والنواقص
A1: شيت احتياجات القماش والماركر · قالب مجاني من Softwiro
A2: هل تعبت من نقل الأرقام بين الشيتات؟ هذا العمل يتم تلقائيًا في MESwiro ← اضغط هنا
A3: القماش الذي يُشترى بالكيلو اكتب رصيده بالكيلو، والذي يُشترى بالمتر اكتب رصيده بالمتر؛ ولا يُحسب العجز إلا للرصيد المكتوب.
A4: القماش | B4: الرصيد بالمتر | C4: الرصيد بالكيلو | D4: المطلوب بالمتر | E4: المطلوب بالكيلو | F4: العجز بالمتر | G4: العجز بالكيلو | H4: الحالة
A5: جيرسيه قطن | B5: 1800 | D5: =IF(A5="","",SUMIFS('الأوامر'!$I$5:$I$304,'الأوامر'!$E$5:$E$304,A5)) | E5: =IF(A5="","",SUMIFS('الأوامر'!$J$5:$J$304,'الأوامر'!$E$5:$E$304,A5)) | F5: =IF(OR(A5="",B5=""),"",MAX(0,D5-B5)) | G5: =IF(OR(A5="",C5=""),"",MAX(0,E5-C5)) | H5: =IF(A5="","",IF(AND(B5="",C5=""),"اكتب الرصيد",IF(IF(F5="",0,F5)+IF(G5="",0,G5)>0,"ناقص","يكفي")))
A6: ليكرا ميلانج | C6: 400 | D6: =IF(A6="","",SUMIFS('الأوامر'!$I$5:$I$304,'الأوامر'!$E$5:$E$304,A6)) | E6: =IF(A6="","",SUMIFS('الأوامر'!$J$5:$J$304,'الأوامر'!$E$5:$E$304,A6)) | F6: =IF(OR(A6="",B6=""),"",MAX(0,D6-B6)) | G6: =IF(OR(A6="",C6=""),"",MAX(0,E6-C6)) | H6: =IF(A6="","",IF(AND(B6="",C6=""),"اكتب الرصيد",IF(IF(F6="",0,F6)+IF(G6="",0,G6)>0,"ناقص","يكفي")))
A7: جبردين | B7: 800 | D7: =IF(A7="","",SUMIFS('الأوامر'!$I$5:$I$304,'الأوامر'!$E$5:$E$304,A7)) | E7: =IF(A7="","",SUMIFS('الأوامر'!$J$5:$J$304,'الأوامر'!$E$5:$E$304,A7)) | F7: =IF(OR(A7="",B7=""),"",MAX(0,D7-B7)) | G7: =IF(OR(A7="",C7=""),"",MAX(0,E7-C7)) | H7: =IF(A7="","",IF(AND(B7="",C7=""),"اكتب الرصيد",IF(IF(F7="",0,F7)+IF(G7="",0,G7)>0,"ناقص","يكفي")))
D8: =IF(A8="","",SUMIFS('الأوامر'!$I$5:$I$304,'الأوامر'!$E$5:$E$304,A8)) | E8: =IF(A8="","",SUMIFS('الأوامر'!$J$5:$J$304,'الأوامر'!$E$5:$E$304,A8)) | F8: =IF(OR(A8="",B8=""),"",MAX(0,D8-B8)) | G8: =IF(OR(A8="",C8=""),"",MAX(0,E8-C8)) | H8: =IF(A8="","",IF(AND(B8="",C8=""),"اكتب الرصيد",IF(IF(F8="",0,F8)+IF(G8="",0,G8)>0,"ناقص","يكفي")))
D9: =IF(A9="","",SUMIFS('الأوامر'!$I$5:$I$304,'الأوامر'!$E$5:$E$304,A9)) | E9: =IF(A9="","",SUMIFS('الأوامر'!$J$5:$J$304,'الأوامر'!$E$5:$E$304,A9)) | F9: =IF(OR(A9="",B9=""),"",MAX(0,D9-B9)) | G9: =IF(OR(A9="",C9=""),"",MAX(0,E9-C9)) | H9: =IF(A9="","",IF(AND(B9="",C9=""),"اكتب الرصيد",IF(IF(F9="",0,F9)+IF(G9="",0,G9)>0,"ناقص","يكفي")))
D10: =IF(A10="","",SUMIFS('الأوامر'!$I$5:$I$304,'الأوامر'!$E$5:$E$304,A10)) | E10: =IF(A10="","",SUMIFS('الأوامر'!$J$5:$J$304,'الأوامر'!$E$5:$E$304,A10)) | F10: =IF(OR(A10="",B10=""),"",MAX(0,D10-B10)) | G10: =IF(OR(A10="",C10=""),"",MAX(0,E10-C10)) | H10: =IF(A10="","",IF(AND(B10="",C10=""),"اكتب الرصيد",IF(IF(F10="",0,F10)+IF(G10="",0,G10)>0,"ناقص","يكفي")))
D11: =IF(A11="","",SUMIFS('الأوامر'!$I$5:$I$304,'الأوامر'!$E$5:$E$304,A11)) | E11: =IF(A11="","",SUMIFS('الأوامر'!$J$5:$J$304,'الأوامر'!$E$5:$E$304,A11)) | F11: =IF(OR(A11="",B11=""),"",MAX(0,D11-B11)) | G11: =IF(OR(A11="",C11=""),"",MAX(0,E11-C11)) | H11: =IF(A11="","",IF(AND(B11="",C11=""),"اكتب الرصيد",IF(IF(F11="",0,F11)+IF(G11="",0,G11)>0,"ناقص","يكفي")))
D12: =IF(A12="","",SUMIFS('الأوامر'!$I$5:$I$304,'الأوامر'!$E$5:$E$304,A12)) | E12: =IF(A12="","",SUMIFS('الأوامر'!$J$5:$J$304,'الأوامر'!$E$5:$E$304,A12)) | F12: =IF(OR(A12="",B12=""),"",MAX(0,D12-B12)) | G12: =IF(OR(A12="",C12=""),"",MAX(0,E12-C12)) | H12: =IF(A12="","",IF(AND(B12="",C12=""),"اكتب الرصيد",IF(IF(F12="",0,F12)+IF(G12="",0,G12)>0,"ناقص","يكفي")))
D13: =IF(A13="","",SUMIFS('الأوامر'!$I$5:$I$304,'الأوامر'!$E$5:$E$304,A13)) | E13: =IF(A13="","",SUMIFS('الأوامر'!$J$5:$J$304,'الأوامر'!$E$5:$E$304,A13)) | F13: =IF(OR(A13="",B13=""),"",MAX(0,D13-B13)) | G13: =IF(OR(A13="",C13=""),"",MAX(0,E13-C13)) | H13: =IF(A13="","",IF(AND(B13="",C13=""),"اكتب الرصيد",IF(IF(F13="",0,F13)+IF(G13="",0,G13)>0,"ناقص","يكفي")))
D14: =IF(A14="","",SUMIFS('الأوامر'!$I$5:$I$304,'الأوامر'!$E$5:$E$304,A14)) | E14: =IF(A14="","",SUMIFS('الأوامر'!$J$5:$J$304,'الأوامر'!$E$5:$E$304,A14)) | F14: =IF(OR(A14="",B14=""),"",MAX(0,D14-B14)) | G14: =IF(OR(A14="",C14=""),"",MAX(0,E14-C14)) | H14: =IF(A14="","",IF(AND(B14="",C14=""),"اكتب الرصيد",IF(IF(F14="",0,F14)+IF(G14="",0,G14)>0,"ناقص","يكفي")))
D15: =IF(A15="","",SUMIFS('الأوامر'!$I$5:$I$304,'الأوامر'!$E$5:$E$304,A15)) | E15: =IF(A15="","",SUMIFS('الأوامر'!$J$5:$J$304,'الأوامر'!$E$5:$E$304,A15)) | F15: =IF(OR(A15="",B15=""),"",MAX(0,D15-B15)) | G15: =IF(OR(A15="",C15=""),"",MAX(0,E15-C15)) | H15: =IF(A15="","",IF(AND(B15="",C15=""),"اكتب الرصيد",IF(IF(F15="",0,F15)+IF(G15="",0,G15)>0,"ناقص","يكفي")))
D16: =IF(A16="","",SUMIFS('الأوامر'!$I$5:$I$304,'الأوامر'!$E$5:$E$304,A16)) | E16: =IF(A16="","",SUMIFS('الأوامر'!$J$5:$J$304,'الأوامر'!$E$5:$E$304,A16)) | F16: =IF(OR(A16="",B16=""),"",MAX(0,D16-B16)) | G16: =IF(OR(A16="",C16=""),"",MAX(0,E16-C16)) | H16: =IF(A16="","",IF(AND(B16="",C16=""),"اكتب الرصيد",IF(IF(F16="",0,F16)+IF(G16="",0,G16)>0,"ناقص","يكفي")))
D17: =IF(A17="","",SUMIFS('الأوامر'!$I$5:$I$304,'الأوامر'!$E$5:$E$304,A17)) | E17: =IF(A17="","",SUMIFS('الأوامر'!$J$5:$J$304,'الأوامر'!$E$5:$E$304,A17)) | F17: =IF(OR(A17="",B17=""),"",MAX(0,D17-B17)) | G17: =IF(OR(A17="",C17=""),"",MAX(0,E17-C17)) | H17: =IF(A17="","",IF(AND(B17="",C17=""),"اكتب الرصيد",IF(IF(F17="",0,F17)+IF(G17="",0,G17)>0,"ناقص","يكفي")))
D18: =IF(A18="","",SUMIFS('الأوامر'!$I$5:$I$304,'الأوامر'!$E$5:$E$304,A18)) | E18: =IF(A18="","",SUMIFS('الأوامر'!$J$5:$J$304,'الأوامر'!$E$5:$E$304,A18)) | F18: =IF(OR(A18="",B18=""),"",MAX(0,D18-B18)) | G18: =IF(OR(A18="",C18=""),"",MAX(0,E18-C18)) | H18: =IF(A18="","",IF(AND(B18="",C18=""),"اكتب الرصيد",IF(IF(F18="",0,F18)+IF(G18="",0,G18)>0,"ناقص","يكفي")))
D19: =IF(A19="","",SUMIFS('الأوامر'!$I$5:$I$304,'الأوامر'!$E$5:$E$304,A19)) | E19: =IF(A19="","",SUMIFS('الأوامر'!$J$5:$J$304,'الأوامر'!$E$5:$E$304,A19)) | F19: =IF(OR(A19="",B19=""),"",MAX(0,D19-B19)) | G19: =IF(OR(A19="",C19=""),"",MAX(0,E19-C19)) | H19: =IF(A19="","",IF(AND(B19="",C19=""),"اكتب الرصيد",IF(IF(F19="",0,F19)+IF(G19="",0,G19)>0,"ناقص","يكفي")))
... D104: =IF(A104="","",SUMIFS('الأوامر'!$I$5:$I$304,'الأوامر'!$E$5:$E$304,A104)) | E104: =IF(A104="","",SUMIFS('الأوامر'!$J$5:$J$304,'الأوامر'!$E$5:$E$304,A104)) | F104: =IF(OR(A104="",B104=""),"",MAX(0,D104-B104)) | G104: =IF(OR(A104="",C104=""),"",MAX(0,E104-C104)) | H104: =IF(A104="","",IF(AND(B104="",C104=""),"اكتب الرصيد",IF(IF(F104="",0,F104)+IF(G104="",0,G104)>0,"ناقص","يكفي")))

Sheet لماذا ما زلت على إكسل؟
B2: لماذا ما زلت تعمل على إكسل؟
B3: يحسب هذا الشيت احتياج الأوامر التي تكتبها بنفسك. في MESwiro يفكك تخطيط الاحتياجات (MRP) أوامر الإنتاج المخططة إلى مكوناتها ويحسب النواقص مقابل المخزون.
B5: في هذا الشيت | C5: في MESwiro
B6: تكتب كل أمر وكل رصيد بيدك. | C6: يفكك تخطيط الاحتياجات (MRP) أوامر الإنتاج المخططة إلى مكوناتها، ويحسب النواقص مقابل المخزون.
B7: تطلب عروض الأسعار من الموردين بالتليفون. | C7: يطلب عروض أسعار من عدة موردين، ويقارن السعر والمدة والحد الأدنى للطلب جنبًا إلى جنب.
B8: جدولة الخطوط في شيت تخفي التعارضات. | C8: يوزّع أوامر العمل على الخطوط والورديات بالسحب والإفلات، مع مخطط جانت ولوحة للأوامر غير المجدولة.
B9: الكفاءة وتكلفة الأمر تخمين. | C9: يحسب مؤشر OEE لكل خط تلقائيًا، ويعرض تكلفة المواد والعمالة والماكينات لكل أمر.
B11: تعرّف على MESwiro واطلب عرضًا تجريبيًا ←
B13: أو تواصل معنا: sales@softwiro.com · softwiro.com/ar/contact
