Workbook

Sheet ابدأ هنا
B2: شيت الخزنة والمصروفات اليومية
B3: يسجّل وارد الخزنة ومنصرفها يومًا بيوم مع رصيد الخزنة بعد كل حركة، ويلخّص الإيرادات والمصروفات حسب التصنيف في كل شهر من السنة.
B5: طريقة الاستخدام
B6: 1. في شيت «الإعدادات» اكتب السنة والرصيد الافتتاحي للخزنة، أي ما فيها قبل أول حركة في «اليومية».
B7: 2. في شيت «التصنيفات» اكتب أسماء الإيرادات والمصروفات التي تحتاجها، واختر نوع كل تصنيف.
B8: 3. في شيت «اليومية» سجّل كل حركة: التاريخ والبيان والتصنيف، ثم المبلغ في خانة «وارد» أو «منصرف».
B9: 4. يظهر رصيد الخزنة بعد كل حركة تلقائيًا، وإذا نزل تحت الصفر يتلوّن بالأحمر.
B10: 5. افتح شيت «ملخص شهري» لترى إجمالي كل تصنيف في كل شهر، وإجمالي الإيرادات والمصروفات والصافي.
B12: الألوان
B13: الخانة البيضاء: اكتب فيها.
B14: الخانة الرمادية: تُحسب تلقائيًا، فلا تكتب فيها.
B15: الخانة الصفراء أو الحمراء: تنبيه يحتاج إلى مراجعتك.
... B25: القالب مجاني: استخدمه وعدّله وشاركه كما تشاء.

Sheet ملخص شهري
A1: شيت الخزنة والمصروفات اليومية · قالب مجاني من Softwiro
A2: هل تعبت من نقل الأرقام بين الشيتات؟ هذا العمل يتم تلقائيًا في MyAccBot ← اضغط هنا
A4: السنة | B4: ='الإعدادات'!$B$4 | C4: يلخّص هذا الشيت حركات هذه السنة فقط. غيّر السنة من شيت «الإعدادات».
A6: التصنيف | B6: النوع | C6: يناير | D6: فبراير | E6: مارس | F6: أبريل | G6: مايو | H6: يونيو | I6: يوليو | J6: أغسطس | K6: سبتمبر | L6: أكتوبر | M6: نوفمبر | N6: ديسمبر | O6: الإجمالي
A7: إجمالي الإيرادات | C7: =SUMIFS(C$10:C$49,$B$10:$B$49,"إيراد") | D7: =SUMIFS(D$10:D$49,$B$10:$B$49,"إيراد") | E7: =SUMIFS(E$10:E$49,$B$10:$B$49,"إيراد") | F7: =SUMIFS(F$10:F$49,$B$10:$B$49,"إيراد") | G7: =SUMIFS(G$10:G$49,$B$10:$B$49,"إيراد") | H7: =SUMIFS(H$10:H$49,$B$10:$B$49,"إيراد") | I7: =SUMIFS(I$10:I$49,$B$10:$B$49,"إيراد") | J7: =SUMIFS(J$10:J$49,$B$10:$B$49,"إيراد") | ... O7: =SUMIFS(O$10:O$49,$B$10:$B$49,"إيراد")
A8: إجمالي المصروفات | C8: =SUMIFS(C$10:C$49,$B$10:$B$49,"مصروف") | D8: =SUMIFS(D$10:D$49,$B$10:$B$49,"مصروف") | E8: =SUMIFS(E$10:E$49,$B$10:$B$49,"مصروف") | F8: =SUMIFS(F$10:F$49,$B$10:$B$49,"مصروف") | G8: =SUMIFS(G$10:G$49,$B$10:$B$49,"مصروف") | H8: =SUMIFS(H$10:H$49,$B$10:$B$49,"مصروف") | I8: =SUMIFS(I$10:I$49,$B$10:$B$49,"مصروف") | J8: =SUMIFS(J$10:J$49,$B$10:$B$49,"مصروف") | ... O8: =SUMIFS(O$10:O$49,$B$10:$B$49,"مصروف")
A9: الصافي | C9: =C7-C8 | D9: =D7-D8 | E9: =E7-E8 | F9: =F7-F8 | G9: =G7-G8 | H9: =H7-H8 | I9: =I7-I8 | J9: =J7-J8 | ... O9: =O7-O8
A10: =IF('التصنيفات'!A5&""="","",'التصنيفات'!A5) | B10: =IF('التصنيفات'!A5&""="","",'التصنيفات'!B5&"") | C10: =IF($A10&""="","",IF($B10="إيراد",SUMIFS('اليومية'!$D$5:$D$2004,'اليومية'!$C$5:$C$2004,$A10&"",'اليومية'!$A$5:$A$2004,">="&DATE('الإعدادات'!$B$4,1,1),'اليومية'!$A$5:$A$2004,"<"&DATE('الإعدادات'!$B$4,2,1)),IF($B10="مصروف",SUMIFS('اليومية'!$E$5:$E$2004,'اليومية'!$C$5:$C$2004,$A10&"",'اليومية'!$A$5:$A$2004,">="&DATE('الإعدادات'!$B$4,1,1),'اليومية'!$A$5:$A$2004,"<"&DATE('الإعدادات'!$B$4,2,1)),0))) | D10: =IF($A10&""="","",IF($B10="إيراد",SUMIFS('اليومية'!$D$5:$D$2004,'اليومية'!$C$5:$C$2004,$A10&"",'اليومية'!$A$5:$A$2004,">="&DATE('الإعدادات'!$B$4,2,1),'اليومية'!$A$5:$A$2004,"<"&DATE('الإعدادات'!$B$4,3,1)),IF($B10="مصروف",SUMIFS('اليومية'!$E$5:$E$2004,'اليومية'!$C$5:$C$2004,$A10&"",'اليومية'!$A$5:$A$2004,">="&DATE('الإعدادات'!$B$4,2,1),'اليومية'!$A$5:$A$2004,"<"&DATE('الإعدادات'!$B$4,3,1)),0))) | E10: =IF($A10&""="","",IF($B10="إيراد",SUMIFS('اليومية'!$D$5:$D$2004,'اليومية'!$C$5:$C$2004,$A10&"",'اليومية'!$A$5:$A$2004,">="&DATE('الإعدادات'!$B$4,3,1),'اليومية'!$A$5:$A$2004,"<"&DATE('الإعدادات'!$B$4,4,1)),IF($B10="مصروف",SUMIFS('اليومية'!$E$5:$E$2004,'اليومية'!$C$5:$C$2004,$A10&"",'اليومية'!$A$5:$A$2004,">="&DATE('الإعدادات'!$B$4,3,1),'اليومية'!$A$5:$A$2004,"<"&DATE('الإعدادات'!$B$4,4,1)),0))) | F10: =IF($A10&""="","",IF($B10="إيراد",SUMIFS('اليومية'!$D$5:$D$2004,'اليومية'!$C$5:$C$2004,$A10&"",'اليومية'!$A$5:$A$2004,">="&DATE('الإعدادات'!$B$4,4,1),'اليومية'!$A$5:$A$2004,"<"&DATE('الإعدادات'!$B$4,5,1)),IF($B10="مصروف",SUMIFS('اليومية'!$E$5:$E$2004,'اليومية'!$C$5:$C$2004,$A10&"",'اليومية'!$A$5:$A$2004,">="&DATE('الإعدادات'!$B$4,4,1),'اليومية'!$A$5:$A$2004,"<"&DATE('الإعدادات'!$B$4,5,1)),0))) | G10: =IF($A10&""="","",IF($B10="إيراد",SUMIFS('اليومية'!$D$5:$D$2004,'اليومية'!$C$5:$C$2004,$A10&"",'اليومية'!$A$5:$A$2004,">="&DATE('الإعدادات'!$B$4,5,1),'اليومية'!$A$5:$A$2004,"<"&DATE('الإعدادات'!$B$4,6,1)),IF($B10="مصروف",SUMIFS('اليومية'!$E$5:$E$2004,'اليومية'!$C$5:$C$2004,$A10&"",'اليومية'!$A$5:$A$2004,">="&DATE('الإعدادات'!$B$4,5,1),'اليومية'!$A$5:$A$2004,"<"&DATE('الإعدادات'!$B$4,6,1)),0))) | H10: =IF($A10&""="","",IF($B10="إيراد",SUMIFS('اليومية'!$D$5:$D$2004,'اليومية'!$C$5:$C$2004,$A10&"",'اليومية'!$A$5:$A$2004,">="&DATE('الإعدادات'!$B$4,6,1),'اليومية'!$A$5:$A$2004,"<"&DATE('الإعدادات'!$B$4,7,1)),IF($B10="مصروف",SUMIFS('اليومية'!$E$5:$E$2004,'اليومية'!$C$5:$C$2004,$A10&"",'اليومية'!$A$5:$A$2004,">="&DATE('الإعدادات'!$B$4,6,1),'اليومية'!$A$5:$A$2004,"<"&DATE('الإعدادات'!$B$4,7,1)),0))) | I10: =IF($A10&""="","",IF($B10="إيراد",SUMIFS('اليومية'!$D$5:$D$2004,'اليومية'!$C$5:$C$2004,$A10&"",'اليومية'!$A$5:$A$2004,">="&DATE('الإعدادات'!$B$4,7,1),'اليومية'!$A$5:$A$2004,"<"&DATE('الإعدادات'!$B$4,8,1)),IF($B10="مصروف",SUMIFS('اليومية'!$E$5:$E$2004,'اليومية'!$C$5:$C$2004,$A10&"",'اليومية'!$A$5:$A$2004,">="&DATE('الإعدادات'!$B$4,7,1),'اليومية'!$A$5:$A$2004,"<"&DATE('الإعدادات'!$B$4,8,1)),0))) | J10: =IF($A10&""="","",IF($B10="إيراد",SUMIFS('اليومية'!$D$5:$D$2004,'اليومية'!$C$5:$C$2004,$A10&"",'اليومية'!$A$5:$A$2004,">="&DATE('الإعدادات'!$B$4,8,1),'اليومية'!$A$5:$A$2004,"<"&DATE('الإعدادات'!$B$4,9,1)),IF($B10="مصروف",SUMIFS('اليومية'!$E$5:$E$2004,'اليومية'!$C$5:$C$2004,$A10&"",'اليومية'!$A$5:$A$2004,">="&DATE('الإعدادات'!$B$4,8,1),'اليومية'!$A$5:$A$2004,"<"&DATE('الإعدادات'!$B$4,9,1)),0))) | K10: =IF($A10&""="","",IF($B10="إيراد",SUMIFS('اليومية'!$D$5:$D$2004,'اليومية'!$C$5:$C$2004,$A10&"",'اليومية'!$A$5:$A$2004,">="&DATE('الإعدادات'!$B$4,9,1),'اليومية'!$A$5:$A$2004,"<"&DATE('الإعدادات'!$B$4,10,1)),IF($B10="مصروف",SUMIFS('اليومية'!$E$5:$E$2004,'اليومية'!$C$5:$C$2004,$A10&"",'اليومية'!$A$5:$A$2004,">="&DATE('الإعدادات'!$B$4,9,1),'اليومية'!$A$5:$A$2004,"<"&DATE('الإعدادات'!$B$4,10,1)),0))) | L10: =IF($A10&""="","",IF($B10="إيراد",SUMIFS('اليومية'!$D$5:$D$2004,'اليومية'!$C$5:$C$2004,$A10&"",'اليومية'!$A$5:$A$2004,">="&DATE('الإعدادات'!$B$4,10,1),'اليومية'!$A$5:$A$2004,"<"&DATE('الإعدادات'!$B$4,11,1)),IF($B10="مصروف",SUMIFS('اليومية'!$E$5:$E$2004,'اليومية'!$C$5:$C$2004,$A10&"",'اليومية'!$A$5:$A$2004,">="&DATE('الإعدادات'!$B$4,10,1),'اليومية'!$A$5:$A$2004,"<"&DATE('الإعدادات'!$B$4,11,1)),0))) | M10: =IF($A10&""="","",IF($B10="إيراد",SUMIFS('اليومية'!$D$5:$D$2004,'اليومية'!$C$5:$C$2004,$A10&"",'اليومية'!$A$5:$A$2004,">="&DATE('الإعدادات'!$B$4,11,1),'اليومية'!$A$5:$A$2004,"<"&DATE('الإعدادات'!$B$4,12,1)),IF($B10="مصروف",SUMIFS('اليومية'!$E$5:$E$2004,'اليومية'!$C$5:$C$2004,$A10&"",'اليومية'!$A$5:$A$2004,">="&DATE('الإعدادات'!$B$4,11,1),'اليومية'!$A$5:$A$2004,"<"&DATE('الإعدادات'!$B$4,12,1)),0))) | N10: =IF($A10&""="","",IF($B10="إيراد",SUMIFS('اليومية'!$D$5:$D$2004,'اليومية'!$C$5:$C$2004,$A10&"",'اليومية'!$A$5:$A$2004,">="&DATE('الإعدادات'!$B$4,12,1),'اليومية'!$A$5:$A$2004,"<"&DATE('الإعدادات'!$B$4+1,1,1)),IF($B10="مصروف",SUMIFS('اليومية'!$E$5:$E$2004,'اليومية'!$C$5:$C$2004,$A10&"",'اليومية'!$A$5:$A$2004,">="&DATE('الإعدادات'!$B$4,12,1),'اليومية'!$A$5:$A$2004,"<"&DATE('الإعدادات'!$B$4+1,1,1)),0))) | O10: =IF($A10&""="","",SUM(C10:N10))
A11: =IF('التصنيفات'!A6&""="","",'التصنيفات'!A6) | B11: =IF('التصنيفات'!A6&""="","",'التصنيفات'!B6&"") | C11: =IF($A11&""="","",IF($B11="إيراد",SUMIFS('اليومية'!$D$5:$D$2004,'اليومية'!$C$5:$C$2004,$A11&"",'اليومية'!$A$5:$A$2004,">="&DATE('الإعدادات'!$B$4,1,1),'اليومية'!$A$5:$A$2004,"<"&DATE('الإعدادات'!$B$4,2,1)),IF($B11="مصروف",SUMIFS('اليومية'!$E$5:$E$2004,'اليومية'!$C$5:$C$2004,$A11&"",'اليومية'!$A$5:$A$2004,">="&DATE('الإعدادات'!$B$4,1,1),'اليومية'!$A$5:$A$2004,"<"&DATE('الإعدادات'!$B$4,2,1)),0))) | D11: =IF($A11&""="","",IF($B11="إيراد",SUMIFS('اليومية'!$D$5:$D$2004,'اليومية'!$C$5:$C$2004,$A11&"",'اليومية'!$A$5:$A$2004,">="&DATE('الإعدادات'!$B$4,2,1),'اليومية'!$A$5:$A$2004,"<"&DATE('الإعدادات'!$B$4,3,1)),IF($B11="مصروف",SUMIFS('اليومية'!$E$5:$E$2004,'اليومية'!$C$5:$C$2004,$A11&"",'اليومية'!$A$5:$A$2004,">="&DATE('الإعدادات'!$B$4,2,1),'اليومية'!$A$5:$A$2004,"<"&DATE('الإعدادات'!$B$4,3,1)),0))) | E11: =IF($A11&""="","",IF($B11="إيراد",SUMIFS('اليومية'!$D$5:$D$2004,'اليومية'!$C$5:$C$2004,$A11&"",'اليومية'!$A$5:$A$2004,">="&DATE('الإعدادات'!$B$4,3,1),'اليومية'!$A$5:$A$2004,"<"&DATE('الإعدادات'!$B$4,4,1)),IF($B11="مصروف",SUMIFS('اليومية'!$E$5:$E$2004,'اليومية'!$C$5:$C$2004,$A11&"",'اليومية'!$A$5:$A$2004,">="&DATE('الإعدادات'!$B$4,3,1),'اليومية'!$A$5:$A$2004,"<"&DATE('الإعدادات'!$B$4,4,1)),0))) | F11: =IF($A11&""="","",IF($B11="إيراد",SUMIFS('اليومية'!$D$5:$D$2004,'اليومية'!$C$5:$C$2004,$A11&"",'اليومية'!$A$5:$A$2004,">="&DATE('الإعدادات'!$B$4,4,1),'اليومية'!$A$5:$A$2004,"<"&DATE('الإعدادات'!$B$4,5,1)),IF($B11="مصروف",SUMIFS('اليومية'!$E$5:$E$2004,'اليومية'!$C$5:$C$2004,$A11&"",'اليومية'!$A$5:$A$2004,">="&DATE('الإعدادات'!$B$4,4,1),'اليومية'!$A$5:$A$2004,"<"&DATE('الإعدادات'!$B$4,5,1)),0))) | G11: =IF($A11&""="","",IF($B11="إيراد",SUMIFS('اليومية'!$D$5:$D$2004,'اليومية'!$C$5:$C$2004,$A11&"",'اليومية'!$A$5:$A$2004,">="&DATE('الإعدادات'!$B$4,5,1),'اليومية'!$A$5:$A$2004,"<"&DATE('الإعدادات'!$B$4,6,1)),IF($B11="مصروف",SUMIFS('اليومية'!$E$5:$E$2004,'اليومية'!$C$5:$C$2004,$A11&"",'اليومية'!$A$5:$A$2004,">="&DATE('الإعدادات'!$B$4,5,1),'اليومية'!$A$5:$A$2004,"<"&DATE('الإعدادات'!$B$4,6,1)),0))) | H11: =IF($A11&""="","",IF($B11="إيراد",SUMIFS('اليومية'!$D$5:$D$2004,'اليومية'!$C$5:$C$2004,$A11&"",'اليومية'!$A$5:$A$2004,">="&DATE('الإعدادات'!$B$4,6,1),'اليومية'!$A$5:$A$2004,"<"&DATE('الإعدادات'!$B$4,7,1)),IF($B11="مصروف",SUMIFS('اليومية'!$E$5:$E$2004,'اليومية'!$C$5:$C$2004,$A11&"",'اليومية'!$A$5:$A$2004,">="&DATE('الإعدادات'!$B$4,6,1),'اليومية'!$A$5:$A$2004,"<"&DATE('الإعدادات'!$B$4,7,1)),0))) | I11: =IF($A11&""="","",IF($B11="إيراد",SUMIFS('اليومية'!$D$5:$D$2004,'اليومية'!$C$5:$C$2004,$A11&"",'اليومية'!$A$5:$A$2004,">="&DATE('الإعدادات'!$B$4,7,1),'اليومية'!$A$5:$A$2004,"<"&DATE('الإعدادات'!$B$4,8,1)),IF($B11="مصروف",SUMIFS('اليومية'!$E$5:$E$2004,'اليومية'!$C$5:$C$2004,$A11&"",'اليومية'!$A$5:$A$2004,">="&DATE('الإعدادات'!$B$4,7,1),'اليومية'!$A$5:$A$2004,"<"&DATE('الإعدادات'!$B$4,8,1)),0))) | J11: =IF($A11&""="","",IF($B11="إيراد",SUMIFS('اليومية'!$D$5:$D$2004,'اليومية'!$C$5:$C$2004,$A11&"",'اليومية'!$A$5:$A$2004,">="&DATE('الإعدادات'!$B$4,8,1),'اليومية'!$A$5:$A$2004,"<"&DATE('الإعدادات'!$B$4,9,1)),IF($B11="مصروف",SUMIFS('اليومية'!$E$5:$E$2004,'اليومية'!$C$5:$C$2004,$A11&"",'اليومية'!$A$5:$A$2004,">="&DATE('الإعدادات'!$B$4,8,1),'اليومية'!$A$5:$A$2004,"<"&DATE('الإعدادات'!$B$4,9,1)),0))) | K11: =IF($A11&""="","",IF($B11="إيراد",SUMIFS('اليومية'!$D$5:$D$2004,'اليومية'!$C$5:$C$2004,$A11&"",'اليومية'!$A$5:$A$2004,">="&DATE('الإعدادات'!$B$4,9,1),'اليومية'!$A$5:$A$2004,"<"&DATE('الإعدادات'!$B$4,10,1)),IF($B11="مصروف",SUMIFS('اليومية'!$E$5:$E$2004,'اليومية'!$C$5:$C$2004,$A11&"",'اليومية'!$A$5:$A$2004,">="&DATE('الإعدادات'!$B$4,9,1),'اليومية'!$A$5:$A$2004,"<"&DATE('الإعدادات'!$B$4,10,1)),0))) | L11: =IF($A11&""="","",IF($B11="إيراد",SUMIFS('اليومية'!$D$5:$D$2004,'اليومية'!$C$5:$C$2004,$A11&"",'اليومية'!$A$5:$A$2004,">="&DATE('الإعدادات'!$B$4,10,1),'اليومية'!$A$5:$A$2004,"<"&DATE('الإعدادات'!$B$4,11,1)),IF($B11="مصروف",SUMIFS('اليومية'!$E$5:$E$2004,'اليومية'!$C$5:$C$2004,$A11&"",'اليومية'!$A$5:$A$2004,">="&DATE('الإعدادات'!$B$4,10,1),'اليومية'!$A$5:$A$2004,"<"&DATE('الإعدادات'!$B$4,11,1)),0))) | M11: =IF($A11&""="","",IF($B11="إيراد",SUMIFS('اليومية'!$D$5:$D$2004,'اليومية'!$C$5:$C$2004,$A11&"",'اليومية'!$A$5:$A$2004,">="&DATE('الإعدادات'!$B$4,11,1),'اليومية'!$A$5:$A$2004,"<"&DATE('الإعدادات'!$B$4,12,1)),IF($B11="مصروف",SUMIFS('اليومية'!$E$5:$E$2004,'اليومية'!$C$5:$C$2004,$A11&"",'اليومية'!$A$5:$A$2004,">="&DATE('الإعدادات'!$B$4,11,1),'اليومية'!$A$5:$A$2004,"<"&DATE('الإعدادات'!$B$4,12,1)),0))) | N11: =IF($A11&""="","",IF($B11="إيراد",SUMIFS('اليومية'!$D$5:$D$2004,'اليومية'!$C$5:$C$2004,$A11&"",'اليومية'!$A$5:$A$2004,">="&DATE('الإعدادات'!$B$4,12,1),'اليومية'!$A$5:$A$2004,"<"&DATE('الإعدادات'!$B$4+1,1,1)),IF($B11="مصروف",SUMIFS('اليومية'!$E$5:$E$2004,'اليومية'!$C$5:$C$2004,$A11&"",'اليومية'!$A$5:$A$2004,">="&DATE('الإعدادات'!$B$4,12,1),'اليومية'!$A$5:$A$2004,"<"&DATE('الإعدادات'!$B$4+1,1,1)),0))) | O11: =IF($A11&""="","",SUM(C11:N11))
A12: =IF('التصنيفات'!A7&""="","",'التصنيفات'!A7) | B12: =IF('التصنيفات'!A7&""="","",'التصنيفات'!B7&"") | C12: =IF($A12&""="","",IF($B12="إيراد",SUMIFS('اليومية'!$D$5:$D$2004,'اليومية'!$C$5:$C$2004,$A12&"",'اليومية'!$A$5:$A$2004,">="&DATE('الإعدادات'!$B$4,1,1),'اليومية'!$A$5:$A$2004,"<"&DATE('الإعدادات'!$B$4,2,1)),IF($B12="مصروف",SUMIFS('اليومية'!$E$5:$E$2004,'اليومية'!$C$5:$C$2004,$A12&"",'اليومية'!$A$5:$A$2004,">="&DATE('الإعدادات'!$B$4,1,1),'اليومية'!$A$5:$A$2004,"<"&DATE('الإعدادات'!$B$4,2,1)),0))) | D12: =IF($A12&""="","",IF($B12="إيراد",SUMIFS('اليومية'!$D$5:$D$2004,'اليومية'!$C$5:$C$2004,$A12&"",'اليومية'!$A$5:$A$2004,">="&DATE('الإعدادات'!$B$4,2,1),'اليومية'!$A$5:$A$2004,"<"&DATE('الإعدادات'!$B$4,3,1)),IF($B12="مصروف",SUMIFS('اليومية'!$E$5:$E$2004,'اليومية'!$C$5:$C$2004,$A12&"",'اليومية'!$A$5:$A$2004,">="&DATE('الإعدادات'!$B$4,2,1),'اليومية'!$A$5:$A$2004,"<"&DATE('الإعدادات'!$B$4,3,1)),0))) | E12: =IF($A12&""="","",IF($B12="إيراد",SUMIFS('اليومية'!$D$5:$D$2004,'اليومية'!$C$5:$C$2004,$A12&"",'اليومية'!$A$5:$A$2004,">="&DATE('الإعدادات'!$B$4,3,1),'اليومية'!$A$5:$A$2004,"<"&DATE('الإعدادات'!$B$4,4,1)),IF($B12="مصروف",SUMIFS('اليومية'!$E$5:$E$2004,'اليومية'!$C$5:$C$2004,$A12&"",'اليومية'!$A$5:$A$2004,">="&DATE('الإعدادات'!$B$4,3,1),'اليومية'!$A$5:$A$2004,"<"&DATE('الإعدادات'!$B$4,4,1)),0))) | F12: =IF($A12&""="","",IF($B12="إيراد",SUMIFS('اليومية'!$D$5:$D$2004,'اليومية'!$C$5:$C$2004,$A12&"",'اليومية'!$A$5:$A$2004,">="&DATE('الإعدادات'!$B$4,4,1),'اليومية'!$A$5:$A$2004,"<"&DATE('الإعدادات'!$B$4,5,1)),IF($B12="مصروف",SUMIFS('اليومية'!$E$5:$E$2004,'اليومية'!$C$5:$C$2004,$A12&"",'اليومية'!$A$5:$A$2004,">="&DATE('الإعدادات'!$B$4,4,1),'اليومية'!$A$5:$A$2004,"<"&DATE('الإعدادات'!$B$4,5,1)),0))) | G12: =IF($A12&""="","",IF($B12="إيراد",SUMIFS('اليومية'!$D$5:$D$2004,'اليومية'!$C$5:$C$2004,$A12&"",'اليومية'!$A$5:$A$2004,">="&DATE('الإعدادات'!$B$4,5,1),'اليومية'!$A$5:$A$2004,"<"&DATE('الإعدادات'!$B$4,6,1)),IF($B12="مصروف",SUMIFS('اليومية'!$E$5:$E$2004,'اليومية'!$C$5:$C$2004,$A12&"",'اليومية'!$A$5:$A$2004,">="&DATE('الإعدادات'!$B$4,5,1),'اليومية'!$A$5:$A$2004,"<"&DATE('الإعدادات'!$B$4,6,1)),0))) | H12: =IF($A12&""="","",IF($B12="إيراد",SUMIFS('اليومية'!$D$5:$D$2004,'اليومية'!$C$5:$C$2004,$A12&"",'اليومية'!$A$5:$A$2004,">="&DATE('الإعدادات'!$B$4,6,1),'اليومية'!$A$5:$A$2004,"<"&DATE('الإعدادات'!$B$4,7,1)),IF($B12="مصروف",SUMIFS('اليومية'!$E$5:$E$2004,'اليومية'!$C$5:$C$2004,$A12&"",'اليومية'!$A$5:$A$2004,">="&DATE('الإعدادات'!$B$4,6,1),'اليومية'!$A$5:$A$2004,"<"&DATE('الإعدادات'!$B$4,7,1)),0))) | I12: =IF($A12&""="","",IF($B12="إيراد",SUMIFS('اليومية'!$D$5:$D$2004,'اليومية'!$C$5:$C$2004,$A12&"",'اليومية'!$A$5:$A$2004,">="&DATE('الإعدادات'!$B$4,7,1),'اليومية'!$A$5:$A$2004,"<"&DATE('الإعدادات'!$B$4,8,1)),IF($B12="مصروف",SUMIFS('اليومية'!$E$5:$E$2004,'اليومية'!$C$5:$C$2004,$A12&"",'اليومية'!$A$5:$A$2004,">="&DATE('الإعدادات'!$B$4,7,1),'اليومية'!$A$5:$A$2004,"<"&DATE('الإعدادات'!$B$4,8,1)),0))) | J12: =IF($A12&""="","",IF($B12="إيراد",SUMIFS('اليومية'!$D$5:$D$2004,'اليومية'!$C$5:$C$2004,$A12&"",'اليومية'!$A$5:$A$2004,">="&DATE('الإعدادات'!$B$4,8,1),'اليومية'!$A$5:$A$2004,"<"&DATE('الإعدادات'!$B$4,9,1)),IF($B12="مصروف",SUMIFS('اليومية'!$E$5:$E$2004,'اليومية'!$C$5:$C$2004,$A12&"",'اليومية'!$A$5:$A$2004,">="&DATE('الإعدادات'!$B$4,8,1),'اليومية'!$A$5:$A$2004,"<"&DATE('الإعدادات'!$B$4,9,1)),0))) | K12: =IF($A12&""="","",IF($B12="إيراد",SUMIFS('اليومية'!$D$5:$D$2004,'اليومية'!$C$5:$C$2004,$A12&"",'اليومية'!$A$5:$A$2004,">="&DATE('الإعدادات'!$B$4,9,1),'اليومية'!$A$5:$A$2004,"<"&DATE('الإعدادات'!$B$4,10,1)),IF($B12="مصروف",SUMIFS('اليومية'!$E$5:$E$2004,'اليومية'!$C$5:$C$2004,$A12&"",'اليومية'!$A$5:$A$2004,">="&DATE('الإعدادات'!$B$4,9,1),'اليومية'!$A$5:$A$2004,"<"&DATE('الإعدادات'!$B$4,10,1)),0))) | L12: =IF($A12&""="","",IF($B12="إيراد",SUMIFS('اليومية'!$D$5:$D$2004,'اليومية'!$C$5:$C$2004,$A12&"",'اليومية'!$A$5:$A$2004,">="&DATE('الإعدادات'!$B$4,10,1),'اليومية'!$A$5:$A$2004,"<"&DATE('الإعدادات'!$B$4,11,1)),IF($B12="مصروف",SUMIFS('اليومية'!$E$5:$E$2004,'اليومية'!$C$5:$C$2004,$A12&"",'اليومية'!$A$5:$A$2004,">="&DATE('الإعدادات'!$B$4,10,1),'اليومية'!$A$5:$A$2004,"<"&DATE('الإعدادات'!$B$4,11,1)),0))) | M12: =IF($A12&""="","",IF($B12="إيراد",SUMIFS('اليومية'!$D$5:$D$2004,'اليومية'!$C$5:$C$2004,$A12&"",'اليومية'!$A$5:$A$2004,">="&DATE('الإعدادات'!$B$4,11,1),'اليومية'!$A$5:$A$2004,"<"&DATE('الإعدادات'!$B$4,12,1)),IF($B12="مصروف",SUMIFS('اليومية'!$E$5:$E$2004,'اليومية'!$C$5:$C$2004,$A12&"",'اليومية'!$A$5:$A$2004,">="&DATE('الإعدادات'!$B$4,11,1),'اليومية'!$A$5:$A$2004,"<"&DATE('الإعدادات'!$B$4,12,1)),0))) | N12: =IF($A12&""="","",IF($B12="إيراد",SUMIFS('اليومية'!$D$5:$D$2004,'اليومية'!$C$5:$C$2004,$A12&"",'اليومية'!$A$5:$A$2004,">="&DATE('الإعدادات'!$B$4,12,1),'اليومية'!$A$5:$A$2004,"<"&DATE('الإعدادات'!$B$4+1,1,1)),IF($B12="مصروف",SUMIFS('اليومية'!$E$5:$E$2004,'اليومية'!$C$5:$C$2004,$A12&"",'اليومية'!$A$5:$A$2004,">="&DATE('الإعدادات'!$B$4,12,1),'اليومية'!$A$5:$A$2004,"<"&DATE('الإعدادات'!$B$4+1,1,1)),0))) | O12: =IF($A12&""="","",SUM(C12:N12))
A13: =IF('التصنيفات'!A8&""="","",'التصنيفات'!A8) | B13: =IF('التصنيفات'!A8&""="","",'التصنيفات'!B8&"") | C13: =IF($A13&""="","",IF($B13="إيراد",SUMIFS('اليومية'!$D$5:$D$2004,'اليومية'!$C$5:$C$2004,$A13&"",'اليومية'!$A$5:$A$2004,">="&DATE('الإعدادات'!$B$4,1,1),'اليومية'!$A$5:$A$2004,"<"&DATE('الإعدادات'!$B$4,2,1)),IF($B13="مصروف",SUMIFS('اليومية'!$E$5:$E$2004,'اليومية'!$C$5:$C$2004,$A13&"",'اليومية'!$A$5:$A$2004,">="&DATE('الإعدادات'!$B$4,1,1),'اليومية'!$A$5:$A$2004,"<"&DATE('الإعدادات'!$B$4,2,1)),0))) | D13: =IF($A13&""="","",IF($B13="إيراد",SUMIFS('اليومية'!$D$5:$D$2004,'اليومية'!$C$5:$C$2004,$A13&"",'اليومية'!$A$5:$A$2004,">="&DATE('الإعدادات'!$B$4,2,1),'اليومية'!$A$5:$A$2004,"<"&DATE('الإعدادات'!$B$4,3,1)),IF($B13="مصروف",SUMIFS('اليومية'!$E$5:$E$2004,'اليومية'!$C$5:$C$2004,$A13&"",'اليومية'!$A$5:$A$2004,">="&DATE('الإعدادات'!$B$4,2,1),'اليومية'!$A$5:$A$2004,"<"&DATE('الإعدادات'!$B$4,3,1)),0))) | E13: =IF($A13&""="","",IF($B13="إيراد",SUMIFS('اليومية'!$D$5:$D$2004,'اليومية'!$C$5:$C$2004,$A13&"",'اليومية'!$A$5:$A$2004,">="&DATE('الإعدادات'!$B$4,3,1),'اليومية'!$A$5:$A$2004,"<"&DATE('الإعدادات'!$B$4,4,1)),IF($B13="مصروف",SUMIFS('اليومية'!$E$5:$E$2004,'اليومية'!$C$5:$C$2004,$A13&"",'اليومية'!$A$5:$A$2004,">="&DATE('الإعدادات'!$B$4,3,1),'اليومية'!$A$5:$A$2004,"<"&DATE('الإعدادات'!$B$4,4,1)),0))) | F13: =IF($A13&""="","",IF($B13="إيراد",SUMIFS('اليومية'!$D$5:$D$2004,'اليومية'!$C$5:$C$2004,$A13&"",'اليومية'!$A$5:$A$2004,">="&DATE('الإعدادات'!$B$4,4,1),'اليومية'!$A$5:$A$2004,"<"&DATE('الإعدادات'!$B$4,5,1)),IF($B13="مصروف",SUMIFS('اليومية'!$E$5:$E$2004,'اليومية'!$C$5:$C$2004,$A13&"",'اليومية'!$A$5:$A$2004,">="&DATE('الإعدادات'!$B$4,4,1),'اليومية'!$A$5:$A$2004,"<"&DATE('الإعدادات'!$B$4,5,1)),0))) | G13: =IF($A13&""="","",IF($B13="إيراد",SUMIFS('اليومية'!$D$5:$D$2004,'اليومية'!$C$5:$C$2004,$A13&"",'اليومية'!$A$5:$A$2004,">="&DATE('الإعدادات'!$B$4,5,1),'اليومية'!$A$5:$A$2004,"<"&DATE('الإعدادات'!$B$4,6,1)),IF($B13="مصروف",SUMIFS('اليومية'!$E$5:$E$2004,'اليومية'!$C$5:$C$2004,$A13&"",'اليومية'!$A$5:$A$2004,">="&DATE('الإعدادات'!$B$4,5,1),'اليومية'!$A$5:$A$2004,"<"&DATE('الإعدادات'!$B$4,6,1)),0))) | H13: =IF($A13&""="","",IF($B13="إيراد",SUMIFS('اليومية'!$D$5:$D$2004,'اليومية'!$C$5:$C$2004,$A13&"",'اليومية'!$A$5:$A$2004,">="&DATE('الإعدادات'!$B$4,6,1),'اليومية'!$A$5:$A$2004,"<"&DATE('الإعدادات'!$B$4,7,1)),IF($B13="مصروف",SUMIFS('اليومية'!$E$5:$E$2004,'اليومية'!$C$5:$C$2004,$A13&"",'اليومية'!$A$5:$A$2004,">="&DATE('الإعدادات'!$B$4,6,1),'اليومية'!$A$5:$A$2004,"<"&DATE('الإعدادات'!$B$4,7,1)),0))) | I13: =IF($A13&""="","",IF($B13="إيراد",SUMIFS('اليومية'!$D$5:$D$2004,'اليومية'!$C$5:$C$2004,$A13&"",'اليومية'!$A$5:$A$2004,">="&DATE('الإعدادات'!$B$4,7,1),'اليومية'!$A$5:$A$2004,"<"&DATE('الإعدادات'!$B$4,8,1)),IF($B13="مصروف",SUMIFS('اليومية'!$E$5:$E$2004,'اليومية'!$C$5:$C$2004,$A13&"",'اليومية'!$A$5:$A$2004,">="&DATE('الإعدادات'!$B$4,7,1),'اليومية'!$A$5:$A$2004,"<"&DATE('الإعدادات'!$B$4,8,1)),0))) | J13: =IF($A13&""="","",IF($B13="إيراد",SUMIFS('اليومية'!$D$5:$D$2004,'اليومية'!$C$5:$C$2004,$A13&"",'اليومية'!$A$5:$A$2004,">="&DATE('الإعدادات'!$B$4,8,1),'اليومية'!$A$5:$A$2004,"<"&DATE('الإعدادات'!$B$4,9,1)),IF($B13="مصروف",SUMIFS('اليومية'!$E$5:$E$2004,'اليومية'!$C$5:$C$2004,$A13&"",'اليومية'!$A$5:$A$2004,">="&DATE('الإعدادات'!$B$4,8,1),'اليومية'!$A$5:$A$2004,"<"&DATE('الإعدادات'!$B$4,9,1)),0))) | K13: =IF($A13&""="","",IF($B13="إيراد",SUMIFS('اليومية'!$D$5:$D$2004,'اليومية'!$C$5:$C$2004,$A13&"",'اليومية'!$A$5:$A$2004,">="&DATE('الإعدادات'!$B$4,9,1),'اليومية'!$A$5:$A$2004,"<"&DATE('الإعدادات'!$B$4,10,1)),IF($B13="مصروف",SUMIFS('اليومية'!$E$5:$E$2004,'اليومية'!$C$5:$C$2004,$A13&"",'اليومية'!$A$5:$A$2004,">="&DATE('الإعدادات'!$B$4,9,1),'اليومية'!$A$5:$A$2004,"<"&DATE('الإعدادات'!$B$4,10,1)),0))) | L13: =IF($A13&""="","",IF($B13="إيراد",SUMIFS('اليومية'!$D$5:$D$2004,'اليومية'!$C$5:$C$2004,$A13&"",'اليومية'!$A$5:$A$2004,">="&DATE('الإعدادات'!$B$4,10,1),'اليومية'!$A$5:$A$2004,"<"&DATE('الإعدادات'!$B$4,11,1)),IF($B13="مصروف",SUMIFS('اليومية'!$E$5:$E$2004,'اليومية'!$C$5:$C$2004,$A13&"",'اليومية'!$A$5:$A$2004,">="&DATE('الإعدادات'!$B$4,10,1),'اليومية'!$A$5:$A$2004,"<"&DATE('الإعدادات'!$B$4,11,1)),0))) | M13: =IF($A13&""="","",IF($B13="إيراد",SUMIFS('اليومية'!$D$5:$D$2004,'اليومية'!$C$5:$C$2004,$A13&"",'اليومية'!$A$5:$A$2004,">="&DATE('الإعدادات'!$B$4,11,1),'اليومية'!$A$5:$A$2004,"<"&DATE('الإعدادات'!$B$4,12,1)),IF($B13="مصروف",SUMIFS('اليومية'!$E$5:$E$2004,'اليومية'!$C$5:$C$2004,$A13&"",'اليومية'!$A$5:$A$2004,">="&DATE('الإعدادات'!$B$4,11,1),'اليومية'!$A$5:$A$2004,"<"&DATE('الإعدادات'!$B$4,12,1)),0))) | N13: =IF($A13&""="","",IF($B13="إيراد",SUMIFS('اليومية'!$D$5:$D$2004,'اليومية'!$C$5:$C$2004,$A13&"",'اليومية'!$A$5:$A$2004,">="&DATE('الإعدادات'!$B$4,12,1),'اليومية'!$A$5:$A$2004,"<"&DATE('الإعدادات'!$B$4+1,1,1)),IF($B13="مصروف",SUMIFS('اليومية'!$E$5:$E$2004,'اليومية'!$C$5:$C$2004,$A13&"",'اليومية'!$A$5:$A$2004,">="&DATE('الإعدادات'!$B$4,12,1),'اليومية'!$A$5:$A$2004,"<"&DATE('الإعدادات'!$B$4+1,1,1)),0))) | O13: =IF($A13&""="","",SUM(C13:N13))
A14: =IF('التصنيفات'!A9&""="","",'التصنيفات'!A9) | B14: =IF('التصنيفات'!A9&""="","",'التصنيفات'!B9&"") | C14: =IF($A14&""="","",IF($B14="إيراد",SUMIFS('اليومية'!$D$5:$D$2004,'اليومية'!$C$5:$C$2004,$A14&"",'اليومية'!$A$5:$A$2004,">="&DATE('الإعدادات'!$B$4,1,1),'اليومية'!$A$5:$A$2004,"<"&DATE('الإعدادات'!$B$4,2,1)),IF($B14="مصروف",SUMIFS('اليومية'!$E$5:$E$2004,'اليومية'!$C$5:$C$2004,$A14&"",'اليومية'!$A$5:$A$2004,">="&DATE('الإعدادات'!$B$4,1,1),'اليومية'!$A$5:$A$2004,"<"&DATE('الإعدادات'!$B$4,2,1)),0))) | D14: =IF($A14&""="","",IF($B14="إيراد",SUMIFS('اليومية'!$D$5:$D$2004,'اليومية'!$C$5:$C$2004,$A14&"",'اليومية'!$A$5:$A$2004,">="&DATE('الإعدادات'!$B$4,2,1),'اليومية'!$A$5:$A$2004,"<"&DATE('الإعدادات'!$B$4,3,1)),IF($B14="مصروف",SUMIFS('اليومية'!$E$5:$E$2004,'اليومية'!$C$5:$C$2004,$A14&"",'اليومية'!$A$5:$A$2004,">="&DATE('الإعدادات'!$B$4,2,1),'اليومية'!$A$5:$A$2004,"<"&DATE('الإعدادات'!$B$4,3,1)),0))) | E14: =IF($A14&""="","",IF($B14="إيراد",SUMIFS('اليومية'!$D$5:$D$2004,'اليومية'!$C$5:$C$2004,$A14&"",'اليومية'!$A$5:$A$2004,">="&DATE('الإعدادات'!$B$4,3,1),'اليومية'!$A$5:$A$2004,"<"&DATE('الإعدادات'!$B$4,4,1)),IF($B14="مصروف",SUMIFS('اليومية'!$E$5:$E$2004,'اليومية'!$C$5:$C$2004,$A14&"",'اليومية'!$A$5:$A$2004,">="&DATE('الإعدادات'!$B$4,3,1),'اليومية'!$A$5:$A$2004,"<"&DATE('الإعدادات'!$B$4,4,1)),0))) | F14: =IF($A14&""="","",IF($B14="إيراد",SUMIFS('اليومية'!$D$5:$D$2004,'اليومية'!$C$5:$C$2004,$A14&"",'اليومية'!$A$5:$A$2004,">="&DATE('الإعدادات'!$B$4,4,1),'اليومية'!$A$5:$A$2004,"<"&DATE('الإعدادات'!$B$4,5,1)),IF($B14="مصروف",SUMIFS('اليومية'!$E$5:$E$2004,'اليومية'!$C$5:$C$2004,$A14&"",'اليومية'!$A$5:$A$2004,">="&DATE('الإعدادات'!$B$4,4,1),'اليومية'!$A$5:$A$2004,"<"&DATE('الإعدادات'!$B$4,5,1)),0))) | G14: =IF($A14&""="","",IF($B14="إيراد",SUMIFS('اليومية'!$D$5:$D$2004,'اليومية'!$C$5:$C$2004,$A14&"",'اليومية'!$A$5:$A$2004,">="&DATE('الإعدادات'!$B$4,5,1),'اليومية'!$A$5:$A$2004,"<"&DATE('الإعدادات'!$B$4,6,1)),IF($B14="مصروف",SUMIFS('اليومية'!$E$5:$E$2004,'اليومية'!$C$5:$C$2004,$A14&"",'اليومية'!$A$5:$A$2004,">="&DATE('الإعدادات'!$B$4,5,1),'اليومية'!$A$5:$A$2004,"<"&DATE('الإعدادات'!$B$4,6,1)),0))) | H14: =IF($A14&""="","",IF($B14="إيراد",SUMIFS('اليومية'!$D$5:$D$2004,'اليومية'!$C$5:$C$2004,$A14&"",'اليومية'!$A$5:$A$2004,">="&DATE('الإعدادات'!$B$4,6,1),'اليومية'!$A$5:$A$2004,"<"&DATE('الإعدادات'!$B$4,7,1)),IF($B14="مصروف",SUMIFS('اليومية'!$E$5:$E$2004,'اليومية'!$C$5:$C$2004,$A14&"",'اليومية'!$A$5:$A$2004,">="&DATE('الإعدادات'!$B$4,6,1),'اليومية'!$A$5:$A$2004,"<"&DATE('الإعدادات'!$B$4,7,1)),0))) | I14: =IF($A14&""="","",IF($B14="إيراد",SUMIFS('اليومية'!$D$5:$D$2004,'اليومية'!$C$5:$C$2004,$A14&"",'اليومية'!$A$5:$A$2004,">="&DATE('الإعدادات'!$B$4,7,1),'اليومية'!$A$5:$A$2004,"<"&DATE('الإعدادات'!$B$4,8,1)),IF($B14="مصروف",SUMIFS('اليومية'!$E$5:$E$2004,'اليومية'!$C$5:$C$2004,$A14&"",'اليومية'!$A$5:$A$2004,">="&DATE('الإعدادات'!$B$4,7,1),'اليومية'!$A$5:$A$2004,"<"&DATE('الإعدادات'!$B$4,8,1)),0))) | J14: =IF($A14&""="","",IF($B14="إيراد",SUMIFS('اليومية'!$D$5:$D$2004,'اليومية'!$C$5:$C$2004,$A14&"",'اليومية'!$A$5:$A$2004,">="&DATE('الإعدادات'!$B$4,8,1),'اليومية'!$A$5:$A$2004,"<"&DATE('الإعدادات'!$B$4,9,1)),IF($B14="مصروف",SUMIFS('اليومية'!$E$5:$E$2004,'اليومية'!$C$5:$C$2004,$A14&"",'اليومية'!$A$5:$A$2004,">="&DATE('الإعدادات'!$B$4,8,1),'اليومية'!$A$5:$A$2004,"<"&DATE('الإعدادات'!$B$4,9,1)),0))) | K14: =IF($A14&""="","",IF($B14="إيراد",SUMIFS('اليومية'!$D$5:$D$2004,'اليومية'!$C$5:$C$2004,$A14&"",'اليومية'!$A$5:$A$2004,">="&DATE('الإعدادات'!$B$4,9,1),'اليومية'!$A$5:$A$2004,"<"&DATE('الإعدادات'!$B$4,10,1)),IF($B14="مصروف",SUMIFS('اليومية'!$E$5:$E$2004,'اليومية'!$C$5:$C$2004,$A14&"",'اليومية'!$A$5:$A$2004,">="&DATE('الإعدادات'!$B$4,9,1),'اليومية'!$A$5:$A$2004,"<"&DATE('الإعدادات'!$B$4,10,1)),0))) | L14: =IF($A14&""="","",IF($B14="إيراد",SUMIFS('اليومية'!$D$5:$D$2004,'اليومية'!$C$5:$C$2004,$A14&"",'اليومية'!$A$5:$A$2004,">="&DATE('الإعدادات'!$B$4,10,1),'اليومية'!$A$5:$A$2004,"<"&DATE('الإعدادات'!$B$4,11,1)),IF($B14="مصروف",SUMIFS('اليومية'!$E$5:$E$2004,'اليومية'!$C$5:$C$2004,$A14&"",'اليومية'!$A$5:$A$2004,">="&DATE('الإعدادات'!$B$4,10,1),'اليومية'!$A$5:$A$2004,"<"&DATE('الإعدادات'!$B$4,11,1)),0))) | M14: =IF($A14&""="","",IF($B14="إيراد",SUMIFS('اليومية'!$D$5:$D$2004,'اليومية'!$C$5:$C$2004,$A14&"",'اليومية'!$A$5:$A$2004,">="&DATE('الإعدادات'!$B$4,11,1),'اليومية'!$A$5:$A$2004,"<"&DATE('الإعدادات'!$B$4,12,1)),IF($B14="مصروف",SUMIFS('اليومية'!$E$5:$E$2004,'اليومية'!$C$5:$C$2004,$A14&"",'اليومية'!$A$5:$A$2004,">="&DATE('الإعدادات'!$B$4,11,1),'اليومية'!$A$5:$A$2004,"<"&DATE('الإعدادات'!$B$4,12,1)),0))) | N14: =IF($A14&""="","",IF($B14="إيراد",SUMIFS('اليومية'!$D$5:$D$2004,'اليومية'!$C$5:$C$2004,$A14&"",'اليومية'!$A$5:$A$2004,">="&DATE('الإعدادات'!$B$4,12,1),'اليومية'!$A$5:$A$2004,"<"&DATE('الإعدادات'!$B$4+1,1,1)),IF($B14="مصروف",SUMIFS('اليومية'!$E$5:$E$2004,'اليومية'!$C$5:$C$2004,$A14&"",'اليومية'!$A$5:$A$2004,">="&DATE('الإعدادات'!$B$4,12,1),'اليومية'!$A$5:$A$2004,"<"&DATE('الإعدادات'!$B$4+1,1,1)),0))) | O14: =IF($A14&""="","",SUM(C14:N14))
A15: =IF('التصنيفات'!A10&""="","",'التصنيفات'!A10) | B15: =IF('التصنيفات'!A10&""="","",'التصنيفات'!B10&"") | C15: =IF($A15&""="","",IF($B15="إيراد",SUMIFS('اليومية'!$D$5:$D$2004,'اليومية'!$C$5:$C$2004,$A15&"",'اليومية'!$A$5:$A$2004,">="&DATE('الإعدادات'!$B$4,1,1),'اليومية'!$A$5:$A$2004,"<"&DATE('الإعدادات'!$B$4,2,1)),IF($B15="مصروف",SUMIFS('اليومية'!$E$5:$E$2004,'اليومية'!$C$5:$C$2004,$A15&"",'اليومية'!$A$5:$A$2004,">="&DATE('الإعدادات'!$B$4,1,1),'اليومية'!$A$5:$A$2004,"<"&DATE('الإعدادات'!$B$4,2,1)),0))) | D15: =IF($A15&""="","",IF($B15="إيراد",SUMIFS('اليومية'!$D$5:$D$2004,'اليومية'!$C$5:$C$2004,$A15&"",'اليومية'!$A$5:$A$2004,">="&DATE('الإعدادات'!$B$4,2,1),'اليومية'!$A$5:$A$2004,"<"&DATE('الإعدادات'!$B$4,3,1)),IF($B15="مصروف",SUMIFS('اليومية'!$E$5:$E$2004,'اليومية'!$C$5:$C$2004,$A15&"",'اليومية'!$A$5:$A$2004,">="&DATE('الإعدادات'!$B$4,2,1),'اليومية'!$A$5:$A$2004,"<"&DATE('الإعدادات'!$B$4,3,1)),0))) | E15: =IF($A15&""="","",IF($B15="إيراد",SUMIFS('اليومية'!$D$5:$D$2004,'اليومية'!$C$5:$C$2004,$A15&"",'اليومية'!$A$5:$A$2004,">="&DATE('الإعدادات'!$B$4,3,1),'اليومية'!$A$5:$A$2004,"<"&DATE('الإعدادات'!$B$4,4,1)),IF($B15="مصروف",SUMIFS('اليومية'!$E$5:$E$2004,'اليومية'!$C$5:$C$2004,$A15&"",'اليومية'!$A$5:$A$2004,">="&DATE('الإعدادات'!$B$4,3,1),'اليومية'!$A$5:$A$2004,"<"&DATE('الإعدادات'!$B$4,4,1)),0))) | F15: =IF($A15&""="","",IF($B15="إيراد",SUMIFS('اليومية'!$D$5:$D$2004,'اليومية'!$C$5:$C$2004,$A15&"",'اليومية'!$A$5:$A$2004,">="&DATE('الإعدادات'!$B$4,4,1),'اليومية'!$A$5:$A$2004,"<"&DATE('الإعدادات'!$B$4,5,1)),IF($B15="مصروف",SUMIFS('اليومية'!$E$5:$E$2004,'اليومية'!$C$5:$C$2004,$A15&"",'اليومية'!$A$5:$A$2004,">="&DATE('الإعدادات'!$B$4,4,1),'اليومية'!$A$5:$A$2004,"<"&DATE('الإعدادات'!$B$4,5,1)),0))) | G15: =IF($A15&""="","",IF($B15="إيراد",SUMIFS('اليومية'!$D$5:$D$2004,'اليومية'!$C$5:$C$2004,$A15&"",'اليومية'!$A$5:$A$2004,">="&DATE('الإعدادات'!$B$4,5,1),'اليومية'!$A$5:$A$2004,"<"&DATE('الإعدادات'!$B$4,6,1)),IF($B15="مصروف",SUMIFS('اليومية'!$E$5:$E$2004,'اليومية'!$C$5:$C$2004,$A15&"",'اليومية'!$A$5:$A$2004,">="&DATE('الإعدادات'!$B$4,5,1),'اليومية'!$A$5:$A$2004,"<"&DATE('الإعدادات'!$B$4,6,1)),0))) | H15: =IF($A15&""="","",IF($B15="إيراد",SUMIFS('اليومية'!$D$5:$D$2004,'اليومية'!$C$5:$C$2004,$A15&"",'اليومية'!$A$5:$A$2004,">="&DATE('الإعدادات'!$B$4,6,1),'اليومية'!$A$5:$A$2004,"<"&DATE('الإعدادات'!$B$4,7,1)),IF($B15="مصروف",SUMIFS('اليومية'!$E$5:$E$2004,'اليومية'!$C$5:$C$2004,$A15&"",'اليومية'!$A$5:$A$2004,">="&DATE('الإعدادات'!$B$4,6,1),'اليومية'!$A$5:$A$2004,"<"&DATE('الإعدادات'!$B$4,7,1)),0))) | I15: =IF($A15&""="","",IF($B15="إيراد",SUMIFS('اليومية'!$D$5:$D$2004,'اليومية'!$C$5:$C$2004,$A15&"",'اليومية'!$A$5:$A$2004,">="&DATE('الإعدادات'!$B$4,7,1),'اليومية'!$A$5:$A$2004,"<"&DATE('الإعدادات'!$B$4,8,1)),IF($B15="مصروف",SUMIFS('اليومية'!$E$5:$E$2004,'اليومية'!$C$5:$C$2004,$A15&"",'اليومية'!$A$5:$A$2004,">="&DATE('الإعدادات'!$B$4,7,1),'اليومية'!$A$5:$A$2004,"<"&DATE('الإعدادات'!$B$4,8,1)),0))) | J15: =IF($A15&""="","",IF($B15="إيراد",SUMIFS('اليومية'!$D$5:$D$2004,'اليومية'!$C$5:$C$2004,$A15&"",'اليومية'!$A$5:$A$2004,">="&DATE('الإعدادات'!$B$4,8,1),'اليومية'!$A$5:$A$2004,"<"&DATE('الإعدادات'!$B$4,9,1)),IF($B15="مصروف",SUMIFS('اليومية'!$E$5:$E$2004,'اليومية'!$C$5:$C$2004,$A15&"",'اليومية'!$A$5:$A$2004,">="&DATE('الإعدادات'!$B$4,8,1),'اليومية'!$A$5:$A$2004,"<"&DATE('الإعدادات'!$B$4,9,1)),0))) | K15: =IF($A15&""="","",IF($B15="إيراد",SUMIFS('اليومية'!$D$5:$D$2004,'اليومية'!$C$5:$C$2004,$A15&"",'اليومية'!$A$5:$A$2004,">="&DATE('الإعدادات'!$B$4,9,1),'اليومية'!$A$5:$A$2004,"<"&DATE('الإعدادات'!$B$4,10,1)),IF($B15="مصروف",SUMIFS('اليومية'!$E$5:$E$2004,'اليومية'!$C$5:$C$2004,$A15&"",'اليومية'!$A$5:$A$2004,">="&DATE('الإعدادات'!$B$4,9,1),'اليومية'!$A$5:$A$2004,"<"&DATE('الإعدادات'!$B$4,10,1)),0))) | L15: =IF($A15&""="","",IF($B15="إيراد",SUMIFS('اليومية'!$D$5:$D$2004,'اليومية'!$C$5:$C$2004,$A15&"",'اليومية'!$A$5:$A$2004,">="&DATE('الإعدادات'!$B$4,10,1),'اليومية'!$A$5:$A$2004,"<"&DATE('الإعدادات'!$B$4,11,1)),IF($B15="مصروف",SUMIFS('اليومية'!$E$5:$E$2004,'اليومية'!$C$5:$C$2004,$A15&"",'اليومية'!$A$5:$A$2004,">="&DATE('الإعدادات'!$B$4,10,1),'اليومية'!$A$5:$A$2004,"<"&DATE('الإعدادات'!$B$4,11,1)),0))) | M15: =IF($A15&""="","",IF($B15="إيراد",SUMIFS('اليومية'!$D$5:$D$2004,'اليومية'!$C$5:$C$2004,$A15&"",'اليومية'!$A$5:$A$2004,">="&DATE('الإعدادات'!$B$4,11,1),'اليومية'!$A$5:$A$2004,"<"&DATE('الإعدادات'!$B$4,12,1)),IF($B15="مصروف",SUMIFS('اليومية'!$E$5:$E$2004,'اليومية'!$C$5:$C$2004,$A15&"",'اليومية'!$A$5:$A$2004,">="&DATE('الإعدادات'!$B$4,11,1),'اليومية'!$A$5:$A$2004,"<"&DATE('الإعدادات'!$B$4,12,1)),0))) | N15: =IF($A15&""="","",IF($B15="إيراد",SUMIFS('اليومية'!$D$5:$D$2004,'اليومية'!$C$5:$C$2004,$A15&"",'اليومية'!$A$5:$A$2004,">="&DATE('الإعدادات'!$B$4,12,1),'اليومية'!$A$5:$A$2004,"<"&DATE('الإعدادات'!$B$4+1,1,1)),IF($B15="مصروف",SUMIFS('اليومية'!$E$5:$E$2004,'اليومية'!$C$5:$C$2004,$A15&"",'اليومية'!$A$5:$A$2004,">="&DATE('الإعدادات'!$B$4,12,1),'اليومية'!$A$5:$A$2004,"<"&DATE('الإعدادات'!$B$4+1,1,1)),0))) | O15: =IF($A15&""="","",SUM(C15:N15))
A16: =IF('التصنيفات'!A11&""="","",'التصنيفات'!A11) | B16: =IF('التصنيفات'!A11&""="","",'التصنيفات'!B11&"") | C16: =IF($A16&""="","",IF($B16="إيراد",SUMIFS('اليومية'!$D$5:$D$2004,'اليومية'!$C$5:$C$2004,$A16&"",'اليومية'!$A$5:$A$2004,">="&DATE('الإعدادات'!$B$4,1,1),'اليومية'!$A$5:$A$2004,"<"&DATE('الإعدادات'!$B$4,2,1)),IF($B16="مصروف",SUMIFS('اليومية'!$E$5:$E$2004,'اليومية'!$C$5:$C$2004,$A16&"",'اليومية'!$A$5:$A$2004,">="&DATE('الإعدادات'!$B$4,1,1),'اليومية'!$A$5:$A$2004,"<"&DATE('الإعدادات'!$B$4,2,1)),0))) | D16: =IF($A16&""="","",IF($B16="إيراد",SUMIFS('اليومية'!$D$5:$D$2004,'اليومية'!$C$5:$C$2004,$A16&"",'اليومية'!$A$5:$A$2004,">="&DATE('الإعدادات'!$B$4,2,1),'اليومية'!$A$5:$A$2004,"<"&DATE('الإعدادات'!$B$4,3,1)),IF($B16="مصروف",SUMIFS('اليومية'!$E$5:$E$2004,'اليومية'!$C$5:$C$2004,$A16&"",'اليومية'!$A$5:$A$2004,">="&DATE('الإعدادات'!$B$4,2,1),'اليومية'!$A$5:$A$2004,"<"&DATE('الإعدادات'!$B$4,3,1)),0))) | E16: =IF($A16&""="","",IF($B16="إيراد",SUMIFS('اليومية'!$D$5:$D$2004,'اليومية'!$C$5:$C$2004,$A16&"",'اليومية'!$A$5:$A$2004,">="&DATE('الإعدادات'!$B$4,3,1),'اليومية'!$A$5:$A$2004,"<"&DATE('الإعدادات'!$B$4,4,1)),IF($B16="مصروف",SUMIFS('اليومية'!$E$5:$E$2004,'اليومية'!$C$5:$C$2004,$A16&"",'اليومية'!$A$5:$A$2004,">="&DATE('الإعدادات'!$B$4,3,1),'اليومية'!$A$5:$A$2004,"<"&DATE('الإعدادات'!$B$4,4,1)),0))) | F16: =IF($A16&""="","",IF($B16="إيراد",SUMIFS('اليومية'!$D$5:$D$2004,'اليومية'!$C$5:$C$2004,$A16&"",'اليومية'!$A$5:$A$2004,">="&DATE('الإعدادات'!$B$4,4,1),'اليومية'!$A$5:$A$2004,"<"&DATE('الإعدادات'!$B$4,5,1)),IF($B16="مصروف",SUMIFS('اليومية'!$E$5:$E$2004,'اليومية'!$C$5:$C$2004,$A16&"",'اليومية'!$A$5:$A$2004,">="&DATE('الإعدادات'!$B$4,4,1),'اليومية'!$A$5:$A$2004,"<"&DATE('الإعدادات'!$B$4,5,1)),0))) | G16: =IF($A16&""="","",IF($B16="إيراد",SUMIFS('اليومية'!$D$5:$D$2004,'اليومية'!$C$5:$C$2004,$A16&"",'اليومية'!$A$5:$A$2004,">="&DATE('الإعدادات'!$B$4,5,1),'اليومية'!$A$5:$A$2004,"<"&DATE('الإعدادات'!$B$4,6,1)),IF($B16="مصروف",SUMIFS('اليومية'!$E$5:$E$2004,'اليومية'!$C$5:$C$2004,$A16&"",'اليومية'!$A$5:$A$2004,">="&DATE('الإعدادات'!$B$4,5,1),'اليومية'!$A$5:$A$2004,"<"&DATE('الإعدادات'!$B$4,6,1)),0))) | H16: =IF($A16&""="","",IF($B16="إيراد",SUMIFS('اليومية'!$D$5:$D$2004,'اليومية'!$C$5:$C$2004,$A16&"",'اليومية'!$A$5:$A$2004,">="&DATE('الإعدادات'!$B$4,6,1),'اليومية'!$A$5:$A$2004,"<"&DATE('الإعدادات'!$B$4,7,1)),IF($B16="مصروف",SUMIFS('اليومية'!$E$5:$E$2004,'اليومية'!$C$5:$C$2004,$A16&"",'اليومية'!$A$5:$A$2004,">="&DATE('الإعدادات'!$B$4,6,1),'اليومية'!$A$5:$A$2004,"<"&DATE('الإعدادات'!$B$4,7,1)),0))) | I16: =IF($A16&""="","",IF($B16="إيراد",SUMIFS('اليومية'!$D$5:$D$2004,'اليومية'!$C$5:$C$2004,$A16&"",'اليومية'!$A$5:$A$2004,">="&DATE('الإعدادات'!$B$4,7,1),'اليومية'!$A$5:$A$2004,"<"&DATE('الإعدادات'!$B$4,8,1)),IF($B16="مصروف",SUMIFS('اليومية'!$E$5:$E$2004,'اليومية'!$C$5:$C$2004,$A16&"",'اليومية'!$A$5:$A$2004,">="&DATE('الإعدادات'!$B$4,7,1),'اليومية'!$A$5:$A$2004,"<"&DATE('الإعدادات'!$B$4,8,1)),0))) | J16: =IF($A16&""="","",IF($B16="إيراد",SUMIFS('اليومية'!$D$5:$D$2004,'اليومية'!$C$5:$C$2004,$A16&"",'اليومية'!$A$5:$A$2004,">="&DATE('الإعدادات'!$B$4,8,1),'اليومية'!$A$5:$A$2004,"<"&DATE('الإعدادات'!$B$4,9,1)),IF($B16="مصروف",SUMIFS('اليومية'!$E$5:$E$2004,'اليومية'!$C$5:$C$2004,$A16&"",'اليومية'!$A$5:$A$2004,">="&DATE('الإعدادات'!$B$4,8,1),'اليومية'!$A$5:$A$2004,"<"&DATE('الإعدادات'!$B$4,9,1)),0))) | K16: =IF($A16&""="","",IF($B16="إيراد",SUMIFS('اليومية'!$D$5:$D$2004,'اليومية'!$C$5:$C$2004,$A16&"",'اليومية'!$A$5:$A$2004,">="&DATE('الإعدادات'!$B$4,9,1),'اليومية'!$A$5:$A$2004,"<"&DATE('الإعدادات'!$B$4,10,1)),IF($B16="مصروف",SUMIFS('اليومية'!$E$5:$E$2004,'اليومية'!$C$5:$C$2004,$A16&"",'اليومية'!$A$5:$A$2004,">="&DATE('الإعدادات'!$B$4,9,1),'اليومية'!$A$5:$A$2004,"<"&DATE('الإعدادات'!$B$4,10,1)),0))) | L16: =IF($A16&""="","",IF($B16="إيراد",SUMIFS('اليومية'!$D$5:$D$2004,'اليومية'!$C$5:$C$2004,$A16&"",'اليومية'!$A$5:$A$2004,">="&DATE('الإعدادات'!$B$4,10,1),'اليومية'!$A$5:$A$2004,"<"&DATE('الإعدادات'!$B$4,11,1)),IF($B16="مصروف",SUMIFS('اليومية'!$E$5:$E$2004,'اليومية'!$C$5:$C$2004,$A16&"",'اليومية'!$A$5:$A$2004,">="&DATE('الإعدادات'!$B$4,10,1),'اليومية'!$A$5:$A$2004,"<"&DATE('الإعدادات'!$B$4,11,1)),0))) | M16: =IF($A16&""="","",IF($B16="إيراد",SUMIFS('اليومية'!$D$5:$D$2004,'اليومية'!$C$5:$C$2004,$A16&"",'اليومية'!$A$5:$A$2004,">="&DATE('الإعدادات'!$B$4,11,1),'اليومية'!$A$5:$A$2004,"<"&DATE('الإعدادات'!$B$4,12,1)),IF($B16="مصروف",SUMIFS('اليومية'!$E$5:$E$2004,'اليومية'!$C$5:$C$2004,$A16&"",'اليومية'!$A$5:$A$2004,">="&DATE('الإعدادات'!$B$4,11,1),'اليومية'!$A$5:$A$2004,"<"&DATE('الإعدادات'!$B$4,12,1)),0))) | N16: =IF($A16&""="","",IF($B16="إيراد",SUMIFS('اليومية'!$D$5:$D$2004,'اليومية'!$C$5:$C$2004,$A16&"",'اليومية'!$A$5:$A$2004,">="&DATE('الإعدادات'!$B$4,12,1),'اليومية'!$A$5:$A$2004,"<"&DATE('الإعدادات'!$B$4+1,1,1)),IF($B16="مصروف",SUMIFS('اليومية'!$E$5:$E$2004,'اليومية'!$C$5:$C$2004,$A16&"",'اليومية'!$A$5:$A$2004,">="&DATE('الإعدادات'!$B$4,12,1),'اليومية'!$A$5:$A$2004,"<"&DATE('الإعدادات'!$B$4+1,1,1)),0))) | O16: =IF($A16&""="","",SUM(C16:N16))
A17: =IF('التصنيفات'!A12&""="","",'التصنيفات'!A12) | B17: =IF('التصنيفات'!A12&""="","",'التصنيفات'!B12&"") | C17: =IF($A17&""="","",IF($B17="إيراد",SUMIFS('اليومية'!$D$5:$D$2004,'اليومية'!$C$5:$C$2004,$A17&"",'اليومية'!$A$5:$A$2004,">="&DATE('الإعدادات'!$B$4,1,1),'اليومية'!$A$5:$A$2004,"<"&DATE('الإعدادات'!$B$4,2,1)),IF($B17="مصروف",SUMIFS('اليومية'!$E$5:$E$2004,'اليومية'!$C$5:$C$2004,$A17&"",'اليومية'!$A$5:$A$2004,">="&DATE('الإعدادات'!$B$4,1,1),'اليومية'!$A$5:$A$2004,"<"&DATE('الإعدادات'!$B$4,2,1)),0))) | D17: =IF($A17&""="","",IF($B17="إيراد",SUMIFS('اليومية'!$D$5:$D$2004,'اليومية'!$C$5:$C$2004,$A17&"",'اليومية'!$A$5:$A$2004,">="&DATE('الإعدادات'!$B$4,2,1),'اليومية'!$A$5:$A$2004,"<"&DATE('الإعدادات'!$B$4,3,1)),IF($B17="مصروف",SUMIFS('اليومية'!$E$5:$E$2004,'اليومية'!$C$5:$C$2004,$A17&"",'اليومية'!$A$5:$A$2004,">="&DATE('الإعدادات'!$B$4,2,1),'اليومية'!$A$5:$A$2004,"<"&DATE('الإعدادات'!$B$4,3,1)),0))) | E17: =IF($A17&""="","",IF($B17="إيراد",SUMIFS('اليومية'!$D$5:$D$2004,'اليومية'!$C$5:$C$2004,$A17&"",'اليومية'!$A$5:$A$2004,">="&DATE('الإعدادات'!$B$4,3,1),'اليومية'!$A$5:$A$2004,"<"&DATE('الإعدادات'!$B$4,4,1)),IF($B17="مصروف",SUMIFS('اليومية'!$E$5:$E$2004,'اليومية'!$C$5:$C$2004,$A17&"",'اليومية'!$A$5:$A$2004,">="&DATE('الإعدادات'!$B$4,3,1),'اليومية'!$A$5:$A$2004,"<"&DATE('الإعدادات'!$B$4,4,1)),0))) | F17: =IF($A17&""="","",IF($B17="إيراد",SUMIFS('اليومية'!$D$5:$D$2004,'اليومية'!$C$5:$C$2004,$A17&"",'اليومية'!$A$5:$A$2004,">="&DATE('الإعدادات'!$B$4,4,1),'اليومية'!$A$5:$A$2004,"<"&DATE('الإعدادات'!$B$4,5,1)),IF($B17="مصروف",SUMIFS('اليومية'!$E$5:$E$2004,'اليومية'!$C$5:$C$2004,$A17&"",'اليومية'!$A$5:$A$2004,">="&DATE('الإعدادات'!$B$4,4,1),'اليومية'!$A$5:$A$2004,"<"&DATE('الإعدادات'!$B$4,5,1)),0))) | G17: =IF($A17&""="","",IF($B17="إيراد",SUMIFS('اليومية'!$D$5:$D$2004,'اليومية'!$C$5:$C$2004,$A17&"",'اليومية'!$A$5:$A$2004,">="&DATE('الإعدادات'!$B$4,5,1),'اليومية'!$A$5:$A$2004,"<"&DATE('الإعدادات'!$B$4,6,1)),IF($B17="مصروف",SUMIFS('اليومية'!$E$5:$E$2004,'اليومية'!$C$5:$C$2004,$A17&"",'اليومية'!$A$5:$A$2004,">="&DATE('الإعدادات'!$B$4,5,1),'اليومية'!$A$5:$A$2004,"<"&DATE('الإعدادات'!$B$4,6,1)),0))) | H17: =IF($A17&""="","",IF($B17="إيراد",SUMIFS('اليومية'!$D$5:$D$2004,'اليومية'!$C$5:$C$2004,$A17&"",'اليومية'!$A$5:$A$2004,">="&DATE('الإعدادات'!$B$4,6,1),'اليومية'!$A$5:$A$2004,"<"&DATE('الإعدادات'!$B$4,7,1)),IF($B17="مصروف",SUMIFS('اليومية'!$E$5:$E$2004,'اليومية'!$C$5:$C$2004,$A17&"",'اليومية'!$A$5:$A$2004,">="&DATE('الإعدادات'!$B$4,6,1),'اليومية'!$A$5:$A$2004,"<"&DATE('الإعدادات'!$B$4,7,1)),0))) | I17: =IF($A17&""="","",IF($B17="إيراد",SUMIFS('اليومية'!$D$5:$D$2004,'اليومية'!$C$5:$C$2004,$A17&"",'اليومية'!$A$5:$A$2004,">="&DATE('الإعدادات'!$B$4,7,1),'اليومية'!$A$5:$A$2004,"<"&DATE('الإعدادات'!$B$4,8,1)),IF($B17="مصروف",SUMIFS('اليومية'!$E$5:$E$2004,'اليومية'!$C$5:$C$2004,$A17&"",'اليومية'!$A$5:$A$2004,">="&DATE('الإعدادات'!$B$4,7,1),'اليومية'!$A$5:$A$2004,"<"&DATE('الإعدادات'!$B$4,8,1)),0))) | J17: =IF($A17&""="","",IF($B17="إيراد",SUMIFS('اليومية'!$D$5:$D$2004,'اليومية'!$C$5:$C$2004,$A17&"",'اليومية'!$A$5:$A$2004,">="&DATE('الإعدادات'!$B$4,8,1),'اليومية'!$A$5:$A$2004,"<"&DATE('الإعدادات'!$B$4,9,1)),IF($B17="مصروف",SUMIFS('اليومية'!$E$5:$E$2004,'اليومية'!$C$5:$C$2004,$A17&"",'اليومية'!$A$5:$A$2004,">="&DATE('الإعدادات'!$B$4,8,1),'اليومية'!$A$5:$A$2004,"<"&DATE('الإعدادات'!$B$4,9,1)),0))) | K17: =IF($A17&""="","",IF($B17="إيراد",SUMIFS('اليومية'!$D$5:$D$2004,'اليومية'!$C$5:$C$2004,$A17&"",'اليومية'!$A$5:$A$2004,">="&DATE('الإعدادات'!$B$4,9,1),'اليومية'!$A$5:$A$2004,"<"&DATE('الإعدادات'!$B$4,10,1)),IF($B17="مصروف",SUMIFS('اليومية'!$E$5:$E$2004,'اليومية'!$C$5:$C$2004,$A17&"",'اليومية'!$A$5:$A$2004,">="&DATE('الإعدادات'!$B$4,9,1),'اليومية'!$A$5:$A$2004,"<"&DATE('الإعدادات'!$B$4,10,1)),0))) | L17: =IF($A17&""="","",IF($B17="إيراد",SUMIFS('اليومية'!$D$5:$D$2004,'اليومية'!$C$5:$C$2004,$A17&"",'اليومية'!$A$5:$A$2004,">="&DATE('الإعدادات'!$B$4,10,1),'اليومية'!$A$5:$A$2004,"<"&DATE('الإعدادات'!$B$4,11,1)),IF($B17="مصروف",SUMIFS('اليومية'!$E$5:$E$2004,'اليومية'!$C$5:$C$2004,$A17&"",'اليومية'!$A$5:$A$2004,">="&DATE('الإعدادات'!$B$4,10,1),'اليومية'!$A$5:$A$2004,"<"&DATE('الإعدادات'!$B$4,11,1)),0))) | M17: =IF($A17&""="","",IF($B17="إيراد",SUMIFS('اليومية'!$D$5:$D$2004,'اليومية'!$C$5:$C$2004,$A17&"",'اليومية'!$A$5:$A$2004,">="&DATE('الإعدادات'!$B$4,11,1),'اليومية'!$A$5:$A$2004,"<"&DATE('الإعدادات'!$B$4,12,1)),IF($B17="مصروف",SUMIFS('اليومية'!$E$5:$E$2004,'اليومية'!$C$5:$C$2004,$A17&"",'اليومية'!$A$5:$A$2004,">="&DATE('الإعدادات'!$B$4,11,1),'اليومية'!$A$5:$A$2004,"<"&DATE('الإعدادات'!$B$4,12,1)),0))) | N17: =IF($A17&""="","",IF($B17="إيراد",SUMIFS('اليومية'!$D$5:$D$2004,'اليومية'!$C$5:$C$2004,$A17&"",'اليومية'!$A$5:$A$2004,">="&DATE('الإعدادات'!$B$4,12,1),'اليومية'!$A$5:$A$2004,"<"&DATE('الإعدادات'!$B$4+1,1,1)),IF($B17="مصروف",SUMIFS('اليومية'!$E$5:$E$2004,'اليومية'!$C$5:$C$2004,$A17&"",'اليومية'!$A$5:$A$2004,">="&DATE('الإعدادات'!$B$4,12,1),'اليومية'!$A$5:$A$2004,"<"&DATE('الإعدادات'!$B$4+1,1,1)),0))) | O17: =IF($A17&""="","",SUM(C17:N17))
A18: =IF('التصنيفات'!A13&""="","",'التصنيفات'!A13) | B18: =IF('التصنيفات'!A13&""="","",'التصنيفات'!B13&"") | C18: =IF($A18&""="","",IF($B18="إيراد",SUMIFS('اليومية'!$D$5:$D$2004,'اليومية'!$C$5:$C$2004,$A18&"",'اليومية'!$A$5:$A$2004,">="&DATE('الإعدادات'!$B$4,1,1),'اليومية'!$A$5:$A$2004,"<"&DATE('الإعدادات'!$B$4,2,1)),IF($B18="مصروف",SUMIFS('اليومية'!$E$5:$E$2004,'اليومية'!$C$5:$C$2004,$A18&"",'اليومية'!$A$5:$A$2004,">="&DATE('الإعدادات'!$B$4,1,1),'اليومية'!$A$5:$A$2004,"<"&DATE('الإعدادات'!$B$4,2,1)),0))) | D18: =IF($A18&""="","",IF($B18="إيراد",SUMIFS('اليومية'!$D$5:$D$2004,'اليومية'!$C$5:$C$2004,$A18&"",'اليومية'!$A$5:$A$2004,">="&DATE('الإعدادات'!$B$4,2,1),'اليومية'!$A$5:$A$2004,"<"&DATE('الإعدادات'!$B$4,3,1)),IF($B18="مصروف",SUMIFS('اليومية'!$E$5:$E$2004,'اليومية'!$C$5:$C$2004,$A18&"",'اليومية'!$A$5:$A$2004,">="&DATE('الإعدادات'!$B$4,2,1),'اليومية'!$A$5:$A$2004,"<"&DATE('الإعدادات'!$B$4,3,1)),0))) | E18: =IF($A18&""="","",IF($B18="إيراد",SUMIFS('اليومية'!$D$5:$D$2004,'اليومية'!$C$5:$C$2004,$A18&"",'اليومية'!$A$5:$A$2004,">="&DATE('الإعدادات'!$B$4,3,1),'اليومية'!$A$5:$A$2004,"<"&DATE('الإعدادات'!$B$4,4,1)),IF($B18="مصروف",SUMIFS('اليومية'!$E$5:$E$2004,'اليومية'!$C$5:$C$2004,$A18&"",'اليومية'!$A$5:$A$2004,">="&DATE('الإعدادات'!$B$4,3,1),'اليومية'!$A$5:$A$2004,"<"&DATE('الإعدادات'!$B$4,4,1)),0))) | F18: =IF($A18&""="","",IF($B18="إيراد",SUMIFS('اليومية'!$D$5:$D$2004,'اليومية'!$C$5:$C$2004,$A18&"",'اليومية'!$A$5:$A$2004,">="&DATE('الإعدادات'!$B$4,4,1),'اليومية'!$A$5:$A$2004,"<"&DATE('الإعدادات'!$B$4,5,1)),IF($B18="مصروف",SUMIFS('اليومية'!$E$5:$E$2004,'اليومية'!$C$5:$C$2004,$A18&"",'اليومية'!$A$5:$A$2004,">="&DATE('الإعدادات'!$B$4,4,1),'اليومية'!$A$5:$A$2004,"<"&DATE('الإعدادات'!$B$4,5,1)),0))) | G18: =IF($A18&""="","",IF($B18="إيراد",SUMIFS('اليومية'!$D$5:$D$2004,'اليومية'!$C$5:$C$2004,$A18&"",'اليومية'!$A$5:$A$2004,">="&DATE('الإعدادات'!$B$4,5,1),'اليومية'!$A$5:$A$2004,"<"&DATE('الإعدادات'!$B$4,6,1)),IF($B18="مصروف",SUMIFS('اليومية'!$E$5:$E$2004,'اليومية'!$C$5:$C$2004,$A18&"",'اليومية'!$A$5:$A$2004,">="&DATE('الإعدادات'!$B$4,5,1),'اليومية'!$A$5:$A$2004,"<"&DATE('الإعدادات'!$B$4,6,1)),0))) | H18: =IF($A18&""="","",IF($B18="إيراد",SUMIFS('اليومية'!$D$5:$D$2004,'اليومية'!$C$5:$C$2004,$A18&"",'اليومية'!$A$5:$A$2004,">="&DATE('الإعدادات'!$B$4,6,1),'اليومية'!$A$5:$A$2004,"<"&DATE('الإعدادات'!$B$4,7,1)),IF($B18="مصروف",SUMIFS('اليومية'!$E$5:$E$2004,'اليومية'!$C$5:$C$2004,$A18&"",'اليومية'!$A$5:$A$2004,">="&DATE('الإعدادات'!$B$4,6,1),'اليومية'!$A$5:$A$2004,"<"&DATE('الإعدادات'!$B$4,7,1)),0))) | I18: =IF($A18&""="","",IF($B18="إيراد",SUMIFS('اليومية'!$D$5:$D$2004,'اليومية'!$C$5:$C$2004,$A18&"",'اليومية'!$A$5:$A$2004,">="&DATE('الإعدادات'!$B$4,7,1),'اليومية'!$A$5:$A$2004,"<"&DATE('الإعدادات'!$B$4,8,1)),IF($B18="مصروف",SUMIFS('اليومية'!$E$5:$E$2004,'اليومية'!$C$5:$C$2004,$A18&"",'اليومية'!$A$5:$A$2004,">="&DATE('الإعدادات'!$B$4,7,1),'اليومية'!$A$5:$A$2004,"<"&DATE('الإعدادات'!$B$4,8,1)),0))) | J18: =IF($A18&""="","",IF($B18="إيراد",SUMIFS('اليومية'!$D$5:$D$2004,'اليومية'!$C$5:$C$2004,$A18&"",'اليومية'!$A$5:$A$2004,">="&DATE('الإعدادات'!$B$4,8,1),'اليومية'!$A$5:$A$2004,"<"&DATE('الإعدادات'!$B$4,9,1)),IF($B18="مصروف",SUMIFS('اليومية'!$E$5:$E$2004,'اليومية'!$C$5:$C$2004,$A18&"",'اليومية'!$A$5:$A$2004,">="&DATE('الإعدادات'!$B$4,8,1),'اليومية'!$A$5:$A$2004,"<"&DATE('الإعدادات'!$B$4,9,1)),0))) | K18: =IF($A18&""="","",IF($B18="إيراد",SUMIFS('اليومية'!$D$5:$D$2004,'اليومية'!$C$5:$C$2004,$A18&"",'اليومية'!$A$5:$A$2004,">="&DATE('الإعدادات'!$B$4,9,1),'اليومية'!$A$5:$A$2004,"<"&DATE('الإعدادات'!$B$4,10,1)),IF($B18="مصروف",SUMIFS('اليومية'!$E$5:$E$2004,'اليومية'!$C$5:$C$2004,$A18&"",'اليومية'!$A$5:$A$2004,">="&DATE('الإعدادات'!$B$4,9,1),'اليومية'!$A$5:$A$2004,"<"&DATE('الإعدادات'!$B$4,10,1)),0))) | L18: =IF($A18&""="","",IF($B18="إيراد",SUMIFS('اليومية'!$D$5:$D$2004,'اليومية'!$C$5:$C$2004,$A18&"",'اليومية'!$A$5:$A$2004,">="&DATE('الإعدادات'!$B$4,10,1),'اليومية'!$A$5:$A$2004,"<"&DATE('الإعدادات'!$B$4,11,1)),IF($B18="مصروف",SUMIFS('اليومية'!$E$5:$E$2004,'اليومية'!$C$5:$C$2004,$A18&"",'اليومية'!$A$5:$A$2004,">="&DATE('الإعدادات'!$B$4,10,1),'اليومية'!$A$5:$A$2004,"<"&DATE('الإعدادات'!$B$4,11,1)),0))) | M18: =IF($A18&""="","",IF($B18="إيراد",SUMIFS('اليومية'!$D$5:$D$2004,'اليومية'!$C$5:$C$2004,$A18&"",'اليومية'!$A$5:$A$2004,">="&DATE('الإعدادات'!$B$4,11,1),'اليومية'!$A$5:$A$2004,"<"&DATE('الإعدادات'!$B$4,12,1)),IF($B18="مصروف",SUMIFS('اليومية'!$E$5:$E$2004,'اليومية'!$C$5:$C$2004,$A18&"",'اليومية'!$A$5:$A$2004,">="&DATE('الإعدادات'!$B$4,11,1),'اليومية'!$A$5:$A$2004,"<"&DATE('الإعدادات'!$B$4,12,1)),0))) | N18: =IF($A18&""="","",IF($B18="إيراد",SUMIFS('اليومية'!$D$5:$D$2004,'اليومية'!$C$5:$C$2004,$A18&"",'اليومية'!$A$5:$A$2004,">="&DATE('الإعدادات'!$B$4,12,1),'اليومية'!$A$5:$A$2004,"<"&DATE('الإعدادات'!$B$4+1,1,1)),IF($B18="مصروف",SUMIFS('اليومية'!$E$5:$E$2004,'اليومية'!$C$5:$C$2004,$A18&"",'اليومية'!$A$5:$A$2004,">="&DATE('الإعدادات'!$B$4,12,1),'اليومية'!$A$5:$A$2004,"<"&DATE('الإعدادات'!$B$4+1,1,1)),0))) | O18: =IF($A18&""="","",SUM(C18:N18))
A19: =IF('التصنيفات'!A14&""="","",'التصنيفات'!A14) | B19: =IF('التصنيفات'!A14&""="","",'التصنيفات'!B14&"") | C19: =IF($A19&""="","",IF($B19="إيراد",SUMIFS('اليومية'!$D$5:$D$2004,'اليومية'!$C$5:$C$2004,$A19&"",'اليومية'!$A$5:$A$2004,">="&DATE('الإعدادات'!$B$4,1,1),'اليومية'!$A$5:$A$2004,"<"&DATE('الإعدادات'!$B$4,2,1)),IF($B19="مصروف",SUMIFS('اليومية'!$E$5:$E$2004,'اليومية'!$C$5:$C$2004,$A19&"",'اليومية'!$A$5:$A$2004,">="&DATE('الإعدادات'!$B$4,1,1),'اليومية'!$A$5:$A$2004,"<"&DATE('الإعدادات'!$B$4,2,1)),0))) | D19: =IF($A19&""="","",IF($B19="إيراد",SUMIFS('اليومية'!$D$5:$D$2004,'اليومية'!$C$5:$C$2004,$A19&"",'اليومية'!$A$5:$A$2004,">="&DATE('الإعدادات'!$B$4,2,1),'اليومية'!$A$5:$A$2004,"<"&DATE('الإعدادات'!$B$4,3,1)),IF($B19="مصروف",SUMIFS('اليومية'!$E$5:$E$2004,'اليومية'!$C$5:$C$2004,$A19&"",'اليومية'!$A$5:$A$2004,">="&DATE('الإعدادات'!$B$4,2,1),'اليومية'!$A$5:$A$2004,"<"&DATE('الإعدادات'!$B$4,3,1)),0))) | E19: =IF($A19&""="","",IF($B19="إيراد",SUMIFS('اليومية'!$D$5:$D$2004,'اليومية'!$C$5:$C$2004,$A19&"",'اليومية'!$A$5:$A$2004,">="&DATE('الإعدادات'!$B$4,3,1),'اليومية'!$A$5:$A$2004,"<"&DATE('الإعدادات'!$B$4,4,1)),IF($B19="مصروف",SUMIFS('اليومية'!$E$5:$E$2004,'اليومية'!$C$5:$C$2004,$A19&"",'اليومية'!$A$5:$A$2004,">="&DATE('الإعدادات'!$B$4,3,1),'اليومية'!$A$5:$A$2004,"<"&DATE('الإعدادات'!$B$4,4,1)),0))) | F19: =IF($A19&""="","",IF($B19="إيراد",SUMIFS('اليومية'!$D$5:$D$2004,'اليومية'!$C$5:$C$2004,$A19&"",'اليومية'!$A$5:$A$2004,">="&DATE('الإعدادات'!$B$4,4,1),'اليومية'!$A$5:$A$2004,"<"&DATE('الإعدادات'!$B$4,5,1)),IF($B19="مصروف",SUMIFS('اليومية'!$E$5:$E$2004,'اليومية'!$C$5:$C$2004,$A19&"",'اليومية'!$A$5:$A$2004,">="&DATE('الإعدادات'!$B$4,4,1),'اليومية'!$A$5:$A$2004,"<"&DATE('الإعدادات'!$B$4,5,1)),0))) | G19: =IF($A19&""="","",IF($B19="إيراد",SUMIFS('اليومية'!$D$5:$D$2004,'اليومية'!$C$5:$C$2004,$A19&"",'اليومية'!$A$5:$A$2004,">="&DATE('الإعدادات'!$B$4,5,1),'اليومية'!$A$5:$A$2004,"<"&DATE('الإعدادات'!$B$4,6,1)),IF($B19="مصروف",SUMIFS('اليومية'!$E$5:$E$2004,'اليومية'!$C$5:$C$2004,$A19&"",'اليومية'!$A$5:$A$2004,">="&DATE('الإعدادات'!$B$4,5,1),'اليومية'!$A$5:$A$2004,"<"&DATE('الإعدادات'!$B$4,6,1)),0))) | H19: =IF($A19&""="","",IF($B19="إيراد",SUMIFS('اليومية'!$D$5:$D$2004,'اليومية'!$C$5:$C$2004,$A19&"",'اليومية'!$A$5:$A$2004,">="&DATE('الإعدادات'!$B$4,6,1),'اليومية'!$A$5:$A$2004,"<"&DATE('الإعدادات'!$B$4,7,1)),IF($B19="مصروف",SUMIFS('اليومية'!$E$5:$E$2004,'اليومية'!$C$5:$C$2004,$A19&"",'اليومية'!$A$5:$A$2004,">="&DATE('الإعدادات'!$B$4,6,1),'اليومية'!$A$5:$A$2004,"<"&DATE('الإعدادات'!$B$4,7,1)),0))) | I19: =IF($A19&""="","",IF($B19="إيراد",SUMIFS('اليومية'!$D$5:$D$2004,'اليومية'!$C$5:$C$2004,$A19&"",'اليومية'!$A$5:$A$2004,">="&DATE('الإعدادات'!$B$4,7,1),'اليومية'!$A$5:$A$2004,"<"&DATE('الإعدادات'!$B$4,8,1)),IF($B19="مصروف",SUMIFS('اليومية'!$E$5:$E$2004,'اليومية'!$C$5:$C$2004,$A19&"",'اليومية'!$A$5:$A$2004,">="&DATE('الإعدادات'!$B$4,7,1),'اليومية'!$A$5:$A$2004,"<"&DATE('الإعدادات'!$B$4,8,1)),0))) | J19: =IF($A19&""="","",IF($B19="إيراد",SUMIFS('اليومية'!$D$5:$D$2004,'اليومية'!$C$5:$C$2004,$A19&"",'اليومية'!$A$5:$A$2004,">="&DATE('الإعدادات'!$B$4,8,1),'اليومية'!$A$5:$A$2004,"<"&DATE('الإعدادات'!$B$4,9,1)),IF($B19="مصروف",SUMIFS('اليومية'!$E$5:$E$2004,'اليومية'!$C$5:$C$2004,$A19&"",'اليومية'!$A$5:$A$2004,">="&DATE('الإعدادات'!$B$4,8,1),'اليومية'!$A$5:$A$2004,"<"&DATE('الإعدادات'!$B$4,9,1)),0))) | K19: =IF($A19&""="","",IF($B19="إيراد",SUMIFS('اليومية'!$D$5:$D$2004,'اليومية'!$C$5:$C$2004,$A19&"",'اليومية'!$A$5:$A$2004,">="&DATE('الإعدادات'!$B$4,9,1),'اليومية'!$A$5:$A$2004,"<"&DATE('الإعدادات'!$B$4,10,1)),IF($B19="مصروف",SUMIFS('اليومية'!$E$5:$E$2004,'اليومية'!$C$5:$C$2004,$A19&"",'اليومية'!$A$5:$A$2004,">="&DATE('الإعدادات'!$B$4,9,1),'اليومية'!$A$5:$A$2004,"<"&DATE('الإعدادات'!$B$4,10,1)),0))) | L19: =IF($A19&""="","",IF($B19="إيراد",SUMIFS('اليومية'!$D$5:$D$2004,'اليومية'!$C$5:$C$2004,$A19&"",'اليومية'!$A$5:$A$2004,">="&DATE('الإعدادات'!$B$4,10,1),'اليومية'!$A$5:$A$2004,"<"&DATE('الإعدادات'!$B$4,11,1)),IF($B19="مصروف",SUMIFS('اليومية'!$E$5:$E$2004,'اليومية'!$C$5:$C$2004,$A19&"",'اليومية'!$A$5:$A$2004,">="&DATE('الإعدادات'!$B$4,10,1),'اليومية'!$A$5:$A$2004,"<"&DATE('الإعدادات'!$B$4,11,1)),0))) | M19: =IF($A19&""="","",IF($B19="إيراد",SUMIFS('اليومية'!$D$5:$D$2004,'اليومية'!$C$5:$C$2004,$A19&"",'اليومية'!$A$5:$A$2004,">="&DATE('الإعدادات'!$B$4,11,1),'اليومية'!$A$5:$A$2004,"<"&DATE('الإعدادات'!$B$4,12,1)),IF($B19="مصروف",SUMIFS('اليومية'!$E$5:$E$2004,'اليومية'!$C$5:$C$2004,$A19&"",'اليومية'!$A$5:$A$2004,">="&DATE('الإعدادات'!$B$4,11,1),'اليومية'!$A$5:$A$2004,"<"&DATE('الإعدادات'!$B$4,12,1)),0))) | N19: =IF($A19&""="","",IF($B19="إيراد",SUMIFS('اليومية'!$D$5:$D$2004,'اليومية'!$C$5:$C$2004,$A19&"",'اليومية'!$A$5:$A$2004,">="&DATE('الإعدادات'!$B$4,12,1),'اليومية'!$A$5:$A$2004,"<"&DATE('الإعدادات'!$B$4+1,1,1)),IF($B19="مصروف",SUMIFS('اليومية'!$E$5:$E$2004,'اليومية'!$C$5:$C$2004,$A19&"",'اليومية'!$A$5:$A$2004,">="&DATE('الإعدادات'!$B$4,12,1),'اليومية'!$A$5:$A$2004,"<"&DATE('الإعدادات'!$B$4+1,1,1)),0))) | O19: =IF($A19&""="","",SUM(C19:N19))
A20: =IF('التصنيفات'!A15&""="","",'التصنيفات'!A15) | B20: =IF('التصنيفات'!A15&""="","",'التصنيفات'!B15&"") | C20: =IF($A20&""="","",IF($B20="إيراد",SUMIFS('اليومية'!$D$5:$D$2004,'اليومية'!$C$5:$C$2004,$A20&"",'اليومية'!$A$5:$A$2004,">="&DATE('الإعدادات'!$B$4,1,1),'اليومية'!$A$5:$A$2004,"<"&DATE('الإعدادات'!$B$4,2,1)),IF($B20="مصروف",SUMIFS('اليومية'!$E$5:$E$2004,'اليومية'!$C$5:$C$2004,$A20&"",'اليومية'!$A$5:$A$2004,">="&DATE('الإعدادات'!$B$4,1,1),'اليومية'!$A$5:$A$2004,"<"&DATE('الإعدادات'!$B$4,2,1)),0))) | D20: =IF($A20&""="","",IF($B20="إيراد",SUMIFS('اليومية'!$D$5:$D$2004,'اليومية'!$C$5:$C$2004,$A20&"",'اليومية'!$A$5:$A$2004,">="&DATE('الإعدادات'!$B$4,2,1),'اليومية'!$A$5:$A$2004,"<"&DATE('الإعدادات'!$B$4,3,1)),IF($B20="مصروف",SUMIFS('اليومية'!$E$5:$E$2004,'اليومية'!$C$5:$C$2004,$A20&"",'اليومية'!$A$5:$A$2004,">="&DATE('الإعدادات'!$B$4,2,1),'اليومية'!$A$5:$A$2004,"<"&DATE('الإعدادات'!$B$4,3,1)),0))) | E20: =IF($A20&""="","",IF($B20="إيراد",SUMIFS('اليومية'!$D$5:$D$2004,'اليومية'!$C$5:$C$2004,$A20&"",'اليومية'!$A$5:$A$2004,">="&DATE('الإعدادات'!$B$4,3,1),'اليومية'!$A$5:$A$2004,"<"&DATE('الإعدادات'!$B$4,4,1)),IF($B20="مصروف",SUMIFS('اليومية'!$E$5:$E$2004,'اليومية'!$C$5:$C$2004,$A20&"",'اليومية'!$A$5:$A$2004,">="&DATE('الإعدادات'!$B$4,3,1),'اليومية'!$A$5:$A$2004,"<"&DATE('الإعدادات'!$B$4,4,1)),0))) | F20: =IF($A20&""="","",IF($B20="إيراد",SUMIFS('اليومية'!$D$5:$D$2004,'اليومية'!$C$5:$C$2004,$A20&"",'اليومية'!$A$5:$A$2004,">="&DATE('الإعدادات'!$B$4,4,1),'اليومية'!$A$5:$A$2004,"<"&DATE('الإعدادات'!$B$4,5,1)),IF($B20="مصروف",SUMIFS('اليومية'!$E$5:$E$2004,'اليومية'!$C$5:$C$2004,$A20&"",'اليومية'!$A$5:$A$2004,">="&DATE('الإعدادات'!$B$4,4,1),'اليومية'!$A$5:$A$2004,"<"&DATE('الإعدادات'!$B$4,5,1)),0))) | G20: =IF($A20&""="","",IF($B20="إيراد",SUMIFS('اليومية'!$D$5:$D$2004,'اليومية'!$C$5:$C$2004,$A20&"",'اليومية'!$A$5:$A$2004,">="&DATE('الإعدادات'!$B$4,5,1),'اليومية'!$A$5:$A$2004,"<"&DATE('الإعدادات'!$B$4,6,1)),IF($B20="مصروف",SUMIFS('اليومية'!$E$5:$E$2004,'اليومية'!$C$5:$C$2004,$A20&"",'اليومية'!$A$5:$A$2004,">="&DATE('الإعدادات'!$B$4,5,1),'اليومية'!$A$5:$A$2004,"<"&DATE('الإعدادات'!$B$4,6,1)),0))) | H20: =IF($A20&""="","",IF($B20="إيراد",SUMIFS('اليومية'!$D$5:$D$2004,'اليومية'!$C$5:$C$2004,$A20&"",'اليومية'!$A$5:$A$2004,">="&DATE('الإعدادات'!$B$4,6,1),'اليومية'!$A$5:$A$2004,"<"&DATE('الإعدادات'!$B$4,7,1)),IF($B20="مصروف",SUMIFS('اليومية'!$E$5:$E$2004,'اليومية'!$C$5:$C$2004,$A20&"",'اليومية'!$A$5:$A$2004,">="&DATE('الإعدادات'!$B$4,6,1),'اليومية'!$A$5:$A$2004,"<"&DATE('الإعدادات'!$B$4,7,1)),0))) | I20: =IF($A20&""="","",IF($B20="إيراد",SUMIFS('اليومية'!$D$5:$D$2004,'اليومية'!$C$5:$C$2004,$A20&"",'اليومية'!$A$5:$A$2004,">="&DATE('الإعدادات'!$B$4,7,1),'اليومية'!$A$5:$A$2004,"<"&DATE('الإعدادات'!$B$4,8,1)),IF($B20="مصروف",SUMIFS('اليومية'!$E$5:$E$2004,'اليومية'!$C$5:$C$2004,$A20&"",'اليومية'!$A$5:$A$2004,">="&DATE('الإعدادات'!$B$4,7,1),'اليومية'!$A$5:$A$2004,"<"&DATE('الإعدادات'!$B$4,8,1)),0))) | J20: =IF($A20&""="","",IF($B20="إيراد",SUMIFS('اليومية'!$D$5:$D$2004,'اليومية'!$C$5:$C$2004,$A20&"",'اليومية'!$A$5:$A$2004,">="&DATE('الإعدادات'!$B$4,8,1),'اليومية'!$A$5:$A$2004,"<"&DATE('الإعدادات'!$B$4,9,1)),IF($B20="مصروف",SUMIFS('اليومية'!$E$5:$E$2004,'اليومية'!$C$5:$C$2004,$A20&"",'اليومية'!$A$5:$A$2004,">="&DATE('الإعدادات'!$B$4,8,1),'اليومية'!$A$5:$A$2004,"<"&DATE('الإعدادات'!$B$4,9,1)),0))) | K20: =IF($A20&""="","",IF($B20="إيراد",SUMIFS('اليومية'!$D$5:$D$2004,'اليومية'!$C$5:$C$2004,$A20&"",'اليومية'!$A$5:$A$2004,">="&DATE('الإعدادات'!$B$4,9,1),'اليومية'!$A$5:$A$2004,"<"&DATE('الإعدادات'!$B$4,10,1)),IF($B20="مصروف",SUMIFS('اليومية'!$E$5:$E$2004,'اليومية'!$C$5:$C$2004,$A20&"",'اليومية'!$A$5:$A$2004,">="&DATE('الإعدادات'!$B$4,9,1),'اليومية'!$A$5:$A$2004,"<"&DATE('الإعدادات'!$B$4,10,1)),0))) | L20: =IF($A20&""="","",IF($B20="إيراد",SUMIFS('اليومية'!$D$5:$D$2004,'اليومية'!$C$5:$C$2004,$A20&"",'اليومية'!$A$5:$A$2004,">="&DATE('الإعدادات'!$B$4,10,1),'اليومية'!$A$5:$A$2004,"<"&DATE('الإعدادات'!$B$4,11,1)),IF($B20="مصروف",SUMIFS('اليومية'!$E$5:$E$2004,'اليومية'!$C$5:$C$2004,$A20&"",'اليومية'!$A$5:$A$2004,">="&DATE('الإعدادات'!$B$4,10,1),'اليومية'!$A$5:$A$2004,"<"&DATE('الإعدادات'!$B$4,11,1)),0))) | M20: =IF($A20&""="","",IF($B20="إيراد",SUMIFS('اليومية'!$D$5:$D$2004,'اليومية'!$C$5:$C$2004,$A20&"",'اليومية'!$A$5:$A$2004,">="&DATE('الإعدادات'!$B$4,11,1),'اليومية'!$A$5:$A$2004,"<"&DATE('الإعدادات'!$B$4,12,1)),IF($B20="مصروف",SUMIFS('اليومية'!$E$5:$E$2004,'اليومية'!$C$5:$C$2004,$A20&"",'اليومية'!$A$5:$A$2004,">="&DATE('الإعدادات'!$B$4,11,1),'اليومية'!$A$5:$A$2004,"<"&DATE('الإعدادات'!$B$4,12,1)),0))) | N20: =IF($A20&""="","",IF($B20="إيراد",SUMIFS('اليومية'!$D$5:$D$2004,'اليومية'!$C$5:$C$2004,$A20&"",'اليومية'!$A$5:$A$2004,">="&DATE('الإعدادات'!$B$4,12,1),'اليومية'!$A$5:$A$2004,"<"&DATE('الإعدادات'!$B$4+1,1,1)),IF($B20="مصروف",SUMIFS('اليومية'!$E$5:$E$2004,'اليومية'!$C$5:$C$2004,$A20&"",'اليومية'!$A$5:$A$2004,">="&DATE('الإعدادات'!$B$4,12,1),'اليومية'!$A$5:$A$2004,"<"&DATE('الإعدادات'!$B$4+1,1,1)),0))) | O20: =IF($A20&""="","",SUM(C20:N20))
