Workbook

Sheet ابدأ هنا
B2: شيت المصروفات والميزانية الشهرية للمشروع
B3: يسجّل مصروفات المشروع وإيراداته، ويضع ميزانية لكل تصنيف في كل شهر، ثم يقارن الفعلي بالميزانية ويُظهر الانحراف والتصنيفات التي تجاوزت ميزانيتها وصافي كل شهر.
B5: طريقة الاستخدام
B6: 1. في شيت «الإعدادات» اكتب السنة، والشهر الذي تبدأ منه المقارنة والشهر الذي تنتهي عنده، ونسبة التنبيه.
B7: 2. في شيت «التصنيفات» اكتب تصنيفات المصروفات وطرق الدفع التي تستخدمها.
B8: 3. في شيت «الميزانية الشهرية» اكتب المبلغ المسموح لكل تصنيف في كل شهر.
B9: 4. في شيت «المصروفات» سجّل كل مصروف: التاريخ والتصنيف والمستفيد والمبلغ وطريقة الدفع. وفي شيت «الإيرادات» سجّل ما دخل.
B10: 5. افتح «الفعلي مقابل الميزانية» لترى الفعلي والانحراف لكل تصنيف وشهر، و«ملخص سنوي» لترى حالة كل تصنيف وأكبر التصنيفات وصافي كل شهر.
B12: الألوان
B13: الخانة البيضاء: اكتب فيها.
B14: الخانة الرمادية: تُحسب تلقائيًا، فلا تكتب فيها.
B15: الخانة الصفراء أو الحمراء: تنبيه يحتاج إلى مراجعتك.
... B26: القالب مجاني: استخدمه وعدّله وشاركه كما تشاء.

Sheet ملخص سنوي
A1: شيت المصروفات والميزانية الشهرية للمشروع · قالب مجاني من Softwiro
A2: فواتير عملائك ومدفوعاتهم ورصيدهم المستحق في كشف حساب واحد مع Accountwiro ← اضغط هنا
A4: عدد التصنيفات المتجاوزة | B4: =COUNTIF(G6:G25,"تجاوز الميزانية") | C4: الفترة المقارَنة تُحدَّد من شيت «الإعدادات»: من شهر وإلى شهر.
A5: التصنيف | B5: ميزانية السنة كاملة | C5: ميزانية الفترة | D5: الفعلي في الفترة | E5: الانحراف (ميزانية - فعلي) | F5: نسبة الصرف | G5: الحالة
A6: =IF('التصنيفات'!A5&""="","",'التصنيفات'!A5) | B6: =IF($A6="","",'الميزانية الشهرية'!N6) | C6: =IF($A6="","",SUMIFS('الميزانية الشهرية'!$B6:$M6,'الميزانية الشهرية'!$B$4:$M$4,">="&'الإعدادات'!$B$5,'الميزانية الشهرية'!$B$4:$M$4,"<="&'الإعدادات'!$B$6)) | D6: =IF($A6="","",SUMIFS('الفعلي مقابل الميزانية'!$B6:$M6,'الفعلي مقابل الميزانية'!$B$4:$M$4,">="&'الإعدادات'!$B$5,'الفعلي مقابل الميزانية'!$B$4:$M$4,"<="&'الإعدادات'!$B$6)) | E6: =IF($A6="","",C6-D6) | F6: =IF($A6="","",IF(C6=0,"",D6/C6)) | G6: =IF($A6="","",IF(AND(C6=0,D6=0),"-",IF(D6>C6,"تجاوز الميزانية",IF(AND(C6>0,D6/C6>='الإعدادات'!$B$7),"قريب من الحد","ضمن الميزانية")))) | H6: =IF($A6="","",D6+ROW()/1000000000)
A7: =IF('التصنيفات'!A6&""="","",'التصنيفات'!A6) | B7: =IF($A7="","",'الميزانية الشهرية'!N7) | C7: =IF($A7="","",SUMIFS('الميزانية الشهرية'!$B7:$M7,'الميزانية الشهرية'!$B$4:$M$4,">="&'الإعدادات'!$B$5,'الميزانية الشهرية'!$B$4:$M$4,"<="&'الإعدادات'!$B$6)) | D7: =IF($A7="","",SUMIFS('الفعلي مقابل الميزانية'!$B7:$M7,'الفعلي مقابل الميزانية'!$B$4:$M$4,">="&'الإعدادات'!$B$5,'الفعلي مقابل الميزانية'!$B$4:$M$4,"<="&'الإعدادات'!$B$6)) | E7: =IF($A7="","",C7-D7) | F7: =IF($A7="","",IF(C7=0,"",D7/C7)) | G7: =IF($A7="","",IF(AND(C7=0,D7=0),"-",IF(D7>C7,"تجاوز الميزانية",IF(AND(C7>0,D7/C7>='الإعدادات'!$B$7),"قريب من الحد","ضمن الميزانية")))) | H7: =IF($A7="","",D7+ROW()/1000000000)
A8: =IF('التصنيفات'!A7&""="","",'التصنيفات'!A7) | B8: =IF($A8="","",'الميزانية الشهرية'!N8) | C8: =IF($A8="","",SUMIFS('الميزانية الشهرية'!$B8:$M8,'الميزانية الشهرية'!$B$4:$M$4,">="&'الإعدادات'!$B$5,'الميزانية الشهرية'!$B$4:$M$4,"<="&'الإعدادات'!$B$6)) | D8: =IF($A8="","",SUMIFS('الفعلي مقابل الميزانية'!$B8:$M8,'الفعلي مقابل الميزانية'!$B$4:$M$4,">="&'الإعدادات'!$B$5,'الفعلي مقابل الميزانية'!$B$4:$M$4,"<="&'الإعدادات'!$B$6)) | E8: =IF($A8="","",C8-D8) | F8: =IF($A8="","",IF(C8=0,"",D8/C8)) | G8: =IF($A8="","",IF(AND(C8=0,D8=0),"-",IF(D8>C8,"تجاوز الميزانية",IF(AND(C8>0,D8/C8>='الإعدادات'!$B$7),"قريب من الحد","ضمن الميزانية")))) | H8: =IF($A8="","",D8+ROW()/1000000000)
A9: =IF('التصنيفات'!A8&""="","",'التصنيفات'!A8) | B9: =IF($A9="","",'الميزانية الشهرية'!N9) | C9: =IF($A9="","",SUMIFS('الميزانية الشهرية'!$B9:$M9,'الميزانية الشهرية'!$B$4:$M$4,">="&'الإعدادات'!$B$5,'الميزانية الشهرية'!$B$4:$M$4,"<="&'الإعدادات'!$B$6)) | D9: =IF($A9="","",SUMIFS('الفعلي مقابل الميزانية'!$B9:$M9,'الفعلي مقابل الميزانية'!$B$4:$M$4,">="&'الإعدادات'!$B$5,'الفعلي مقابل الميزانية'!$B$4:$M$4,"<="&'الإعدادات'!$B$6)) | E9: =IF($A9="","",C9-D9) | F9: =IF($A9="","",IF(C9=0,"",D9/C9)) | G9: =IF($A9="","",IF(AND(C9=0,D9=0),"-",IF(D9>C9,"تجاوز الميزانية",IF(AND(C9>0,D9/C9>='الإعدادات'!$B$7),"قريب من الحد","ضمن الميزانية")))) | H9: =IF($A9="","",D9+ROW()/1000000000)
A10: =IF('التصنيفات'!A9&""="","",'التصنيفات'!A9) | B10: =IF($A10="","",'الميزانية الشهرية'!N10) | C10: =IF($A10="","",SUMIFS('الميزانية الشهرية'!$B10:$M10,'الميزانية الشهرية'!$B$4:$M$4,">="&'الإعدادات'!$B$5,'الميزانية الشهرية'!$B$4:$M$4,"<="&'الإعدادات'!$B$6)) | D10: =IF($A10="","",SUMIFS('الفعلي مقابل الميزانية'!$B10:$M10,'الفعلي مقابل الميزانية'!$B$4:$M$4,">="&'الإعدادات'!$B$5,'الفعلي مقابل الميزانية'!$B$4:$M$4,"<="&'الإعدادات'!$B$6)) | E10: =IF($A10="","",C10-D10) | F10: =IF($A10="","",IF(C10=0,"",D10/C10)) | G10: =IF($A10="","",IF(AND(C10=0,D10=0),"-",IF(D10>C10,"تجاوز الميزانية",IF(AND(C10>0,D10/C10>='الإعدادات'!$B$7),"قريب من الحد","ضمن الميزانية")))) | H10: =IF($A10="","",D10+ROW()/1000000000)
A11: =IF('التصنيفات'!A10&""="","",'التصنيفات'!A10) | B11: =IF($A11="","",'الميزانية الشهرية'!N11) | C11: =IF($A11="","",SUMIFS('الميزانية الشهرية'!$B11:$M11,'الميزانية الشهرية'!$B$4:$M$4,">="&'الإعدادات'!$B$5,'الميزانية الشهرية'!$B$4:$M$4,"<="&'الإعدادات'!$B$6)) | D11: =IF($A11="","",SUMIFS('الفعلي مقابل الميزانية'!$B11:$M11,'الفعلي مقابل الميزانية'!$B$4:$M$4,">="&'الإعدادات'!$B$5,'الفعلي مقابل الميزانية'!$B$4:$M$4,"<="&'الإعدادات'!$B$6)) | E11: =IF($A11="","",C11-D11) | F11: =IF($A11="","",IF(C11=0,"",D11/C11)) | G11: =IF($A11="","",IF(AND(C11=0,D11=0),"-",IF(D11>C11,"تجاوز الميزانية",IF(AND(C11>0,D11/C11>='الإعدادات'!$B$7),"قريب من الحد","ضمن الميزانية")))) | H11: =IF($A11="","",D11+ROW()/1000000000)
A12: =IF('التصنيفات'!A11&""="","",'التصنيفات'!A11) | B12: =IF($A12="","",'الميزانية الشهرية'!N12) | C12: =IF($A12="","",SUMIFS('الميزانية الشهرية'!$B12:$M12,'الميزانية الشهرية'!$B$4:$M$4,">="&'الإعدادات'!$B$5,'الميزانية الشهرية'!$B$4:$M$4,"<="&'الإعدادات'!$B$6)) | D12: =IF($A12="","",SUMIFS('الفعلي مقابل الميزانية'!$B12:$M12,'الفعلي مقابل الميزانية'!$B$4:$M$4,">="&'الإعدادات'!$B$5,'الفعلي مقابل الميزانية'!$B$4:$M$4,"<="&'الإعدادات'!$B$6)) | E12: =IF($A12="","",C12-D12) | F12: =IF($A12="","",IF(C12=0,"",D12/C12)) | G12: =IF($A12="","",IF(AND(C12=0,D12=0),"-",IF(D12>C12,"تجاوز الميزانية",IF(AND(C12>0,D12/C12>='الإعدادات'!$B$7),"قريب من الحد","ضمن الميزانية")))) | H12: =IF($A12="","",D12+ROW()/1000000000)
A13: =IF('التصنيفات'!A12&""="","",'التصنيفات'!A12) | B13: =IF($A13="","",'الميزانية الشهرية'!N13) | C13: =IF($A13="","",SUMIFS('الميزانية الشهرية'!$B13:$M13,'الميزانية الشهرية'!$B$4:$M$4,">="&'الإعدادات'!$B$5,'الميزانية الشهرية'!$B$4:$M$4,"<="&'الإعدادات'!$B$6)) | D13: =IF($A13="","",SUMIFS('الفعلي مقابل الميزانية'!$B13:$M13,'الفعلي مقابل الميزانية'!$B$4:$M$4,">="&'الإعدادات'!$B$5,'الفعلي مقابل الميزانية'!$B$4:$M$4,"<="&'الإعدادات'!$B$6)) | E13: =IF($A13="","",C13-D13) | F13: =IF($A13="","",IF(C13=0,"",D13/C13)) | G13: =IF($A13="","",IF(AND(C13=0,D13=0),"-",IF(D13>C13,"تجاوز الميزانية",IF(AND(C13>0,D13/C13>='الإعدادات'!$B$7),"قريب من الحد","ضمن الميزانية")))) | H13: =IF($A13="","",D13+ROW()/1000000000)
A14: =IF('التصنيفات'!A13&""="","",'التصنيفات'!A13) | B14: =IF($A14="","",'الميزانية الشهرية'!N14) | C14: =IF($A14="","",SUMIFS('الميزانية الشهرية'!$B14:$M14,'الميزانية الشهرية'!$B$4:$M$4,">="&'الإعدادات'!$B$5,'الميزانية الشهرية'!$B$4:$M$4,"<="&'الإعدادات'!$B$6)) | D14: =IF($A14="","",SUMIFS('الفعلي مقابل الميزانية'!$B14:$M14,'الفعلي مقابل الميزانية'!$B$4:$M$4,">="&'الإعدادات'!$B$5,'الفعلي مقابل الميزانية'!$B$4:$M$4,"<="&'الإعدادات'!$B$6)) | E14: =IF($A14="","",C14-D14) | F14: =IF($A14="","",IF(C14=0,"",D14/C14)) | G14: =IF($A14="","",IF(AND(C14=0,D14=0),"-",IF(D14>C14,"تجاوز الميزانية",IF(AND(C14>0,D14/C14>='الإعدادات'!$B$7),"قريب من الحد","ضمن الميزانية")))) | H14: =IF($A14="","",D14+ROW()/1000000000)
A15: =IF('التصنيفات'!A14&""="","",'التصنيفات'!A14) | B15: =IF($A15="","",'الميزانية الشهرية'!N15) | C15: =IF($A15="","",SUMIFS('الميزانية الشهرية'!$B15:$M15,'الميزانية الشهرية'!$B$4:$M$4,">="&'الإعدادات'!$B$5,'الميزانية الشهرية'!$B$4:$M$4,"<="&'الإعدادات'!$B$6)) | D15: =IF($A15="","",SUMIFS('الفعلي مقابل الميزانية'!$B15:$M15,'الفعلي مقابل الميزانية'!$B$4:$M$4,">="&'الإعدادات'!$B$5,'الفعلي مقابل الميزانية'!$B$4:$M$4,"<="&'الإعدادات'!$B$6)) | E15: =IF($A15="","",C15-D15) | F15: =IF($A15="","",IF(C15=0,"",D15/C15)) | G15: =IF($A15="","",IF(AND(C15=0,D15=0),"-",IF(D15>C15,"تجاوز الميزانية",IF(AND(C15>0,D15/C15>='الإعدادات'!$B$7),"قريب من الحد","ضمن الميزانية")))) | H15: =IF($A15="","",D15+ROW()/1000000000)
A16: =IF('التصنيفات'!A15&""="","",'التصنيفات'!A15) | B16: =IF($A16="","",'الميزانية الشهرية'!N16) | C16: =IF($A16="","",SUMIFS('الميزانية الشهرية'!$B16:$M16,'الميزانية الشهرية'!$B$4:$M$4,">="&'الإعدادات'!$B$5,'الميزانية الشهرية'!$B$4:$M$4,"<="&'الإعدادات'!$B$6)) | D16: =IF($A16="","",SUMIFS('الفعلي مقابل الميزانية'!$B16:$M16,'الفعلي مقابل الميزانية'!$B$4:$M$4,">="&'الإعدادات'!$B$5,'الفعلي مقابل الميزانية'!$B$4:$M$4,"<="&'الإعدادات'!$B$6)) | E16: =IF($A16="","",C16-D16) | F16: =IF($A16="","",IF(C16=0,"",D16/C16)) | G16: =IF($A16="","",IF(AND(C16=0,D16=0),"-",IF(D16>C16,"تجاوز الميزانية",IF(AND(C16>0,D16/C16>='الإعدادات'!$B$7),"قريب من الحد","ضمن الميزانية")))) | H16: =IF($A16="","",D16+ROW()/1000000000)
A17: =IF('التصنيفات'!A16&""="","",'التصنيفات'!A16) | B17: =IF($A17="","",'الميزانية الشهرية'!N17) | C17: =IF($A17="","",SUMIFS('الميزانية الشهرية'!$B17:$M17,'الميزانية الشهرية'!$B$4:$M$4,">="&'الإعدادات'!$B$5,'الميزانية الشهرية'!$B$4:$M$4,"<="&'الإعدادات'!$B$6)) | D17: =IF($A17="","",SUMIFS('الفعلي مقابل الميزانية'!$B17:$M17,'الفعلي مقابل الميزانية'!$B$4:$M$4,">="&'الإعدادات'!$B$5,'الفعلي مقابل الميزانية'!$B$4:$M$4,"<="&'الإعدادات'!$B$6)) | E17: =IF($A17="","",C17-D17) | F17: =IF($A17="","",IF(C17=0,"",D17/C17)) | G17: =IF($A17="","",IF(AND(C17=0,D17=0),"-",IF(D17>C17,"تجاوز الميزانية",IF(AND(C17>0,D17/C17>='الإعدادات'!$B$7),"قريب من الحد","ضمن الميزانية")))) | H17: =IF($A17="","",D17+ROW()/1000000000)
... A25: =IF('التصنيفات'!A24&""="","",'التصنيفات'!A24) | B25: =IF($A25="","",'الميزانية الشهرية'!N25) | C25: =IF($A25="","",SUMIFS('الميزانية الشهرية'!$B25:$M25,'الميزانية الشهرية'!$B$4:$M$4,">="&'الإعدادات'!$B$5,'الميزانية الشهرية'!$B$4:$M$4,"<="&'الإعدادات'!$B$6)) | D25: =IF($A25="","",SUMIFS('الفعلي مقابل الميزانية'!$B25:$M25,'الفعلي مقابل الميزانية'!$B$4:$M$4,">="&'الإعدادات'!$B$5,'الفعلي مقابل الميزانية'!$B$4:$M$4,"<="&'الإعدادات'!$B$6)) | E25: =IF($A25="","",C25-D25) | F25: =IF($A25="","",IF(C25=0,"",D25/C25)) | G25: =IF($A25="","",IF(AND(C25=0,D25=0),"-",IF(D25>C25,"تجاوز الميزانية",IF(AND(C25>0,D25/C25>='الإعدادات'!$B$7),"قريب من الحد","ضمن الميزانية")))) | H25: =IF($A25="","",D25+ROW()/1000000000)
A26: الإجمالي | B26: =SUM(B6:B25) | C26: =SUM(C6:C25) | D26: =SUM(D6:D25) | E26: =SUM(E6:E25) | F26: =IF(C26=0,"",D26/C26)
A27: أكبر التصنيفات إنفاقًا في الفترة
A28: الترتيب | B28: التصنيف | C28: الفعلي | D28: نسبة من المصروفات
A29: 1 | B29: =IFERROR(IF(INDEX($D$6:$D$25,MATCH(LARGE($H$6:$H$25,A29),$H$6:$H$25,0))>0,INDEX($A$6:$A$25,MATCH(LARGE($H$6:$H$25,A29),$H$6:$H$25,0)),""),"") | C29: =IF(B29="","",INDEX($D$6:$D$25,MATCH(B29,$A$6:$A$25,0))) | D29: =IF(B29="","",IFERROR(C29/$D$26,""))
A30: 2 | B30: =IFERROR(IF(INDEX($D$6:$D$25,MATCH(LARGE($H$6:$H$25,A30),$H$6:$H$25,0))>0,INDEX($A$6:$A$25,MATCH(LARGE($H$6:$H$25,A30),$H$6:$H$25,0)),""),"") | C30: =IF(B30="","",INDEX($D$6:$D$25,MATCH(B30,$A$6:$A$25,0))) | D30: =IF(B30="","",IFERROR(C30/$D$26,""))
A31: 3 | B31: =IFERROR(IF(INDEX($D$6:$D$25,MATCH(LARGE($H$6:$H$25,A31),$H$6:$H$25,0))>0,INDEX($A$6:$A$25,MATCH(LARGE($H$6:$H$25,A31),$H$6:$H$25,0)),""),"") | C31: =IF(B31="","",INDEX($D$6:$D$25,MATCH(B31,$A$6:$A$25,0))) | D31: =IF(B31="","",IFERROR(C31/$D$26,""))
A32: 4 | B32: =IFERROR(IF(INDEX($D$6:$D$25,MATCH(LARGE($H$6:$H$25,A32),$H$6:$H$25,0))>0,INDEX($A$6:$A$25,MATCH(LARGE($H$6:$H$25,A32),$H$6:$H$25,0)),""),"") | C32: =IF(B32="","",INDEX($D$6:$D$25,MATCH(B32,$A$6:$A$25,0))) | D32: =IF(B32="","",IFERROR(C32/$D$26,""))
A33: 5 | B33: =IFERROR(IF(INDEX($D$6:$D$25,MATCH(LARGE($H$6:$H$25,A33),$H$6:$H$25,0))>0,INDEX($A$6:$A$25,MATCH(LARGE($H$6:$H$25,A33),$H$6:$H$25,0)),""),"") | C33: =IF(B33="","",INDEX($D$6:$D$25,MATCH(B33,$A$6:$A$25,0))) | D33: =IF(B33="","",IFERROR(C33/$D$26,""))
A35: الإيرادات والمصروفات وصافي كل شهر
A36: الشهر | B36: الإيرادات | C36: المصروفات | D36: الصافي | E36: ميزانية الشهر | F36: الانحراف (ميزانية - مصروفات)
A37: يناير | B37: =SUMIFS('الإيرادات'!$C$5:$C$504,'الإيرادات'!$A$5:$A$504,">="&DATE('الإعدادات'!$B$4,1,1),'الإيرادات'!$A$5:$A$504,"<"&DATE('الإعدادات'!$B$4,2,1)) | C37: =SUMIFS('المصروفات'!$D$5:$D$1004,'المصروفات'!$A$5:$A$1004,">="&DATE('الإعدادات'!$B$4,1,1),'المصروفات'!$A$5:$A$1004,"<"&DATE('الإعدادات'!$B$4,2,1)) | D37: =B37-C37 | E37: ='الميزانية الشهرية'!B26 | F37: =IF(OR(1<'الإعدادات'!$B$5,1>'الإعدادات'!$B$6),"",E37-C37)
A38: فبراير | B38: =SUMIFS('الإيرادات'!$C$5:$C$504,'الإيرادات'!$A$5:$A$504,">="&DATE('الإعدادات'!$B$4,2,1),'الإيرادات'!$A$5:$A$504,"<"&DATE('الإعدادات'!$B$4,3,1)) | C38: =SUMIFS('المصروفات'!$D$5:$D$1004,'المصروفات'!$A$5:$A$1004,">="&DATE('الإعدادات'!$B$4,2,1),'المصروفات'!$A$5:$A$1004,"<"&DATE('الإعدادات'!$B$4,3,1)) | D38: =B38-C38 | E38: ='الميزانية الشهرية'!C26 | F38: =IF(OR(2<'الإعدادات'!$B$5,2>'الإعدادات'!$B$6),"",E38-C38)
A39: مارس | B39: =SUMIFS('الإيرادات'!$C$5:$C$504,'الإيرادات'!$A$5:$A$504,">="&DATE('الإعدادات'!$B$4,3,1),'الإيرادات'!$A$5:$A$504,"<"&DATE('الإعدادات'!$B$4,4,1)) | C39: =SUMIFS('المصروفات'!$D$5:$D$1004,'المصروفات'!$A$5:$A$1004,">="&DATE('الإعدادات'!$B$4,3,1),'المصروفات'!$A$5:$A$1004,"<"&DATE('الإعدادات'!$B$4,4,1)) | D39: =B39-C39 | E39: ='الميزانية الشهرية'!D26 | F39: =IF(OR(3<'الإعدادات'!$B$5,3>'الإعدادات'!$B$6),"",E39-C39)
A40: أبريل | B40: =SUMIFS('الإيرادات'!$C$5:$C$504,'الإيرادات'!$A$5:$A$504,">="&DATE('الإعدادات'!$B$4,4,1),'الإيرادات'!$A$5:$A$504,"<"&DATE('الإعدادات'!$B$4,5,1)) | C40: =SUMIFS('المصروفات'!$D$5:$D$1004,'المصروفات'!$A$5:$A$1004,">="&DATE('الإعدادات'!$B$4,4,1),'المصروفات'!$A$5:$A$1004,"<"&DATE('الإعدادات'!$B$4,5,1)) | D40: =B40-C40 | E40: ='الميزانية الشهرية'!E26 | F40: =IF(OR(4<'الإعدادات'!$B$5,4>'الإعدادات'!$B$6),"",E40-C40)
A41: مايو | B41: =SUMIFS('الإيرادات'!$C$5:$C$504,'الإيرادات'!$A$5:$A$504,">="&DATE('الإعدادات'!$B$4,5,1),'الإيرادات'!$A$5:$A$504,"<"&DATE('الإعدادات'!$B$4,6,1)) | C41: =SUMIFS('المصروفات'!$D$5:$D$1004,'المصروفات'!$A$5:$A$1004,">="&DATE('الإعدادات'!$B$4,5,1),'المصروفات'!$A$5:$A$1004,"<"&DATE('الإعدادات'!$B$4,6,1)) | D41: =B41-C41 | E41: ='الميزانية الشهرية'!F26 | F41: =IF(OR(5<'الإعدادات'!$B$5,5>'الإعدادات'!$B$6),"",E41-C41)
A42: يونيو | B42: =SUMIFS('الإيرادات'!$C$5:$C$504,'الإيرادات'!$A$5:$A$504,">="&DATE('الإعدادات'!$B$4,6,1),'الإيرادات'!$A$5:$A$504,"<"&DATE('الإعدادات'!$B$4,7,1)) | C42: =SUMIFS('المصروفات'!$D$5:$D$1004,'المصروفات'!$A$5:$A$1004,">="&DATE('الإعدادات'!$B$4,6,1),'المصروفات'!$A$5:$A$1004,"<"&DATE('الإعدادات'!$B$4,7,1)) | D42: =B42-C42 | E42: ='الميزانية الشهرية'!G26 | F42: =IF(OR(6<'الإعدادات'!$B$5,6>'الإعدادات'!$B$6),"",E42-C42)
A43: يوليو | B43: =SUMIFS('الإيرادات'!$C$5:$C$504,'الإيرادات'!$A$5:$A$504,">="&DATE('الإعدادات'!$B$4,7,1),'الإيرادات'!$A$5:$A$504,"<"&DATE('الإعدادات'!$B$4,8,1)) | C43: =SUMIFS('المصروفات'!$D$5:$D$1004,'المصروفات'!$A$5:$A$1004,">="&DATE('الإعدادات'!$B$4,7,1),'المصروفات'!$A$5:$A$1004,"<"&DATE('الإعدادات'!$B$4,8,1)) | D43: =B43-C43 | E43: ='الميزانية الشهرية'!H26 | F43: =IF(OR(7<'الإعدادات'!$B$5,7>'الإعدادات'!$B$6),"",E43-C43)
A44: أغسطس | B44: =SUMIFS('الإيرادات'!$C$5:$C$504,'الإيرادات'!$A$5:$A$504,">="&DATE('الإعدادات'!$B$4,8,1),'الإيرادات'!$A$5:$A$504,"<"&DATE('الإعدادات'!$B$4,9,1)) | C44: =SUMIFS('المصروفات'!$D$5:$D$1004,'المصروفات'!$A$5:$A$1004,">="&DATE('الإعدادات'!$B$4,8,1),'المصروفات'!$A$5:$A$1004,"<"&DATE('الإعدادات'!$B$4,9,1)) | D44: =B44-C44 | E44: ='الميزانية الشهرية'!I26 | F44: =IF(OR(8<'الإعدادات'!$B$5,8>'الإعدادات'!$B$6),"",E44-C44)
A45: سبتمبر | B45: =SUMIFS('الإيرادات'!$C$5:$C$504,'الإيرادات'!$A$5:$A$504,">="&DATE('الإعدادات'!$B$4,9,1),'الإيرادات'!$A$5:$A$504,"<"&DATE('الإعدادات'!$B$4,10,1)) | C45: =SUMIFS('المصروفات'!$D$5:$D$1004,'المصروفات'!$A$5:$A$1004,">="&DATE('الإعدادات'!$B$4,9,1),'المصروفات'!$A$5:$A$1004,"<"&DATE('الإعدادات'!$B$4,10,1)) | D45: =B45-C45 | E45: ='الميزانية الشهرية'!J26 | F45: =IF(OR(9<'الإعدادات'!$B$5,9>'الإعدادات'!$B$6),"",E45-C45)
A46: أكتوبر | B46: =SUMIFS('الإيرادات'!$C$5:$C$504,'الإيرادات'!$A$5:$A$504,">="&DATE('الإعدادات'!$B$4,10,1),'الإيرادات'!$A$5:$A$504,"<"&DATE('الإعدادات'!$B$4,11,1)) | C46: =SUMIFS('المصروفات'!$D$5:$D$1004,'المصروفات'!$A$5:$A$1004,">="&DATE('الإعدادات'!$B$4,10,1),'المصروفات'!$A$5:$A$1004,"<"&DATE('الإعدادات'!$B$4,11,1)) | D46: =B46-C46 | E46: ='الميزانية الشهرية'!K26 | F46: =IF(OR(10<'الإعدادات'!$B$5,10>'الإعدادات'!$B$6),"",E46-C46)
A47: نوفمبر | B47: =SUMIFS('الإيرادات'!$C$5:$C$504,'الإيرادات'!$A$5:$A$504,">="&DATE('الإعدادات'!$B$4,11,1),'الإيرادات'!$A$5:$A$504,"<"&DATE('الإعدادات'!$B$4,12,1)) | C47: =SUMIFS('المصروفات'!$D$5:$D$1004,'المصروفات'!$A$5:$A$1004,">="&DATE('الإعدادات'!$B$4,11,1),'المصروفات'!$A$5:$A$1004,"<"&DATE('الإعدادات'!$B$4,12,1)) | D47: =B47-C47 | E47: ='الميزانية الشهرية'!L26 | F47: =IF(OR(11<'الإعدادات'!$B$5,11>'الإعدادات'!$B$6),"",E47-C47)
A48: ديسمبر | B48: =SUMIFS('الإيرادات'!$C$5:$C$504,'الإيرادات'!$A$5:$A$504,">="&DATE('الإعدادات'!$B$4,12,1),'الإيرادات'!$A$5:$A$504,"<"&DATE('الإعدادات'!$B$4+1,1,1)) | C48: =SUMIFS('المصروفات'!$D$5:$D$1004,'المصروفات'!$A$5:$A$1004,">="&DATE('الإعدادات'!$B$4,12,1),'المصروفات'!$A$5:$A$1004,"<"&DATE('الإعدادات'!$B$4+1,1,1)) | D48: =B48-C48 | E48: ='الميزانية الشهرية'!M26 | F48: =IF(OR(12<'الإعدادات'!$B$5,12>'الإعدادات'!$B$6),"",E48-C48)
A49: إجمالي السنة | B49: =SUM(B37:B48) | C49: =SUM(C37:C48) | D49: =SUM(D37:D48) | E49: =SUM(E37:E48) | F49: =SUM(F37:F48)

Sheet الفعلي مقابل الميزانية
A1: شيت المصروفات والميزانية الشهرية للمشروع · قالب مجاني من Softwiro
A2: فواتير عملائك ومدفوعاتهم ورصيدهم المستحق في كشف حساب واحد مع Accountwiro ← اضغط هنا
A4: رقم الشهر | B4: 1 | C4: 2 | D4: 3 | E4: 4 | F4: 5 | G4: 6 | H4: 7 | I4: 8 | J4: 9 | K4: 10 | L4: 11 | M4: 12
A5: المصروف الفعلي | B5: يناير | C5: فبراير | D5: مارس | E5: أبريل | F5: مايو | G5: يونيو | H5: يوليو | I5: أغسطس | J5: سبتمبر | K5: أكتوبر | L5: نوفمبر | M5: ديسمبر | N5: إجمالي السنة
A6: =IF('التصنيفات'!A5&""="","",'التصنيفات'!A5) | B6: =IF($A6="","",SUMIFS('المصروفات'!$D$5:$D$1004,'المصروفات'!$B$5:$B$1004,$A6,'المصروفات'!$A$5:$A$1004,">="&DATE('الإعدادات'!$B$4,1,1),'المصروفات'!$A$5:$A$1004,"<"&DATE('الإعدادات'!$B$4,2,1))) | C6: =IF($A6="","",SUMIFS('المصروفات'!$D$5:$D$1004,'المصروفات'!$B$5:$B$1004,$A6,'المصروفات'!$A$5:$A$1004,">="&DATE('الإعدادات'!$B$4,2,1),'المصروفات'!$A$5:$A$1004,"<"&DATE('الإعدادات'!$B$4,3,1))) | D6: =IF($A6="","",SUMIFS('المصروفات'!$D$5:$D$1004,'المصروفات'!$B$5:$B$1004,$A6,'المصروفات'!$A$5:$A$1004,">="&DATE('الإعدادات'!$B$4,3,1),'المصروفات'!$A$5:$A$1004,"<"&DATE('الإعدادات'!$B$4,4,1))) | E6: =IF($A6="","",SUMIFS('المصروفات'!$D$5:$D$1004,'المصروفات'!$B$5:$B$1004,$A6,'المصروفات'!$A$5:$A$1004,">="&DATE('الإعدادات'!$B$4,4,1),'المصروفات'!$A$5:$A$1004,"<"&DATE('الإعدادات'!$B$4,5,1))) | F6: =IF($A6="","",SUMIFS('المصروفات'!$D$5:$D$1004,'المصروفات'!$B$5:$B$1004,$A6,'المصروفات'!$A$5:$A$1004,">="&DATE('الإعدادات'!$B$4,5,1),'المصروفات'!$A$5:$A$1004,"<"&DATE('الإعدادات'!$B$4,6,1))) | G6: =IF($A6="","",SUMIFS('المصروفات'!$D$5:$D$1004,'المصروفات'!$B$5:$B$1004,$A6,'المصروفات'!$A$5:$A$1004,">="&DATE('الإعدادات'!$B$4,6,1),'المصروفات'!$A$5:$A$1004,"<"&DATE('الإعدادات'!$B$4,7,1))) | H6: =IF($A6="","",SUMIFS('المصروفات'!$D$5:$D$1004,'المصروفات'!$B$5:$B$1004,$A6,'المصروفات'!$A$5:$A$1004,">="&DATE('الإعدادات'!$B$4,7,1),'المصروفات'!$A$5:$A$1004,"<"&DATE('الإعدادات'!$B$4,8,1))) | I6: =IF($A6="","",SUMIFS('المصروفات'!$D$5:$D$1004,'المصروفات'!$B$5:$B$1004,$A6,'المصروفات'!$A$5:$A$1004,">="&DATE('الإعدادات'!$B$4,8,1),'المصروفات'!$A$5:$A$1004,"<"&DATE('الإعدادات'!$B$4,9,1))) | J6: =IF($A6="","",SUMIFS('المصروفات'!$D$5:$D$1004,'المصروفات'!$B$5:$B$1004,$A6,'المصروفات'!$A$5:$A$1004,">="&DATE('الإعدادات'!$B$4,9,1),'المصروفات'!$A$5:$A$1004,"<"&DATE('الإعدادات'!$B$4,10,1))) | K6: =IF($A6="","",SUMIFS('المصروفات'!$D$5:$D$1004,'المصروفات'!$B$5:$B$1004,$A6,'المصروفات'!$A$5:$A$1004,">="&DATE('الإعدادات'!$B$4,10,1),'المصروفات'!$A$5:$A$1004,"<"&DATE('الإعدادات'!$B$4,11,1))) | L6: =IF($A6="","",SUMIFS('المصروفات'!$D$5:$D$1004,'المصروفات'!$B$5:$B$1004,$A6,'المصروفات'!$A$5:$A$1004,">="&DATE('الإعدادات'!$B$4,11,1),'المصروفات'!$A$5:$A$1004,"<"&DATE('الإعدادات'!$B$4,12,1))) | M6: =IF($A6="","",SUMIFS('المصروفات'!$D$5:$D$1004,'المصروفات'!$B$5:$B$1004,$A6,'المصروفات'!$A$5:$A$1004,">="&DATE('الإعدادات'!$B$4,12,1),'المصروفات'!$A$5:$A$1004,"<"&DATE('الإعدادات'!$B$4+1,1,1))) | N6: =IF($A6="","",SUM(B6:M6))
A7: =IF('التصنيفات'!A6&""="","",'التصنيفات'!A6) | B7: =IF($A7="","",SUMIFS('المصروفات'!$D$5:$D$1004,'المصروفات'!$B$5:$B$1004,$A7,'المصروفات'!$A$5:$A$1004,">="&DATE('الإعدادات'!$B$4,1,1),'المصروفات'!$A$5:$A$1004,"<"&DATE('الإعدادات'!$B$4,2,1))) | C7: =IF($A7="","",SUMIFS('المصروفات'!$D$5:$D$1004,'المصروفات'!$B$5:$B$1004,$A7,'المصروفات'!$A$5:$A$1004,">="&DATE('الإعدادات'!$B$4,2,1),'المصروفات'!$A$5:$A$1004,"<"&DATE('الإعدادات'!$B$4,3,1))) | D7: =IF($A7="","",SUMIFS('المصروفات'!$D$5:$D$1004,'المصروفات'!$B$5:$B$1004,$A7,'المصروفات'!$A$5:$A$1004,">="&DATE('الإعدادات'!$B$4,3,1),'المصروفات'!$A$5:$A$1004,"<"&DATE('الإعدادات'!$B$4,4,1))) | E7: =IF($A7="","",SUMIFS('المصروفات'!$D$5:$D$1004,'المصروفات'!$B$5:$B$1004,$A7,'المصروفات'!$A$5:$A$1004,">="&DATE('الإعدادات'!$B$4,4,1),'المصروفات'!$A$5:$A$1004,"<"&DATE('الإعدادات'!$B$4,5,1))) | F7: =IF($A7="","",SUMIFS('المصروفات'!$D$5:$D$1004,'المصروفات'!$B$5:$B$1004,$A7,'المصروفات'!$A$5:$A$1004,">="&DATE('الإعدادات'!$B$4,5,1),'المصروفات'!$A$5:$A$1004,"<"&DATE('الإعدادات'!$B$4,6,1))) | G7: =IF($A7="","",SUMIFS('المصروفات'!$D$5:$D$1004,'المصروفات'!$B$5:$B$1004,$A7,'المصروفات'!$A$5:$A$1004,">="&DATE('الإعدادات'!$B$4,6,1),'المصروفات'!$A$5:$A$1004,"<"&DATE('الإعدادات'!$B$4,7,1))) | H7: =IF($A7="","",SUMIFS('المصروفات'!$D$5:$D$1004,'المصروفات'!$B$5:$B$1004,$A7,'المصروفات'!$A$5:$A$1004,">="&DATE('الإعدادات'!$B$4,7,1),'المصروفات'!$A$5:$A$1004,"<"&DATE('الإعدادات'!$B$4,8,1))) | I7: =IF($A7="","",SUMIFS('المصروفات'!$D$5:$D$1004,'المصروفات'!$B$5:$B$1004,$A7,'المصروفات'!$A$5:$A$1004,">="&DATE('الإعدادات'!$B$4,8,1),'المصروفات'!$A$5:$A$1004,"<"&DATE('الإعدادات'!$B$4,9,1))) | J7: =IF($A7="","",SUMIFS('المصروفات'!$D$5:$D$1004,'المصروفات'!$B$5:$B$1004,$A7,'المصروفات'!$A$5:$A$1004,">="&DATE('الإعدادات'!$B$4,9,1),'المصروفات'!$A$5:$A$1004,"<"&DATE('الإعدادات'!$B$4,10,1))) | K7: =IF($A7="","",SUMIFS('المصروفات'!$D$5:$D$1004,'المصروفات'!$B$5:$B$1004,$A7,'المصروفات'!$A$5:$A$1004,">="&DATE('الإعدادات'!$B$4,10,1),'المصروفات'!$A$5:$A$1004,"<"&DATE('الإعدادات'!$B$4,11,1))) | L7: =IF($A7="","",SUMIFS('المصروفات'!$D$5:$D$1004,'المصروفات'!$B$5:$B$1004,$A7,'المصروفات'!$A$5:$A$1004,">="&DATE('الإعدادات'!$B$4,11,1),'المصروفات'!$A$5:$A$1004,"<"&DATE('الإعدادات'!$B$4,12,1))) | M7: =IF($A7="","",SUMIFS('المصروفات'!$D$5:$D$1004,'المصروفات'!$B$5:$B$1004,$A7,'المصروفات'!$A$5:$A$1004,">="&DATE('الإعدادات'!$B$4,12,1),'المصروفات'!$A$5:$A$1004,"<"&DATE('الإعدادات'!$B$4+1,1,1))) | N7: =IF($A7="","",SUM(B7:M7))
A8: =IF('التصنيفات'!A7&""="","",'التصنيفات'!A7) | B8: =IF($A8="","",SUMIFS('المصروفات'!$D$5:$D$1004,'المصروفات'!$B$5:$B$1004,$A8,'المصروفات'!$A$5:$A$1004,">="&DATE('الإعدادات'!$B$4,1,1),'المصروفات'!$A$5:$A$1004,"<"&DATE('الإعدادات'!$B$4,2,1))) | C8: =IF($A8="","",SUMIFS('المصروفات'!$D$5:$D$1004,'المصروفات'!$B$5:$B$1004,$A8,'المصروفات'!$A$5:$A$1004,">="&DATE('الإعدادات'!$B$4,2,1),'المصروفات'!$A$5:$A$1004,"<"&DATE('الإعدادات'!$B$4,3,1))) | D8: =IF($A8="","",SUMIFS('المصروفات'!$D$5:$D$1004,'المصروفات'!$B$5:$B$1004,$A8,'المصروفات'!$A$5:$A$1004,">="&DATE('الإعدادات'!$B$4,3,1),'المصروفات'!$A$5:$A$1004,"<"&DATE('الإعدادات'!$B$4,4,1))) | E8: =IF($A8="","",SUMIFS('المصروفات'!$D$5:$D$1004,'المصروفات'!$B$5:$B$1004,$A8,'المصروفات'!$A$5:$A$1004,">="&DATE('الإعدادات'!$B$4,4,1),'المصروفات'!$A$5:$A$1004,"<"&DATE('الإعدادات'!$B$4,5,1))) | F8: =IF($A8="","",SUMIFS('المصروفات'!$D$5:$D$1004,'المصروفات'!$B$5:$B$1004,$A8,'المصروفات'!$A$5:$A$1004,">="&DATE('الإعدادات'!$B$4,5,1),'المصروفات'!$A$5:$A$1004,"<"&DATE('الإعدادات'!$B$4,6,1))) | G8: =IF($A8="","",SUMIFS('المصروفات'!$D$5:$D$1004,'المصروفات'!$B$5:$B$1004,$A8,'المصروفات'!$A$5:$A$1004,">="&DATE('الإعدادات'!$B$4,6,1),'المصروفات'!$A$5:$A$1004,"<"&DATE('الإعدادات'!$B$4,7,1))) | H8: =IF($A8="","",SUMIFS('المصروفات'!$D$5:$D$1004,'المصروفات'!$B$5:$B$1004,$A8,'المصروفات'!$A$5:$A$1004,">="&DATE('الإعدادات'!$B$4,7,1),'المصروفات'!$A$5:$A$1004,"<"&DATE('الإعدادات'!$B$4,8,1))) | I8: =IF($A8="","",SUMIFS('المصروفات'!$D$5:$D$1004,'المصروفات'!$B$5:$B$1004,$A8,'المصروفات'!$A$5:$A$1004,">="&DATE('الإعدادات'!$B$4,8,1),'المصروفات'!$A$5:$A$1004,"<"&DATE('الإعدادات'!$B$4,9,1))) | J8: =IF($A8="","",SUMIFS('المصروفات'!$D$5:$D$1004,'المصروفات'!$B$5:$B$1004,$A8,'المصروفات'!$A$5:$A$1004,">="&DATE('الإعدادات'!$B$4,9,1),'المصروفات'!$A$5:$A$1004,"<"&DATE('الإعدادات'!$B$4,10,1))) | K8: =IF($A8="","",SUMIFS('المصروفات'!$D$5:$D$1004,'المصروفات'!$B$5:$B$1004,$A8,'المصروفات'!$A$5:$A$1004,">="&DATE('الإعدادات'!$B$4,10,1),'المصروفات'!$A$5:$A$1004,"<"&DATE('الإعدادات'!$B$4,11,1))) | L8: =IF($A8="","",SUMIFS('المصروفات'!$D$5:$D$1004,'المصروفات'!$B$5:$B$1004,$A8,'المصروفات'!$A$5:$A$1004,">="&DATE('الإعدادات'!$B$4,11,1),'المصروفات'!$A$5:$A$1004,"<"&DATE('الإعدادات'!$B$4,12,1))) | M8: =IF($A8="","",SUMIFS('المصروفات'!$D$5:$D$1004,'المصروفات'!$B$5:$B$1004,$A8,'المصروفات'!$A$5:$A$1004,">="&DATE('الإعدادات'!$B$4,12,1),'المصروفات'!$A$5:$A$1004,"<"&DATE('الإعدادات'!$B$4+1,1,1))) | N8: =IF($A8="","",SUM(B8:M8))
A9: =IF('التصنيفات'!A8&""="","",'التصنيفات'!A8) | B9: =IF($A9="","",SUMIFS('المصروفات'!$D$5:$D$1004,'المصروفات'!$B$5:$B$1004,$A9,'المصروفات'!$A$5:$A$1004,">="&DATE('الإعدادات'!$B$4,1,1),'المصروفات'!$A$5:$A$1004,"<"&DATE('الإعدادات'!$B$4,2,1))) | C9: =IF($A9="","",SUMIFS('المصروفات'!$D$5:$D$1004,'المصروفات'!$B$5:$B$1004,$A9,'المصروفات'!$A$5:$A$1004,">="&DATE('الإعدادات'!$B$4,2,1),'المصروفات'!$A$5:$A$1004,"<"&DATE('الإعدادات'!$B$4,3,1))) | D9: =IF($A9="","",SUMIFS('المصروفات'!$D$5:$D$1004,'المصروفات'!$B$5:$B$1004,$A9,'المصروفات'!$A$5:$A$1004,">="&DATE('الإعدادات'!$B$4,3,1),'المصروفات'!$A$5:$A$1004,"<"&DATE('الإعدادات'!$B$4,4,1))) | E9: =IF($A9="","",SUMIFS('المصروفات'!$D$5:$D$1004,'المصروفات'!$B$5:$B$1004,$A9,'المصروفات'!$A$5:$A$1004,">="&DATE('الإعدادات'!$B$4,4,1),'المصروفات'!$A$5:$A$1004,"<"&DATE('الإعدادات'!$B$4,5,1))) | F9: =IF($A9="","",SUMIFS('المصروفات'!$D$5:$D$1004,'المصروفات'!$B$5:$B$1004,$A9,'المصروفات'!$A$5:$A$1004,">="&DATE('الإعدادات'!$B$4,5,1),'المصروفات'!$A$5:$A$1004,"<"&DATE('الإعدادات'!$B$4,6,1))) | G9: =IF($A9="","",SUMIFS('المصروفات'!$D$5:$D$1004,'المصروفات'!$B$5:$B$1004,$A9,'المصروفات'!$A$5:$A$1004,">="&DATE('الإعدادات'!$B$4,6,1),'المصروفات'!$A$5:$A$1004,"<"&DATE('الإعدادات'!$B$4,7,1))) | H9: =IF($A9="","",SUMIFS('المصروفات'!$D$5:$D$1004,'المصروفات'!$B$5:$B$1004,$A9,'المصروفات'!$A$5:$A$1004,">="&DATE('الإعدادات'!$B$4,7,1),'المصروفات'!$A$5:$A$1004,"<"&DATE('الإعدادات'!$B$4,8,1))) | I9: =IF($A9="","",SUMIFS('المصروفات'!$D$5:$D$1004,'المصروفات'!$B$5:$B$1004,$A9,'المصروفات'!$A$5:$A$1004,">="&DATE('الإعدادات'!$B$4,8,1),'المصروفات'!$A$5:$A$1004,"<"&DATE('الإعدادات'!$B$4,9,1))) | J9: =IF($A9="","",SUMIFS('المصروفات'!$D$5:$D$1004,'المصروفات'!$B$5:$B$1004,$A9,'المصروفات'!$A$5:$A$1004,">="&DATE('الإعدادات'!$B$4,9,1),'المصروفات'!$A$5:$A$1004,"<"&DATE('الإعدادات'!$B$4,10,1))) | K9: =IF($A9="","",SUMIFS('المصروفات'!$D$5:$D$1004,'المصروفات'!$B$5:$B$1004,$A9,'المصروفات'!$A$5:$A$1004,">="&DATE('الإعدادات'!$B$4,10,1),'المصروفات'!$A$5:$A$1004,"<"&DATE('الإعدادات'!$B$4,11,1))) | L9: =IF($A9="","",SUMIFS('المصروفات'!$D$5:$D$1004,'المصروفات'!$B$5:$B$1004,$A9,'المصروفات'!$A$5:$A$1004,">="&DATE('الإعدادات'!$B$4,11,1),'المصروفات'!$A$5:$A$1004,"<"&DATE('الإعدادات'!$B$4,12,1))) | M9: =IF($A9="","",SUMIFS('المصروفات'!$D$5:$D$1004,'المصروفات'!$B$5:$B$1004,$A9,'المصروفات'!$A$5:$A$1004,">="&DATE('الإعدادات'!$B$4,12,1),'المصروفات'!$A$5:$A$1004,"<"&DATE('الإعدادات'!$B$4+1,1,1))) | N9: =IF($A9="","",SUM(B9:M9))
A10: =IF('التصنيفات'!A9&""="","",'التصنيفات'!A9) | B10: =IF($A10="","",SUMIFS('المصروفات'!$D$5:$D$1004,'المصروفات'!$B$5:$B$1004,$A10,'المصروفات'!$A$5:$A$1004,">="&DATE('الإعدادات'!$B$4,1,1),'المصروفات'!$A$5:$A$1004,"<"&DATE('الإعدادات'!$B$4,2,1))) | C10: =IF($A10="","",SUMIFS('المصروفات'!$D$5:$D$1004,'المصروفات'!$B$5:$B$1004,$A10,'المصروفات'!$A$5:$A$1004,">="&DATE('الإعدادات'!$B$4,2,1),'المصروفات'!$A$5:$A$1004,"<"&DATE('الإعدادات'!$B$4,3,1))) | D10: =IF($A10="","",SUMIFS('المصروفات'!$D$5:$D$1004,'المصروفات'!$B$5:$B$1004,$A10,'المصروفات'!$A$5:$A$1004,">="&DATE('الإعدادات'!$B$4,3,1),'المصروفات'!$A$5:$A$1004,"<"&DATE('الإعدادات'!$B$4,4,1))) | E10: =IF($A10="","",SUMIFS('المصروفات'!$D$5:$D$1004,'المصروفات'!$B$5:$B$1004,$A10,'المصروفات'!$A$5:$A$1004,">="&DATE('الإعدادات'!$B$4,4,1),'المصروفات'!$A$5:$A$1004,"<"&DATE('الإعدادات'!$B$4,5,1))) | F10: =IF($A10="","",SUMIFS('المصروفات'!$D$5:$D$1004,'المصروفات'!$B$5:$B$1004,$A10,'المصروفات'!$A$5:$A$1004,">="&DATE('الإعدادات'!$B$4,5,1),'المصروفات'!$A$5:$A$1004,"<"&DATE('الإعدادات'!$B$4,6,1))) | G10: =IF($A10="","",SUMIFS('المصروفات'!$D$5:$D$1004,'المصروفات'!$B$5:$B$1004,$A10,'المصروفات'!$A$5:$A$1004,">="&DATE('الإعدادات'!$B$4,6,1),'المصروفات'!$A$5:$A$1004,"<"&DATE('الإعدادات'!$B$4,7,1))) | H10: =IF($A10="","",SUMIFS('المصروفات'!$D$5:$D$1004,'المصروفات'!$B$5:$B$1004,$A10,'المصروفات'!$A$5:$A$1004,">="&DATE('الإعدادات'!$B$4,7,1),'المصروفات'!$A$5:$A$1004,"<"&DATE('الإعدادات'!$B$4,8,1))) | I10: =IF($A10="","",SUMIFS('المصروفات'!$D$5:$D$1004,'المصروفات'!$B$5:$B$1004,$A10,'المصروفات'!$A$5:$A$1004,">="&DATE('الإعدادات'!$B$4,8,1),'المصروفات'!$A$5:$A$1004,"<"&DATE('الإعدادات'!$B$4,9,1))) | J10: =IF($A10="","",SUMIFS('المصروفات'!$D$5:$D$1004,'المصروفات'!$B$5:$B$1004,$A10,'المصروفات'!$A$5:$A$1004,">="&DATE('الإعدادات'!$B$4,9,1),'المصروفات'!$A$5:$A$1004,"<"&DATE('الإعدادات'!$B$4,10,1))) | K10: =IF($A10="","",SUMIFS('المصروفات'!$D$5:$D$1004,'المصروفات'!$B$5:$B$1004,$A10,'المصروفات'!$A$5:$A$1004,">="&DATE('الإعدادات'!$B$4,10,1),'المصروفات'!$A$5:$A$1004,"<"&DATE('الإعدادات'!$B$4,11,1))) | L10: =IF($A10="","",SUMIFS('المصروفات'!$D$5:$D$1004,'المصروفات'!$B$5:$B$1004,$A10,'المصروفات'!$A$5:$A$1004,">="&DATE('الإعدادات'!$B$4,11,1),'المصروفات'!$A$5:$A$1004,"<"&DATE('الإعدادات'!$B$4,12,1))) | M10: =IF($A10="","",SUMIFS('المصروفات'!$D$5:$D$1004,'المصروفات'!$B$5:$B$1004,$A10,'المصروفات'!$A$5:$A$1004,">="&DATE('الإعدادات'!$B$4,12,1),'المصروفات'!$A$5:$A$1004,"<"&DATE('الإعدادات'!$B$4+1,1,1))) | N10: =IF($A10="","",SUM(B10:M10))
A11: =IF('التصنيفات'!A10&""="","",'التصنيفات'!A10) | B11: =IF($A11="","",SUMIFS('المصروفات'!$D$5:$D$1004,'المصروفات'!$B$5:$B$1004,$A11,'المصروفات'!$A$5:$A$1004,">="&DATE('الإعدادات'!$B$4,1,1),'المصروفات'!$A$5:$A$1004,"<"&DATE('الإعدادات'!$B$4,2,1))) | C11: =IF($A11="","",SUMIFS('المصروفات'!$D$5:$D$1004,'المصروفات'!$B$5:$B$1004,$A11,'المصروفات'!$A$5:$A$1004,">="&DATE('الإعدادات'!$B$4,2,1),'المصروفات'!$A$5:$A$1004,"<"&DATE('الإعدادات'!$B$4,3,1))) | D11: =IF($A11="","",SUMIFS('المصروفات'!$D$5:$D$1004,'المصروفات'!$B$5:$B$1004,$A11,'المصروفات'!$A$5:$A$1004,">="&DATE('الإعدادات'!$B$4,3,1),'المصروفات'!$A$5:$A$1004,"<"&DATE('الإعدادات'!$B$4,4,1))) | E11: =IF($A11="","",SUMIFS('المصروفات'!$D$5:$D$1004,'المصروفات'!$B$5:$B$1004,$A11,'المصروفات'!$A$5:$A$1004,">="&DATE('الإعدادات'!$B$4,4,1),'المصروفات'!$A$5:$A$1004,"<"&DATE('الإعدادات'!$B$4,5,1))) | F11: =IF($A11="","",SUMIFS('المصروفات'!$D$5:$D$1004,'المصروفات'!$B$5:$B$1004,$A11,'المصروفات'!$A$5:$A$1004,">="&DATE('الإعدادات'!$B$4,5,1),'المصروفات'!$A$5:$A$1004,"<"&DATE('الإعدادات'!$B$4,6,1))) | G11: =IF($A11="","",SUMIFS('المصروفات'!$D$5:$D$1004,'المصروفات'!$B$5:$B$1004,$A11,'المصروفات'!$A$5:$A$1004,">="&DATE('الإعدادات'!$B$4,6,1),'المصروفات'!$A$5:$A$1004,"<"&DATE('الإعدادات'!$B$4,7,1))) | H11: =IF($A11="","",SUMIFS('المصروفات'!$D$5:$D$1004,'المصروفات'!$B$5:$B$1004,$A11,'المصروفات'!$A$5:$A$1004,">="&DATE('الإعدادات'!$B$4,7,1),'المصروفات'!$A$5:$A$1004,"<"&DATE('الإعدادات'!$B$4,8,1))) | I11: =IF($A11="","",SUMIFS('المصروفات'!$D$5:$D$1004,'المصروفات'!$B$5:$B$1004,$A11,'المصروفات'!$A$5:$A$1004,">="&DATE('الإعدادات'!$B$4,8,1),'المصروفات'!$A$5:$A$1004,"<"&DATE('الإعدادات'!$B$4,9,1))) | J11: =IF($A11="","",SUMIFS('المصروفات'!$D$5:$D$1004,'المصروفات'!$B$5:$B$1004,$A11,'المصروفات'!$A$5:$A$1004,">="&DATE('الإعدادات'!$B$4,9,1),'المصروفات'!$A$5:$A$1004,"<"&DATE('الإعدادات'!$B$4,10,1))) | K11: =IF($A11="","",SUMIFS('المصروفات'!$D$5:$D$1004,'المصروفات'!$B$5:$B$1004,$A11,'المصروفات'!$A$5:$A$1004,">="&DATE('الإعدادات'!$B$4,10,1),'المصروفات'!$A$5:$A$1004,"<"&DATE('الإعدادات'!$B$4,11,1))) | L11: =IF($A11="","",SUMIFS('المصروفات'!$D$5:$D$1004,'المصروفات'!$B$5:$B$1004,$A11,'المصروفات'!$A$5:$A$1004,">="&DATE('الإعدادات'!$B$4,11,1),'المصروفات'!$A$5:$A$1004,"<"&DATE('الإعدادات'!$B$4,12,1))) | M11: =IF($A11="","",SUMIFS('المصروفات'!$D$5:$D$1004,'المصروفات'!$B$5:$B$1004,$A11,'المصروفات'!$A$5:$A$1004,">="&DATE('الإعدادات'!$B$4,12,1),'المصروفات'!$A$5:$A$1004,"<"&DATE('الإعدادات'!$B$4+1,1,1))) | N11: =IF($A11="","",SUM(B11:M11))
A12: =IF('التصنيفات'!A11&""="","",'التصنيفات'!A11) | B12: =IF($A12="","",SUMIFS('المصروفات'!$D$5:$D$1004,'المصروفات'!$B$5:$B$1004,$A12,'المصروفات'!$A$5:$A$1004,">="&DATE('الإعدادات'!$B$4,1,1),'المصروفات'!$A$5:$A$1004,"<"&DATE('الإعدادات'!$B$4,2,1))) | C12: =IF($A12="","",SUMIFS('المصروفات'!$D$5:$D$1004,'المصروفات'!$B$5:$B$1004,$A12,'المصروفات'!$A$5:$A$1004,">="&DATE('الإعدادات'!$B$4,2,1),'المصروفات'!$A$5:$A$1004,"<"&DATE('الإعدادات'!$B$4,3,1))) | D12: =IF($A12="","",SUMIFS('المصروفات'!$D$5:$D$1004,'المصروفات'!$B$5:$B$1004,$A12,'المصروفات'!$A$5:$A$1004,">="&DATE('الإعدادات'!$B$4,3,1),'المصروفات'!$A$5:$A$1004,"<"&DATE('الإعدادات'!$B$4,4,1))) | E12: =IF($A12="","",SUMIFS('المصروفات'!$D$5:$D$1004,'المصروفات'!$B$5:$B$1004,$A12,'المصروفات'!$A$5:$A$1004,">="&DATE('الإعدادات'!$B$4,4,1),'المصروفات'!$A$5:$A$1004,"<"&DATE('الإعدادات'!$B$4,5,1))) | F12: =IF($A12="","",SUMIFS('المصروفات'!$D$5:$D$1004,'المصروفات'!$B$5:$B$1004,$A12,'المصروفات'!$A$5:$A$1004,">="&DATE('الإعدادات'!$B$4,5,1),'المصروفات'!$A$5:$A$1004,"<"&DATE('الإعدادات'!$B$4,6,1))) | G12: =IF($A12="","",SUMIFS('المصروفات'!$D$5:$D$1004,'المصروفات'!$B$5:$B$1004,$A12,'المصروفات'!$A$5:$A$1004,">="&DATE('الإعدادات'!$B$4,6,1),'المصروفات'!$A$5:$A$1004,"<"&DATE('الإعدادات'!$B$4,7,1))) | H12: =IF($A12="","",SUMIFS('المصروفات'!$D$5:$D$1004,'المصروفات'!$B$5:$B$1004,$A12,'المصروفات'!$A$5:$A$1004,">="&DATE('الإعدادات'!$B$4,7,1),'المصروفات'!$A$5:$A$1004,"<"&DATE('الإعدادات'!$B$4,8,1))) | I12: =IF($A12="","",SUMIFS('المصروفات'!$D$5:$D$1004,'المصروفات'!$B$5:$B$1004,$A12,'المصروفات'!$A$5:$A$1004,">="&DATE('الإعدادات'!$B$4,8,1),'المصروفات'!$A$5:$A$1004,"<"&DATE('الإعدادات'!$B$4,9,1))) | J12: =IF($A12="","",SUMIFS('المصروفات'!$D$5:$D$1004,'المصروفات'!$B$5:$B$1004,$A12,'المصروفات'!$A$5:$A$1004,">="&DATE('الإعدادات'!$B$4,9,1),'المصروفات'!$A$5:$A$1004,"<"&DATE('الإعدادات'!$B$4,10,1))) | K12: =IF($A12="","",SUMIFS('المصروفات'!$D$5:$D$1004,'المصروفات'!$B$5:$B$1004,$A12,'المصروفات'!$A$5:$A$1004,">="&DATE('الإعدادات'!$B$4,10,1),'المصروفات'!$A$5:$A$1004,"<"&DATE('الإعدادات'!$B$4,11,1))) | L12: =IF($A12="","",SUMIFS('المصروفات'!$D$5:$D$1004,'المصروفات'!$B$5:$B$1004,$A12,'المصروفات'!$A$5:$A$1004,">="&DATE('الإعدادات'!$B$4,11,1),'المصروفات'!$A$5:$A$1004,"<"&DATE('الإعدادات'!$B$4,12,1))) | M12: =IF($A12="","",SUMIFS('المصروفات'!$D$5:$D$1004,'المصروفات'!$B$5:$B$1004,$A12,'المصروفات'!$A$5:$A$1004,">="&DATE('الإعدادات'!$B$4,12,1),'المصروفات'!$A$5:$A$1004,"<"&DATE('الإعدادات'!$B$4+1,1,1))) | N12: =IF($A12="","",SUM(B12:M12))
A13: =IF('التصنيفات'!A12&""="","",'التصنيفات'!A12) | B13: =IF($A13="","",SUMIFS('المصروفات'!$D$5:$D$1004,'المصروفات'!$B$5:$B$1004,$A13,'المصروفات'!$A$5:$A$1004,">="&DATE('الإعدادات'!$B$4,1,1),'المصروفات'!$A$5:$A$1004,"<"&DATE('الإعدادات'!$B$4,2,1))) | C13: =IF($A13="","",SUMIFS('المصروفات'!$D$5:$D$1004,'المصروفات'!$B$5:$B$1004,$A13,'المصروفات'!$A$5:$A$1004,">="&DATE('الإعدادات'!$B$4,2,1),'المصروفات'!$A$5:$A$1004,"<"&DATE('الإعدادات'!$B$4,3,1))) | D13: =IF($A13="","",SUMIFS('المصروفات'!$D$5:$D$1004,'المصروفات'!$B$5:$B$1004,$A13,'المصروفات'!$A$5:$A$1004,">="&DATE('الإعدادات'!$B$4,3,1),'المصروفات'!$A$5:$A$1004,"<"&DATE('الإعدادات'!$B$4,4,1))) | E13: =IF($A13="","",SUMIFS('المصروفات'!$D$5:$D$1004,'المصروفات'!$B$5:$B$1004,$A13,'المصروفات'!$A$5:$A$1004,">="&DATE('الإعدادات'!$B$4,4,1),'المصروفات'!$A$5:$A$1004,"<"&DATE('الإعدادات'!$B$4,5,1))) | F13: =IF($A13="","",SUMIFS('المصروفات'!$D$5:$D$1004,'المصروفات'!$B$5:$B$1004,$A13,'المصروفات'!$A$5:$A$1004,">="&DATE('الإعدادات'!$B$4,5,1),'المصروفات'!$A$5:$A$1004,"<"&DATE('الإعدادات'!$B$4,6,1))) | G13: =IF($A13="","",SUMIFS('المصروفات'!$D$5:$D$1004,'المصروفات'!$B$5:$B$1004,$A13,'المصروفات'!$A$5:$A$1004,">="&DATE('الإعدادات'!$B$4,6,1),'المصروفات'!$A$5:$A$1004,"<"&DATE('الإعدادات'!$B$4,7,1))) | H13: =IF($A13="","",SUMIFS('المصروفات'!$D$5:$D$1004,'المصروفات'!$B$5:$B$1004,$A13,'المصروفات'!$A$5:$A$1004,">="&DATE('الإعدادات'!$B$4,7,1),'المصروفات'!$A$5:$A$1004,"<"&DATE('الإعدادات'!$B$4,8,1))) | I13: =IF($A13="","",SUMIFS('المصروفات'!$D$5:$D$1004,'المصروفات'!$B$5:$B$1004,$A13,'المصروفات'!$A$5:$A$1004,">="&DATE('الإعدادات'!$B$4,8,1),'المصروفات'!$A$5:$A$1004,"<"&DATE('الإعدادات'!$B$4,9,1))) | J13: =IF($A13="","",SUMIFS('المصروفات'!$D$5:$D$1004,'المصروفات'!$B$5:$B$1004,$A13,'المصروفات'!$A$5:$A$1004,">="&DATE('الإعدادات'!$B$4,9,1),'المصروفات'!$A$5:$A$1004,"<"&DATE('الإعدادات'!$B$4,10,1))) | K13: =IF($A13="","",SUMIFS('المصروفات'!$D$5:$D$1004,'المصروفات'!$B$5:$B$1004,$A13,'المصروفات'!$A$5:$A$1004,">="&DATE('الإعدادات'!$B$4,10,1),'المصروفات'!$A$5:$A$1004,"<"&DATE('الإعدادات'!$B$4,11,1))) | L13: =IF($A13="","",SUMIFS('المصروفات'!$D$5:$D$1004,'المصروفات'!$B$5:$B$1004,$A13,'المصروفات'!$A$5:$A$1004,">="&DATE('الإعدادات'!$B$4,11,1),'المصروفات'!$A$5:$A$1004,"<"&DATE('الإعدادات'!$B$4,12,1))) | M13: =IF($A13="","",SUMIFS('المصروفات'!$D$5:$D$1004,'المصروفات'!$B$5:$B$1004,$A13,'المصروفات'!$A$5:$A$1004,">="&DATE('الإعدادات'!$B$4,12,1),'المصروفات'!$A$5:$A$1004,"<"&DATE('الإعدادات'!$B$4+1,1,1))) | N13: =IF($A13="","",SUM(B13:M13))
A14: =IF('التصنيفات'!A13&""="","",'التصنيفات'!A13) | B14: =IF($A14="","",SUMIFS('المصروفات'!$D$5:$D$1004,'المصروفات'!$B$5:$B$1004,$A14,'المصروفات'!$A$5:$A$1004,">="&DATE('الإعدادات'!$B$4,1,1),'المصروفات'!$A$5:$A$1004,"<"&DATE('الإعدادات'!$B$4,2,1))) | C14: =IF($A14="","",SUMIFS('المصروفات'!$D$5:$D$1004,'المصروفات'!$B$5:$B$1004,$A14,'المصروفات'!$A$5:$A$1004,">="&DATE('الإعدادات'!$B$4,2,1),'المصروفات'!$A$5:$A$1004,"<"&DATE('الإعدادات'!$B$4,3,1))) | D14: =IF($A14="","",SUMIFS('المصروفات'!$D$5:$D$1004,'المصروفات'!$B$5:$B$1004,$A14,'المصروفات'!$A$5:$A$1004,">="&DATE('الإعدادات'!$B$4,3,1),'المصروفات'!$A$5:$A$1004,"<"&DATE('الإعدادات'!$B$4,4,1))) | E14: =IF($A14="","",SUMIFS('المصروفات'!$D$5:$D$1004,'المصروفات'!$B$5:$B$1004,$A14,'المصروفات'!$A$5:$A$1004,">="&DATE('الإعدادات'!$B$4,4,1),'المصروفات'!$A$5:$A$1004,"<"&DATE('الإعدادات'!$B$4,5,1))) | F14: =IF($A14="","",SUMIFS('المصروفات'!$D$5:$D$1004,'المصروفات'!$B$5:$B$1004,$A14,'المصروفات'!$A$5:$A$1004,">="&DATE('الإعدادات'!$B$4,5,1),'المصروفات'!$A$5:$A$1004,"<"&DATE('الإعدادات'!$B$4,6,1))) | G14: =IF($A14="","",SUMIFS('المصروفات'!$D$5:$D$1004,'المصروفات'!$B$5:$B$1004,$A14,'المصروفات'!$A$5:$A$1004,">="&DATE('الإعدادات'!$B$4,6,1),'المصروفات'!$A$5:$A$1004,"<"&DATE('الإعدادات'!$B$4,7,1))) | H14: =IF($A14="","",SUMIFS('المصروفات'!$D$5:$D$1004,'المصروفات'!$B$5:$B$1004,$A14,'المصروفات'!$A$5:$A$1004,">="&DATE('الإعدادات'!$B$4,7,1),'المصروفات'!$A$5:$A$1004,"<"&DATE('الإعدادات'!$B$4,8,1))) | I14: =IF($A14="","",SUMIFS('المصروفات'!$D$5:$D$1004,'المصروفات'!$B$5:$B$1004,$A14,'المصروفات'!$A$5:$A$1004,">="&DATE('الإعدادات'!$B$4,8,1),'المصروفات'!$A$5:$A$1004,"<"&DATE('الإعدادات'!$B$4,9,1))) | J14: =IF($A14="","",SUMIFS('المصروفات'!$D$5:$D$1004,'المصروفات'!$B$5:$B$1004,$A14,'المصروفات'!$A$5:$A$1004,">="&DATE('الإعدادات'!$B$4,9,1),'المصروفات'!$A$5:$A$1004,"<"&DATE('الإعدادات'!$B$4,10,1))) | K14: =IF($A14="","",SUMIFS('المصروفات'!$D$5:$D$1004,'المصروفات'!$B$5:$B$1004,$A14,'المصروفات'!$A$5:$A$1004,">="&DATE('الإعدادات'!$B$4,10,1),'المصروفات'!$A$5:$A$1004,"<"&DATE('الإعدادات'!$B$4,11,1))) | L14: =IF($A14="","",SUMIFS('المصروفات'!$D$5:$D$1004,'المصروفات'!$B$5:$B$1004,$A14,'المصروفات'!$A$5:$A$1004,">="&DATE('الإعدادات'!$B$4,11,1),'المصروفات'!$A$5:$A$1004,"<"&DATE('الإعدادات'!$B$4,12,1))) | M14: =IF($A14="","",SUMIFS('المصروفات'!$D$5:$D$1004,'المصروفات'!$B$5:$B$1004,$A14,'المصروفات'!$A$5:$A$1004,">="&DATE('الإعدادات'!$B$4,12,1),'المصروفات'!$A$5:$A$1004,"<"&DATE('الإعدادات'!$B$4+1,1,1))) | N14: =IF($A14="","",SUM(B14:M14))
A15: =IF('التصنيفات'!A14&""="","",'التصنيفات'!A14) | B15: =IF($A15="","",SUMIFS('المصروفات'!$D$5:$D$1004,'المصروفات'!$B$5:$B$1004,$A15,'المصروفات'!$A$5:$A$1004,">="&DATE('الإعدادات'!$B$4,1,1),'المصروفات'!$A$5:$A$1004,"<"&DATE('الإعدادات'!$B$4,2,1))) | C15: =IF($A15="","",SUMIFS('المصروفات'!$D$5:$D$1004,'المصروفات'!$B$5:$B$1004,$A15,'المصروفات'!$A$5:$A$1004,">="&DATE('الإعدادات'!$B$4,2,1),'المصروفات'!$A$5:$A$1004,"<"&DATE('الإعدادات'!$B$4,3,1))) | D15: =IF($A15="","",SUMIFS('المصروفات'!$D$5:$D$1004,'المصروفات'!$B$5:$B$1004,$A15,'المصروفات'!$A$5:$A$1004,">="&DATE('الإعدادات'!$B$4,3,1),'المصروفات'!$A$5:$A$1004,"<"&DATE('الإعدادات'!$B$4,4,1))) | E15: =IF($A15="","",SUMIFS('المصروفات'!$D$5:$D$1004,'المصروفات'!$B$5:$B$1004,$A15,'المصروفات'!$A$5:$A$1004,">="&DATE('الإعدادات'!$B$4,4,1),'المصروفات'!$A$5:$A$1004,"<"&DATE('الإعدادات'!$B$4,5,1))) | F15: =IF($A15="","",SUMIFS('المصروفات'!$D$5:$D$1004,'المصروفات'!$B$5:$B$1004,$A15,'المصروفات'!$A$5:$A$1004,">="&DATE('الإعدادات'!$B$4,5,1),'المصروفات'!$A$5:$A$1004,"<"&DATE('الإعدادات'!$B$4,6,1))) | G15: =IF($A15="","",SUMIFS('المصروفات'!$D$5:$D$1004,'المصروفات'!$B$5:$B$1004,$A15,'المصروفات'!$A$5:$A$1004,">="&DATE('الإعدادات'!$B$4,6,1),'المصروفات'!$A$5:$A$1004,"<"&DATE('الإعدادات'!$B$4,7,1))) | H15: =IF($A15="","",SUMIFS('المصروفات'!$D$5:$D$1004,'المصروفات'!$B$5:$B$1004,$A15,'المصروفات'!$A$5:$A$1004,">="&DATE('الإعدادات'!$B$4,7,1),'المصروفات'!$A$5:$A$1004,"<"&DATE('الإعدادات'!$B$4,8,1))) | I15: =IF($A15="","",SUMIFS('المصروفات'!$D$5:$D$1004,'المصروفات'!$B$5:$B$1004,$A15,'المصروفات'!$A$5:$A$1004,">="&DATE('الإعدادات'!$B$4,8,1),'المصروفات'!$A$5:$A$1004,"<"&DATE('الإعدادات'!$B$4,9,1))) | J15: =IF($A15="","",SUMIFS('المصروفات'!$D$5:$D$1004,'المصروفات'!$B$5:$B$1004,$A15,'المصروفات'!$A$5:$A$1004,">="&DATE('الإعدادات'!$B$4,9,1),'المصروفات'!$A$5:$A$1004,"<"&DATE('الإعدادات'!$B$4,10,1))) | K15: =IF($A15="","",SUMIFS('المصروفات'!$D$5:$D$1004,'المصروفات'!$B$5:$B$1004,$A15,'المصروفات'!$A$5:$A$1004,">="&DATE('الإعدادات'!$B$4,10,1),'المصروفات'!$A$5:$A$1004,"<"&DATE('الإعدادات'!$B$4,11,1))) | L15: =IF($A15="","",SUMIFS('المصروفات'!$D$5:$D$1004,'المصروفات'!$B$5:$B$1004,$A15,'المصروفات'!$A$5:$A$1004,">="&DATE('الإعدادات'!$B$4,11,1),'المصروفات'!$A$5:$A$1004,"<"&DATE('الإعدادات'!$B$4,12,1))) | M15: =IF($A15="","",SUMIFS('المصروفات'!$D$5:$D$1004,'المصروفات'!$B$5:$B$1004,$A15,'المصروفات'!$A$5:$A$1004,">="&DATE('الإعدادات'!$B$4,12,1),'المصروفات'!$A$5:$A$1004,"<"&DATE('الإعدادات'!$B$4+1,1,1))) | N15: =IF($A15="","",SUM(B15:M15))
A16: =IF('التصنيفات'!A15&""="","",'التصنيفات'!A15) | B16: =IF($A16="","",SUMIFS('المصروفات'!$D$5:$D$1004,'المصروفات'!$B$5:$B$1004,$A16,'المصروفات'!$A$5:$A$1004,">="&DATE('الإعدادات'!$B$4,1,1),'المصروفات'!$A$5:$A$1004,"<"&DATE('الإعدادات'!$B$4,2,1))) | C16: =IF($A16="","",SUMIFS('المصروفات'!$D$5:$D$1004,'المصروفات'!$B$5:$B$1004,$A16,'المصروفات'!$A$5:$A$1004,">="&DATE('الإعدادات'!$B$4,2,1),'المصروفات'!$A$5:$A$1004,"<"&DATE('الإعدادات'!$B$4,3,1))) | D16: =IF($A16="","",SUMIFS('المصروفات'!$D$5:$D$1004,'المصروفات'!$B$5:$B$1004,$A16,'المصروفات'!$A$5:$A$1004,">="&DATE('الإعدادات'!$B$4,3,1),'المصروفات'!$A$5:$A$1004,"<"&DATE('الإعدادات'!$B$4,4,1))) | E16: =IF($A16="","",SUMIFS('المصروفات'!$D$5:$D$1004,'المصروفات'!$B$5:$B$1004,$A16,'المصروفات'!$A$5:$A$1004,">="&DATE('الإعدادات'!$B$4,4,1),'المصروفات'!$A$5:$A$1004,"<"&DATE('الإعدادات'!$B$4,5,1))) | F16: =IF($A16="","",SUMIFS('المصروفات'!$D$5:$D$1004,'المصروفات'!$B$5:$B$1004,$A16,'المصروفات'!$A$5:$A$1004,">="&DATE('الإعدادات'!$B$4,5,1),'المصروفات'!$A$5:$A$1004,"<"&DATE('الإعدادات'!$B$4,6,1))) | G16: =IF($A16="","",SUMIFS('المصروفات'!$D$5:$D$1004,'المصروفات'!$B$5:$B$1004,$A16,'المصروفات'!$A$5:$A$1004,">="&DATE('الإعدادات'!$B$4,6,1),'المصروفات'!$A$5:$A$1004,"<"&DATE('الإعدادات'!$B$4,7,1))) | H16: =IF($A16="","",SUMIFS('المصروفات'!$D$5:$D$1004,'المصروفات'!$B$5:$B$1004,$A16,'المصروفات'!$A$5:$A$1004,">="&DATE('الإعدادات'!$B$4,7,1),'المصروفات'!$A$5:$A$1004,"<"&DATE('الإعدادات'!$B$4,8,1))) | I16: =IF($A16="","",SUMIFS('المصروفات'!$D$5:$D$1004,'المصروفات'!$B$5:$B$1004,$A16,'المصروفات'!$A$5:$A$1004,">="&DATE('الإعدادات'!$B$4,8,1),'المصروفات'!$A$5:$A$1004,"<"&DATE('الإعدادات'!$B$4,9,1))) | J16: =IF($A16="","",SUMIFS('المصروفات'!$D$5:$D$1004,'المصروفات'!$B$5:$B$1004,$A16,'المصروفات'!$A$5:$A$1004,">="&DATE('الإعدادات'!$B$4,9,1),'المصروفات'!$A$5:$A$1004,"<"&DATE('الإعدادات'!$B$4,10,1))) | K16: =IF($A16="","",SUMIFS('المصروفات'!$D$5:$D$1004,'المصروفات'!$B$5:$B$1004,$A16,'المصروفات'!$A$5:$A$1004,">="&DATE('الإعدادات'!$B$4,10,1),'المصروفات'!$A$5:$A$1004,"<"&DATE('الإعدادات'!$B$4,11,1))) | L16: =IF($A16="","",SUMIFS('المصروفات'!$D$5:$D$1004,'المصروفات'!$B$5:$B$1004,$A16,'المصروفات'!$A$5:$A$1004,">="&DATE('الإعدادات'!$B$4,11,1),'المصروفات'!$A$5:$A$1004,"<"&DATE('الإعدادات'!$B$4,12,1))) | M16: =IF($A16="","",SUMIFS('المصروفات'!$D$5:$D$1004,'المصروفات'!$B$5:$B$1004,$A16,'المصروفات'!$A$5:$A$1004,">="&DATE('الإعدادات'!$B$4,12,1),'المصروفات'!$A$5:$A$1004,"<"&DATE('الإعدادات'!$B$4+1,1,1))) | N16: =IF($A16="","",SUM(B16:M16))
A17: =IF('التصنيفات'!A16&""="","",'التصنيفات'!A16) | B17: =IF($A17="","",SUMIFS('المصروفات'!$D$5:$D$1004,'المصروفات'!$B$5:$B$1004,$A17,'المصروفات'!$A$5:$A$1004,">="&DATE('الإعدادات'!$B$4,1,1),'المصروفات'!$A$5:$A$1004,"<"&DATE('الإعدادات'!$B$4,2,1))) | C17: =IF($A17="","",SUMIFS('المصروفات'!$D$5:$D$1004,'المصروفات'!$B$5:$B$1004,$A17,'المصروفات'!$A$5:$A$1004,">="&DATE('الإعدادات'!$B$4,2,1),'المصروفات'!$A$5:$A$1004,"<"&DATE('الإعدادات'!$B$4,3,1))) | D17: =IF($A17="","",SUMIFS('المصروفات'!$D$5:$D$1004,'المصروفات'!$B$5:$B$1004,$A17,'المصروفات'!$A$5:$A$1004,">="&DATE('الإعدادات'!$B$4,3,1),'المصروفات'!$A$5:$A$1004,"<"&DATE('الإعدادات'!$B$4,4,1))) | E17: =IF($A17="","",SUMIFS('المصروفات'!$D$5:$D$1004,'المصروفات'!$B$5:$B$1004,$A17,'المصروفات'!$A$5:$A$1004,">="&DATE('الإعدادات'!$B$4,4,1),'المصروفات'!$A$5:$A$1004,"<"&DATE('الإعدادات'!$B$4,5,1))) | F17: =IF($A17="","",SUMIFS('المصروفات'!$D$5:$D$1004,'المصروفات'!$B$5:$B$1004,$A17,'المصروفات'!$A$5:$A$1004,">="&DATE('الإعدادات'!$B$4,5,1),'المصروفات'!$A$5:$A$1004,"<"&DATE('الإعدادات'!$B$4,6,1))) | G17: =IF($A17="","",SUMIFS('المصروفات'!$D$5:$D$1004,'المصروفات'!$B$5:$B$1004,$A17,'المصروفات'!$A$5:$A$1004,">="&DATE('الإعدادات'!$B$4,6,1),'المصروفات'!$A$5:$A$1004,"<"&DATE('الإعدادات'!$B$4,7,1))) | H17: =IF($A17="","",SUMIFS('المصروفات'!$D$5:$D$1004,'المصروفات'!$B$5:$B$1004,$A17,'المصروفات'!$A$5:$A$1004,">="&DATE('الإعدادات'!$B$4,7,1),'المصروفات'!$A$5:$A$1004,"<"&DATE('الإعدادات'!$B$4,8,1))) | I17: =IF($A17="","",SUMIFS('المصروفات'!$D$5:$D$1004,'المصروفات'!$B$5:$B$1004,$A17,'المصروفات'!$A$5:$A$1004,">="&DATE('الإعدادات'!$B$4,8,1),'المصروفات'!$A$5:$A$1004,"<"&DATE('الإعدادات'!$B$4,9,1))) | J17: =IF($A17="","",SUMIFS('المصروفات'!$D$5:$D$1004,'المصروفات'!$B$5:$B$1004,$A17,'المصروفات'!$A$5:$A$1004,">="&DATE('الإعدادات'!$B$4,9,1),'المصروفات'!$A$5:$A$1004,"<"&DATE('الإعدادات'!$B$4,10,1))) | K17: =IF($A17="","",SUMIFS('المصروفات'!$D$5:$D$1004,'المصروفات'!$B$5:$B$1004,$A17,'المصروفات'!$A$5:$A$1004,">="&DATE('الإعدادات'!$B$4,10,1),'المصروفات'!$A$5:$A$1004,"<"&DATE('الإعدادات'!$B$4,11,1))) | L17: =IF($A17="","",SUMIFS('المصروفات'!$D$5:$D$1004,'المصروفات'!$B$5:$B$1004,$A17,'المصروفات'!$A$5:$A$1004,">="&DATE('الإعدادات'!$B$4,11,1),'المصروفات'!$A$5:$A$1004,"<"&DATE('الإعدادات'!$B$4,12,1))) | M17: =IF($A17="","",SUMIFS('المصروفات'!$D$5:$D$1004,'المصروفات'!$B$5:$B$1004,$A17,'المصروفات'!$A$5:$A$1004,">="&DATE('الإعدادات'!$B$4,12,1),'المصروفات'!$A$5:$A$1004,"<"&DATE('الإعدادات'!$B$4+1,1,1))) | N17: =IF($A17="","",SUM(B17:M17))
... A25: =IF('التصنيفات'!A24&""="","",'التصنيفات'!A24) | B25: =IF($A25="","",SUMIFS('المصروفات'!$D$5:$D$1004,'المصروفات'!$B$5:$B$1004,$A25,'المصروفات'!$A$5:$A$1004,">="&DATE('الإعدادات'!$B$4,1,1),'المصروفات'!$A$5:$A$1004,"<"&DATE('الإعدادات'!$B$4,2,1))) | C25: =IF($A25="","",SUMIFS('المصروفات'!$D$5:$D$1004,'المصروفات'!$B$5:$B$1004,$A25,'المصروفات'!$A$5:$A$1004,">="&DATE('الإعدادات'!$B$4,2,1),'المصروفات'!$A$5:$A$1004,"<"&DATE('الإعدادات'!$B$4,3,1))) | D25: =IF($A25="","",SUMIFS('المصروفات'!$D$5:$D$1004,'المصروفات'!$B$5:$B$1004,$A25,'المصروفات'!$A$5:$A$1004,">="&DATE('الإعدادات'!$B$4,3,1),'المصروفات'!$A$5:$A$1004,"<"&DATE('الإعدادات'!$B$4,4,1))) | E25: =IF($A25="","",SUMIFS('المصروفات'!$D$5:$D$1004,'المصروفات'!$B$5:$B$1004,$A25,'المصروفات'!$A$5:$A$1004,">="&DATE('الإعدادات'!$B$4,4,1),'المصروفات'!$A$5:$A$1004,"<"&DATE('الإعدادات'!$B$4,5,1))) | F25: =IF($A25="","",SUMIFS('المصروفات'!$D$5:$D$1004,'المصروفات'!$B$5:$B$1004,$A25,'المصروفات'!$A$5:$A$1004,">="&DATE('الإعدادات'!$B$4,5,1),'المصروفات'!$A$5:$A$1004,"<"&DATE('الإعدادات'!$B$4,6,1))) | G25: =IF($A25="","",SUMIFS('المصروفات'!$D$5:$D$1004,'المصروفات'!$B$5:$B$1004,$A25,'المصروفات'!$A$5:$A$1004,">="&DATE('الإعدادات'!$B$4,6,1),'المصروفات'!$A$5:$A$1004,"<"&DATE('الإعدادات'!$B$4,7,1))) | H25: =IF($A25="","",SUMIFS('المصروفات'!$D$5:$D$1004,'المصروفات'!$B$5:$B$1004,$A25,'المصروفات'!$A$5:$A$1004,">="&DATE('الإعدادات'!$B$4,7,1),'المصروفات'!$A$5:$A$1004,"<"&DATE('الإعدادات'!$B$4,8,1))) | I25: =IF($A25="","",SUMIFS('المصروفات'!$D$5:$D$1004,'المصروفات'!$B$5:$B$1004,$A25,'المصروفات'!$A$5:$A$1004,">="&DATE('الإعدادات'!$B$4,8,1),'المصروفات'!$A$5:$A$1004,"<"&DATE('الإعدادات'!$B$4,9,1))) | J25: =IF($A25="","",SUMIFS('المصروفات'!$D$5:$D$1004,'المصروفات'!$B$5:$B$1004,$A25,'المصروفات'!$A$5:$A$1004,">="&DATE('الإعدادات'!$B$4,9,1),'المصروفات'!$A$5:$A$1004,"<"&DATE('الإعدادات'!$B$4,10,1))) | K25: =IF($A25="","",SUMIFS('المصروفات'!$D$5:$D$1004,'المصروفات'!$B$5:$B$1004,$A25,'المصروفات'!$A$5:$A$1004,">="&DATE('الإعدادات'!$B$4,10,1),'المصروفات'!$A$5:$A$1004,"<"&DATE('الإعدادات'!$B$4,11,1))) | L25: =IF($A25="","",SUMIFS('المصروفات'!$D$5:$D$1004,'المصروفات'!$B$5:$B$1004,$A25,'المصروفات'!$A$5:$A$1004,">="&DATE('الإعدادات'!$B$4,11,1),'المصروفات'!$A$5:$A$1004,"<"&DATE('الإعدادات'!$B$4,12,1))) | M25: =IF($A25="","",SUMIFS('المصروفات'!$D$5:$D$1004,'المصروفات'!$B$5:$B$1004,$A25,'المصروفات'!$A$5:$A$1004,">="&DATE('الإعدادات'!$B$4,12,1),'المصروفات'!$A$5:$A$1004,"<"&DATE('الإعدادات'!$B$4+1,1,1))) | N25: =IF($A25="","",SUM(B25:M25))
A26: الإجمالي | B26: =SUM(B6:B25) | C26: =SUM(C6:C25) | D26: =SUM(D6:D25) | E26: =SUM(E6:E25) | F26: =SUM(F6:F25) | G26: =SUM(G6:G25) | H26: =SUM(H6:H25) | I26: =SUM(I6:I25) | ... N26: =SUM(N6:N25)
A28: الانحراف عن الميزانية: الميزانية - الفعلي، للأشهر المحددة في الإعدادات (الأحمر = تجاوز)
A29: الانحراف | B29: يناير | C29: فبراير | D29: مارس | E29: أبريل | F29: مايو | G29: يونيو | H29: يوليو | I29: أغسطس | J29: سبتمبر | K29: أكتوبر | L29: نوفمبر | M29: ديسمبر | N29: إجمالي الفترة
A30: =A6 | B30: =IF($A30="","",IF(OR(B$4<'الإعدادات'!$B$5,B$4>'الإعدادات'!$B$6),"",'الميزانية الشهرية'!B6-B6)) | C30: =IF($A30="","",IF(OR(C$4<'الإعدادات'!$B$5,C$4>'الإعدادات'!$B$6),"",'الميزانية الشهرية'!C6-C6)) | D30: =IF($A30="","",IF(OR(D$4<'الإعدادات'!$B$5,D$4>'الإعدادات'!$B$6),"",'الميزانية الشهرية'!D6-D6)) | E30: =IF($A30="","",IF(OR(E$4<'الإعدادات'!$B$5,E$4>'الإعدادات'!$B$6),"",'الميزانية الشهرية'!E6-E6)) | F30: =IF($A30="","",IF(OR(F$4<'الإعدادات'!$B$5,F$4>'الإعدادات'!$B$6),"",'الميزانية الشهرية'!F6-F6)) | G30: =IF($A30="","",IF(OR(G$4<'الإعدادات'!$B$5,G$4>'الإعدادات'!$B$6),"",'الميزانية الشهرية'!G6-G6)) | H30: =IF($A30="","",IF(OR(H$4<'الإعدادات'!$B$5,H$4>'الإعدادات'!$B$6),"",'الميزانية الشهرية'!H6-H6)) | I30: =IF($A30="","",IF(OR(I$4<'الإعدادات'!$B$5,I$4>'الإعدادات'!$B$6),"",'الميزانية الشهرية'!I6-I6)) | ... M30: =IF($A30="","",IF(OR(M$4<'الإعدادات'!$B$5,M$4>'الإعدادات'!$B$6),"",'الميزانية الشهرية'!M6-M6)) | N30: =IF($A30="","",SUM(B30:M30))
A31: =A7 | B31: =IF($A31="","",IF(OR(B$4<'الإعدادات'!$B$5,B$4>'الإعدادات'!$B$6),"",'الميزانية الشهرية'!B7-B7)) | C31: =IF($A31="","",IF(OR(C$4<'الإعدادات'!$B$5,C$4>'الإعدادات'!$B$6),"",'الميزانية الشهرية'!C7-C7)) | D31: =IF($A31="","",IF(OR(D$4<'الإعدادات'!$B$5,D$4>'الإعدادات'!$B$6),"",'الميزانية الشهرية'!D7-D7)) | E31: =IF($A31="","",IF(OR(E$4<'الإعدادات'!$B$5,E$4>'الإعدادات'!$B$6),"",'الميزانية الشهرية'!E7-E7)) | F31: =IF($A31="","",IF(OR(F$4<'الإعدادات'!$B$5,F$4>'الإعدادات'!$B$6),"",'الميزانية الشهرية'!F7-F7)) | G31: =IF($A31="","",IF(OR(G$4<'الإعدادات'!$B$5,G$4>'الإعدادات'!$B$6),"",'الميزانية الشهرية'!G7-G7)) | H31: =IF($A31="","",IF(OR(H$4<'الإعدادات'!$B$5,H$4>'الإعدادات'!$B$6),"",'الميزانية الشهرية'!H7-H7)) | I31: =IF($A31="","",IF(OR(I$4<'الإعدادات'!$B$5,I$4>'الإعدادات'!$B$6),"",'الميزانية الشهرية'!I7-I7)) | ... M31: =IF($A31="","",IF(OR(M$4<'الإعدادات'!$B$5,M$4>'الإعدادات'!$B$6),"",'الميزانية الشهرية'!M7-M7)) | N31: =IF($A31="","",SUM(B31:M31))
A32: =A8 | B32: =IF($A32="","",IF(OR(B$4<'الإعدادات'!$B$5,B$4>'الإعدادات'!$B$6),"",'الميزانية الشهرية'!B8-B8)) | C32: =IF($A32="","",IF(OR(C$4<'الإعدادات'!$B$5,C$4>'الإعدادات'!$B$6),"",'الميزانية الشهرية'!C8-C8)) | D32: =IF($A32="","",IF(OR(D$4<'الإعدادات'!$B$5,D$4>'الإعدادات'!$B$6),"",'الميزانية الشهرية'!D8-D8)) | E32: =IF($A32="","",IF(OR(E$4<'الإعدادات'!$B$5,E$4>'الإعدادات'!$B$6),"",'الميزانية الشهرية'!E8-E8)) | F32: =IF($A32="","",IF(OR(F$4<'الإعدادات'!$B$5,F$4>'الإعدادات'!$B$6),"",'الميزانية الشهرية'!F8-F8)) | G32: =IF($A32="","",IF(OR(G$4<'الإعدادات'!$B$5,G$4>'الإعدادات'!$B$6),"",'الميزانية الشهرية'!G8-G8)) | H32: =IF($A32="","",IF(OR(H$4<'الإعدادات'!$B$5,H$4>'الإعدادات'!$B$6),"",'الميزانية الشهرية'!H8-H8)) | I32: =IF($A32="","",IF(OR(I$4<'الإعدادات'!$B$5,I$4>'الإعدادات'!$B$6),"",'الميزانية الشهرية'!I8-I8)) | ... M32: =IF($A32="","",IF(OR(M$4<'الإعدادات'!$B$5,M$4>'الإعدادات'!$B$6),"",'الميزانية الشهرية'!M8-M8)) | N32: =IF($A32="","",SUM(B32:M32))
A33: =A9 | B33: =IF($A33="","",IF(OR(B$4<'الإعدادات'!$B$5,B$4>'الإعدادات'!$B$6),"",'الميزانية الشهرية'!B9-B9)) | C33: =IF($A33="","",IF(OR(C$4<'الإعدادات'!$B$5,C$4>'الإعدادات'!$B$6),"",'الميزانية الشهرية'!C9-C9)) | D33: =IF($A33="","",IF(OR(D$4<'الإعدادات'!$B$5,D$4>'الإعدادات'!$B$6),"",'الميزانية الشهرية'!D9-D9)) | E33: =IF($A33="","",IF(OR(E$4<'الإعدادات'!$B$5,E$4>'الإعدادات'!$B$6),"",'الميزانية الشهرية'!E9-E9)) | F33: =IF($A33="","",IF(OR(F$4<'الإعدادات'!$B$5,F$4>'الإعدادات'!$B$6),"",'الميزانية الشهرية'!F9-F9)) | G33: =IF($A33="","",IF(OR(G$4<'الإعدادات'!$B$5,G$4>'الإعدادات'!$B$6),"",'الميزانية الشهرية'!G9-G9)) | H33: =IF($A33="","",IF(OR(H$4<'الإعدادات'!$B$5,H$4>'الإعدادات'!$B$6),"",'الميزانية الشهرية'!H9-H9)) | I33: =IF($A33="","",IF(OR(I$4<'الإعدادات'!$B$5,I$4>'الإعدادات'!$B$6),"",'الميزانية الشهرية'!I9-I9)) | ... M33: =IF($A33="","",IF(OR(M$4<'الإعدادات'!$B$5,M$4>'الإعدادات'!$B$6),"",'الميزانية الشهرية'!M9-M9)) | N33: =IF($A33="","",SUM(B33:M33))
A34: =A10 | B34: =IF($A34="","",IF(OR(B$4<'الإعدادات'!$B$5,B$4>'الإعدادات'!$B$6),"",'الميزانية الشهرية'!B10-B10)) | C34: =IF($A34="","",IF(OR(C$4<'الإعدادات'!$B$5,C$4>'الإعدادات'!$B$6),"",'الميزانية الشهرية'!C10-C10)) | D34: =IF($A34="","",IF(OR(D$4<'الإعدادات'!$B$5,D$4>'الإعدادات'!$B$6),"",'الميزانية الشهرية'!D10-D10)) | E34: =IF($A34="","",IF(OR(E$4<'الإعدادات'!$B$5,E$4>'الإعدادات'!$B$6),"",'الميزانية الشهرية'!E10-E10)) | F34: =IF($A34="","",IF(OR(F$4<'الإعدادات'!$B$5,F$4>'الإعدادات'!$B$6),"",'الميزانية الشهرية'!F10-F10)) | G34: =IF($A34="","",IF(OR(G$4<'الإعدادات'!$B$5,G$4>'الإعدادات'!$B$6),"",'الميزانية الشهرية'!G10-G10)) | H34: =IF($A34="","",IF(OR(H$4<'الإعدادات'!$B$5,H$4>'الإعدادات'!$B$6),"",'الميزانية الشهرية'!H10-H10)) | I34: =IF($A34="","",IF(OR(I$4<'الإعدادات'!$B$5,I$4>'الإعدادات'!$B$6),"",'الميزانية الشهرية'!I10-I10)) | ... M34: =IF($A34="","",IF(OR(M$4<'الإعدادات'!$B$5,M$4>'الإعدادات'!$B$6),"",'الميزانية الشهرية'!M10-M10)) | N34: =IF($A34="","",SUM(B34:M34))
A35: =A11 | B35: =IF($A35="","",IF(OR(B$4<'الإعدادات'!$B$5,B$4>'الإعدادات'!$B$6),"",'الميزانية الشهرية'!B11-B11)) | C35: =IF($A35="","",IF(OR(C$4<'الإعدادات'!$B$5,C$4>'الإعدادات'!$B$6),"",'الميزانية الشهرية'!C11-C11)) | D35: =IF($A35="","",IF(OR(D$4<'الإعدادات'!$B$5,D$4>'الإعدادات'!$B$6),"",'الميزانية الشهرية'!D11-D11)) | E35: =IF($A35="","",IF(OR(E$4<'الإعدادات'!$B$5,E$4>'الإعدادات'!$B$6),"",'الميزانية الشهرية'!E11-E11)) | F35: =IF($A35="","",IF(OR(F$4<'الإعدادات'!$B$5,F$4>'الإعدادات'!$B$6),"",'الميزانية الشهرية'!F11-F11)) | G35: =IF($A35="","",IF(OR(G$4<'الإعدادات'!$B$5,G$4>'الإعدادات'!$B$6),"",'الميزانية الشهرية'!G11-G11)) | H35: =IF($A35="","",IF(OR(H$4<'الإعدادات'!$B$5,H$4>'الإعدادات'!$B$6),"",'الميزانية الشهرية'!H11-H11)) | I35: =IF($A35="","",IF(OR(I$4<'الإعدادات'!$B$5,I$4>'الإعدادات'!$B$6),"",'الميزانية الشهرية'!I11-I11)) | ... M35: =IF($A35="","",IF(OR(M$4<'الإعدادات'!$B$5,M$4>'الإعدادات'!$B$6),"",'الميزانية الشهرية'!M11-M11)) | N35: =IF($A35="","",SUM(B35:M35))
A36: =A12 | B36: =IF($A36="","",IF(OR(B$4<'الإعدادات'!$B$5,B$4>'الإعدادات'!$B$6),"",'الميزانية الشهرية'!B12-B12)) | C36: =IF($A36="","",IF(OR(C$4<'الإعدادات'!$B$5,C$4>'الإعدادات'!$B$6),"",'الميزانية الشهرية'!C12-C12)) | D36: =IF($A36="","",IF(OR(D$4<'الإعدادات'!$B$5,D$4>'الإعدادات'!$B$6),"",'الميزانية الشهرية'!D12-D12)) | E36: =IF($A36="","",IF(OR(E$4<'الإعدادات'!$B$5,E$4>'الإعدادات'!$B$6),"",'الميزانية الشهرية'!E12-E12)) | F36: =IF($A36="","",IF(OR(F$4<'الإعدادات'!$B$5,F$4>'الإعدادات'!$B$6),"",'الميزانية الشهرية'!F12-F12)) | G36: =IF($A36="","",IF(OR(G$4<'الإعدادات'!$B$5,G$4>'الإعدادات'!$B$6),"",'الميزانية الشهرية'!G12-G12)) | H36: =IF($A36="","",IF(OR(H$4<'الإعدادات'!$B$5,H$4>'الإعدادات'!$B$6),"",'الميزانية الشهرية'!H12-H12)) | I36: =IF($A36="","",IF(OR(I$4<'الإعدادات'!$B$5,I$4>'الإعدادات'!$B$6),"",'الميزانية الشهرية'!I12-I12)) | ... M36: =IF($A36="","",IF(OR(M$4<'الإعدادات'!$B$5,M$4>'الإعدادات'!$B$6),"",'الميزانية الشهرية'!M12-M12)) | N36: =IF($A36="","",SUM(B36:M36))
A37: =A13 | B37: =IF($A37="","",IF(OR(B$4<'الإعدادات'!$B$5,B$4>'الإعدادات'!$B$6),"",'الميزانية الشهرية'!B13-B13)) | C37: =IF($A37="","",IF(OR(C$4<'الإعدادات'!$B$5,C$4>'الإعدادات'!$B$6),"",'الميزانية الشهرية'!C13-C13)) | D37: =IF($A37="","",IF(OR(D$4<'الإعدادات'!$B$5,D$4>'الإعدادات'!$B$6),"",'الميزانية الشهرية'!D13-D13)) | E37: =IF($A37="","",IF(OR(E$4<'الإعدادات'!$B$5,E$4>'الإعدادات'!$B$6),"",'الميزانية الشهرية'!E13-E13)) | F37: =IF($A37="","",IF(OR(F$4<'الإعدادات'!$B$5,F$4>'الإعدادات'!$B$6),"",'الميزانية الشهرية'!F13-F13)) | G37: =IF($A37="","",IF(OR(G$4<'الإعدادات'!$B$5,G$4>'الإعدادات'!$B$6),"",'الميزانية الشهرية'!G13-G13)) | H37: =IF($A37="","",IF(OR(H$4<'الإعدادات'!$B$5,H$4>'الإعدادات'!$B$6),"",'الميزانية الشهرية'!H13-H13)) | I37: =IF($A37="","",IF(OR(I$4<'الإعدادات'!$B$5,I$4>'الإعدادات'!$B$6),"",'الميزانية الشهرية'!I13-I13)) | ... M37: =IF($A37="","",IF(OR(M$4<'الإعدادات'!$B$5,M$4>'الإعدادات'!$B$6),"",'الميزانية الشهرية'!M13-M13)) | N37: =IF($A37="","",SUM(B37:M37))
A38: =A14 | B38: =IF($A38="","",IF(OR(B$4<'الإعدادات'!$B$5,B$4>'الإعدادات'!$B$6),"",'الميزانية الشهرية'!B14-B14)) | C38: =IF($A38="","",IF(OR(C$4<'الإعدادات'!$B$5,C$4>'الإعدادات'!$B$6),"",'الميزانية الشهرية'!C14-C14)) | D38: =IF($A38="","",IF(OR(D$4<'الإعدادات'!$B$5,D$4>'الإعدادات'!$B$6),"",'الميزانية الشهرية'!D14-D14)) | E38: =IF($A38="","",IF(OR(E$4<'الإعدادات'!$B$5,E$4>'الإعدادات'!$B$6),"",'الميزانية الشهرية'!E14-E14)) | F38: =IF($A38="","",IF(OR(F$4<'الإعدادات'!$B$5,F$4>'الإعدادات'!$B$6),"",'الميزانية الشهرية'!F14-F14)) | G38: =IF($A38="","",IF(OR(G$4<'الإعدادات'!$B$5,G$4>'الإعدادات'!$B$6),"",'الميزانية الشهرية'!G14-G14)) | H38: =IF($A38="","",IF(OR(H$4<'الإعدادات'!$B$5,H$4>'الإعدادات'!$B$6),"",'الميزانية الشهرية'!H14-H14)) | I38: =IF($A38="","",IF(OR(I$4<'الإعدادات'!$B$5,I$4>'الإعدادات'!$B$6),"",'الميزانية الشهرية'!I14-I14)) | ... M38: =IF($A38="","",IF(OR(M$4<'الإعدادات'!$B$5,M$4>'الإعدادات'!$B$6),"",'الميزانية الشهرية'!M14-M14)) | N38: =IF($A38="","",SUM(B38:M38))
A39: =A15 | B39: =IF($A39="","",IF(OR(B$4<'الإعدادات'!$B$5,B$4>'الإعدادات'!$B$6),"",'الميزانية الشهرية'!B15-B15)) | C39: =IF($A39="","",IF(OR(C$4<'الإعدادات'!$B$5,C$4>'الإعدادات'!$B$6),"",'الميزانية الشهرية'!C15-C15)) | D39: =IF($A39="","",IF(OR(D$4<'الإعدادات'!$B$5,D$4>'الإعدادات'!$B$6),"",'الميزانية الشهرية'!D15-D15)) | E39: =IF($A39="","",IF(OR(E$4<'الإعدادات'!$B$5,E$4>'الإعدادات'!$B$6),"",'الميزانية الشهرية'!E15-E15)) | F39: =IF($A39="","",IF(OR(F$4<'الإعدادات'!$B$5,F$4>'الإعدادات'!$B$6),"",'الميزانية الشهرية'!F15-F15)) | G39: =IF($A39="","",IF(OR(G$4<'الإعدادات'!$B$5,G$4>'الإعدادات'!$B$6),"",'الميزانية الشهرية'!G15-G15)) | H39: =IF($A39="","",IF(OR(H$4<'الإعدادات'!$B$5,H$4>'الإعدادات'!$B$6),"",'الميزانية الشهرية'!H15-H15)) | I39: =IF($A39="","",IF(OR(I$4<'الإعدادات'!$B$5,I$4>'الإعدادات'!$B$6),"",'الميزانية الشهرية'!I15-I15)) | ... M39: =IF($A39="","",IF(OR(M$4<'الإعدادات'!$B$5,M$4>'الإعدادات'!$B$6),"",'الميزانية الشهرية'!M15-M15)) | N39: =IF($A39="","",SUM(B39:M39))
A40: =A16 | B40: =IF($A40="","",IF(OR(B$4<'الإعدادات'!$B$5,B$4>'الإعدادات'!$B$6),"",'الميزانية الشهرية'!B16-B16)) | C40: =IF($A40="","",IF(OR(C$4<'الإعدادات'!$B$5,C$4>'الإعدادات'!$B$6),"",'الميزانية الشهرية'!C16-C16)) | D40: =IF($A40="","",IF(OR(D$4<'الإعدادات'!$B$5,D$4>'الإعدادات'!$B$6),"",'الميزانية الشهرية'!D16-D16)) | E40: =IF($A40="","",IF(OR(E$4<'الإعدادات'!$B$5,E$4>'الإعدادات'!$B$6),"",'الميزانية الشهرية'!E16-E16)) | F40: =IF($A40="","",IF(OR(F$4<'الإعدادات'!$B$5,F$4>'الإعدادات'!$B$6),"",'الميزانية الشهرية'!F16-F16)) | G40: =IF($A40="","",IF(OR(G$4<'الإعدادات'!$B$5,G$4>'الإعدادات'!$B$6),"",'الميزانية الشهرية'!G16-G16)) | H40: =IF($A40="","",IF(OR(H$4<'الإعدادات'!$B$5,H$4>'الإعدادات'!$B$6),"",'الميزانية الشهرية'!H16-H16)) | I40: =IF($A40="","",IF(OR(I$4<'الإعدادات'!$B$5,I$4>'الإعدادات'!$B$6),"",'الميزانية الشهرية'!I16-I16)) | ... M40: =IF($A40="","",IF(OR(M$4<'الإعدادات'!$B$5,M$4>'الإعدادات'!$B$6),"",'الميزانية الشهرية'!M16-M16)) | N40: =IF($A40="","",SUM(B40:M40))
A41: =A17 | B41: =IF($A41="","",IF(OR(B$4<'الإعدادات'!$B$5,B$4>'الإعدادات'!$B$6),"",'الميزانية الشهرية'!B17-B17)) | C41: =IF($A41="","",IF(OR(C$4<'الإعدادات'!$B$5,C$4>'الإعدادات'!$B$6),"",'الميزانية الشهرية'!C17-C17)) | D41: =IF($A41="","",IF(OR(D$4<'الإعدادات'!$B$5,D$4>'الإعدادات'!$B$6),"",'الميزانية الشهرية'!D17-D17)) | E41: =IF($A41="","",IF(OR(E$4<'الإعدادات'!$B$5,E$4>'الإعدادات'!$B$6),"",'الميزانية الشهرية'!E17-E17)) | F41: =IF($A41="","",IF(OR(F$4<'الإعدادات'!$B$5,F$4>'الإعدادات'!$B$6),"",'الميزانية الشهرية'!F17-F17)) | G41: =IF($A41="","",IF(OR(G$4<'الإعدادات'!$B$5,G$4>'الإعدادات'!$B$6),"",'الميزانية الشهرية'!G17-G17)) | H41: =IF($A41="","",IF(OR(H$4<'الإعدادات'!$B$5,H$4>'الإعدادات'!$B$6),"",'الميزانية الشهرية'!H17-H17)) | I41: =IF($A41="","",IF(OR(I$4<'الإعدادات'!$B$5,I$4>'الإعدادات'!$B$6),"",'الميزانية الشهرية'!I17-I17)) | ... M41: =IF($A41="","",IF(OR(M$4<'الإعدادات'!$B$5,M$4>'الإعدادات'!$B$6),"",'الميزانية الشهرية'!M17-M17)) | N41: =IF($A41="","",SUM(B41:M41))
... A49: =A25 | B49: =IF($A49="","",IF(OR(B$4<'الإعدادات'!$B$5,B$4>'الإعدادات'!$B$6),"",'الميزانية الشهرية'!B25-B25)) | C49: =IF($A49="","",IF(OR(C$4<'الإعدادات'!$B$5,C$4>'الإعدادات'!$B$6),"",'الميزانية الشهرية'!C25-C25)) | D49: =IF($A49="","",IF(OR(D$4<'الإعدادات'!$B$5,D$4>'الإعدادات'!$B$6),"",'الميزانية الشهرية'!D25-D25)) | E49: =IF($A49="","",IF(OR(E$4<'الإعدادات'!$B$5,E$4>'الإعدادات'!$B$6),"",'الميزانية الشهرية'!E25-E25)) | F49: =IF($A49="","",IF(OR(F$4<'الإعدادات'!$B$5,F$4>'الإعدادات'!$B$6),"",'الميزانية الشهرية'!F25-F25)) | G49: =IF($A49="","",IF(OR(G$4<'الإعدادات'!$B$5,G$4>'الإعدادات'!$B$6),"",'الميزانية الشهرية'!G25-G25)) | H49: =IF($A49="","",IF(OR(H$4<'الإعدادات'!$B$5,H$4>'الإعدادات'!$B$6),"",'الميزانية الشهرية'!H25-H25)) | I49: =IF($A49="","",IF(OR(I$4<'الإعدادات'!$B$5,I$4>'الإعدادات'!$B$6),"",'الميزانية الشهرية'!I25-I25)) | ... M49: =IF($A49="","",IF(OR(M$4<'الإعدادات'!$B$5,M$4>'الإعدادات'!$B$6),"",'الميزانية الشهرية'!M25-M25)) | N49: =IF($A49="","",SUM(B49:M49))
A50: إجمالي الانحراف | B50: =IF(OR(B$4<'الإعدادات'!$B$5,B$4>'الإعدادات'!$B$6),"",SUM(B30:B49)) | C50: =IF(OR(C$4<'الإعدادات'!$B$5,C$4>'الإعدادات'!$B$6),"",SUM(C30:C49)) | D50: =IF(OR(D$4<'الإعدادات'!$B$5,D$4>'الإعدادات'!$B$6),"",SUM(D30:D49)) | E50: =IF(OR(E$4<'الإعدادات'!$B$5,E$4>'الإعدادات'!$B$6),"",SUM(E30:E49)) | F50: =IF(OR(F$4<'الإعدادات'!$B$5,F$4>'الإعدادات'!$B$6),"",SUM(F30:F49)) | G50: =IF(OR(G$4<'الإعدادات'!$B$5,G$4>'الإعدادات'!$B$6),"",SUM(G30:G49)) | H50: =IF(OR(H$4<'الإعدادات'!$B$5,H$4>'الإعدادات'!$B$6),"",SUM(H30:H49)) | I50: =IF(OR(I$4<'الإعدادات'!$B$5,I$4>'الإعدادات'!$B$6),"",SUM(I30:I49)) | ... M50: =IF(OR(M$4<'الإعدادات'!$B$5,M$4>'الإعدادات'!$B$6),"",SUM(M30:M49)) | N50: =SUM(N30:N49)

Sheet الميزانية الشهرية
A1: شيت المصروفات والميزانية الشهرية للمشروع · قالب مجاني من Softwiro
A2: فواتير عملائك ومدفوعاتهم ورصيدهم المستحق في كشف حساب واحد مع Accountwiro ← اضغط هنا
A4: رقم الشهر | B4: 1 | C4: 2 | D4: 3 | E4: 4 | F4: 5 | G4: 6 | H4: 7 | I4: 8 | J4: 9 | K4: 10 | L4: 11 | M4: 12
A5: الميزانية الشهرية | B5: يناير | C5: فبراير | D5: مارس | E5: أبريل | F5: مايو | G5: يونيو | H5: يوليو | I5: أغسطس | J5: سبتمبر | K5: أكتوبر | L5: نوفمبر | M5: ديسمبر | N5: إجمالي السنة
A6: =IF('التصنيفات'!A5&""="","",'التصنيفات'!A5) | B6: 4000 | C6: 4000 | D6: 4000 | E6: 4000 | F6: 4000 | G6: 4000 | H6: 4000 | I6: 4000 | J6: 4000 | K6: 4000 | L6: 4000 | M6: 4000 | N6: =IF($A6="","",SUM(B6:M6))
A7: =IF('التصنيفات'!A6&""="","",'التصنيفات'!A6) | B7: 9000 | C7: 9000 | D7: 9000 | E7: 9000 | F7: 9000 | G7: 9000 | H7: 9000 | I7: 9000 | J7: 9000 | K7: 9000 | L7: 9000 | M7: 9000 | N7: =IF($A7="","",SUM(B7:M7))
A8: =IF('التصنيفات'!A7&""="","",'التصنيفات'!A7) | B8: 3000 | C8: 3000 | D8: 3000 | E8: 3000 | F8: 3000 | G8: 3000 | H8: 3000 | I8: 3000 | J8: 3000 | K8: 3000 | L8: 3000 | M8: 3000 | N8: =IF($A8="","",SUM(B8:M8))
A9: =IF('التصنيفات'!A8&""="","",'التصنيفات'!A8) | B9: 600 | C9: 600 | D9: 600 | E9: 600 | F9: 600 | G9: 600 | H9: 600 | I9: 600 | J9: 600 | K9: 600 | L9: 600 | M9: 600 | N9: =IF($A9="","",SUM(B9:M9))
A10: =IF('التصنيفات'!A9&""="","",'التصنيفات'!A9) | B10: 1500 | C10: 1500 | D10: 1500 | E10: 1500 | F10: 1500 | G10: 1500 | H10: 1500 | I10: 2000 | J10: 1500 | K10: 1500 | L10: 1500 | M10: 1500 | N10: =IF($A10="","",SUM(B10:M10))
A11: =IF('التصنيفات'!A10&""="","",'التصنيفات'!A10) | B11: 650 | C11: 650 | D11: 650 | E11: 650 | F11: 650 | G11: 650 | H11: 650 | I11: 650 | J11: 650 | K11: 650 | L11: 650 | M11: 650 | N11: =IF($A11="","",SUM(B11:M11))
A12: =IF('التصنيفات'!A11&""="","",'التصنيفات'!A11) | B12: 400 | C12: 400 | D12: 400 | E12: 400 | F12: 400 | G12: 400 | H12: 400 | I12: 400 | J12: 0 | K12: 400 | L12: 400 | M12: 400 | N12: =IF($A12="","",SUM(B12:M12))
A13: =IF('التصنيفات'!A12&""="","",'التصنيفات'!A12) | B13: 300 | C13: 300 | D13: 300 | E13: 300 | F13: 300 | G13: 300 | H13: 300 | I13: 300 | J13: 300 | K13: 300 | L13: 300 | M13: 300 | N13: =IF($A13="","",SUM(B13:M13))
A14: =IF('التصنيفات'!A13&""="","",'التصنيفات'!A13) | N14: =IF($A14="","",SUM(B14:M14))
A15: =IF('التصنيفات'!A14&""="","",'التصنيفات'!A14) | N15: =IF($A15="","",SUM(B15:M15))
A16: =IF('التصنيفات'!A15&""="","",'التصنيفات'!A15) | N16: =IF($A16="","",SUM(B16:M16))
A17: =IF('التصنيفات'!A16&""="","",'التصنيفات'!A16) | N17: =IF($A17="","",SUM(B17:M17))
A18: =IF('التصنيفات'!A17&""="","",'التصنيفات'!A17) | N18: =IF($A18="","",SUM(B18:M18))
A19: =IF('التصنيفات'!A18&""="","",'التصنيفات'!A18) | N19: =IF($A19="","",SUM(B19:M19))
A20: =IF('التصنيفات'!A19&""="","",'التصنيفات'!A19) | N20: =IF($A20="","",SUM(B20:M20))
A21: =IF('التصنيفات'!A20&""="","",'التصنيفات'!A20) | N21: =IF($A21="","",SUM(B21:M21))
A22: =IF('التصنيفات'!A21&""="","",'التصنيفات'!A21) | N22: =IF($A22="","",SUM(B22:M22))
A23: =IF('التصنيفات'!A22&""="","",'التصنيفات'!A22) | N23: =IF($A23="","",SUM(B23:M23))
A24: =IF('التصنيفات'!A23&""="","",'التصنيفات'!A23) | N24: =IF($A24="","",SUM(B24:M24))
A25: =IF('التصنيفات'!A24&""="","",'التصنيفات'!A24) | N25: =IF($A25="","",SUM(B25:M25))
A26: إجمالي الميزانية | B26: =SUM(B6:B25) | C26: =SUM(C6:C25) | D26: =SUM(D6:D25) | E26: =SUM(E6:E25) | F26: =SUM(F6:F25) | G26: =SUM(G6:G25) | H26: =SUM(H6:H25) | I26: =SUM(I6:I25) | ... N26: =SUM(N6:N25)

Sheet المصروفات
A1: شيت المصروفات والميزانية الشهرية للمشروع · قالب مجاني من Softwiro
A2: فواتير عملائك ومدفوعاتهم ورصيدهم المستحق في كشف حساب واحد مع Accountwiro ← اضغط هنا
A4: التاريخ | B4: التصنيف | C4: المستفيد | D4: المبلغ | E4: طريقة الدفع | F4: تنبيه
A5: 46011 | B5: إيجار | C5: مؤسسة الندى العقارية | D5: 4000 | E5: تحويل بنكي | F5: =IF(B5&""="","",IF(COUNTIF('التصنيفات'!$A$5:$A$24,B5&"")=0,"تصنيف غير موجود في القائمة",""))
A6: 46204 | B6: إيجار | C6: مؤسسة الندى العقارية | D6: 4000 | E6: تحويل بنكي | F6: =IF(B6&""="","",IF(COUNTIF('التصنيفات'!$A$5:$A$24,B6&"")=0,"تصنيف غير موجود في القائمة",""))
A7: 46206 | B7: مستلزمات ومواد | C7: مكتبة النور | D7: 1450 | E7: نقدي | F7: =IF(B7&""="","",IF(COUNTIF('التصنيفات'!$A$5:$A$24,B7&"")=0,"تصنيف غير موجود في القائمة",""))
A8: 46208 | B8: كهرباء ومياه وإنترنت | C8: شركة الكهرباء | D8: 620 | E8: محفظة إلكترونية | F8: =IF(B8&""="","",IF(COUNTIF('التصنيفات'!$A$5:$A$24,B8&"")=0,"تصنيف غير موجود في القائمة",""))
A9: 46213 | B9: نقل وشحن | C9: شركة الشحن السريع | D9: 380 | E9: نقدي | F9: =IF(B9&""="","",IF(COUNTIF('التصنيفات'!$A$5:$A$24,B9&"")=0,"تصنيف غير موجود في القائمة",""))
A10: 46218 | B10: تسويق وإعلان | C10: إعلانات فيسبوك | D10: 1200 | E10: بطاقة | F10: =IF(B10&""="","",IF(COUNTIF('التصنيفات'!$A$5:$A$24,B10&"")=0,"تصنيف غير موجود في القائمة",""))
A11: 46228 | B11: مرتبات | C11: مرتبات يوليو | D11: 9000 | E11: تحويل بنكي | F11: =IF(B11&""="","",IF(COUNTIF('التصنيفات'!$A$5:$A$24,B11&"")=0,"تصنيف غير موجود في القائمة",""))
A12: 46230 | B12: مستلزمات ومواد | C12: مورد الخامات | D12: 1500 | E12: تحويل بنكي | F12: =IF(B12&""="","",IF(COUNTIF('التصنيفات'!$A$5:$A$24,B12&"")=0,"تصنيف غير موجود في القائمة",""))
A13: 46235 | B13: إيجار | C13: مؤسسة الندى العقارية | D13: 4000 | E13: تحويل بنكي | F13: =IF(B13&""="","",IF(COUNTIF('التصنيفات'!$A$5:$A$24,B13&"")=0,"تصنيف غير موجود في القائمة",""))
A14: 46238 | B14: مستلزمات ومواد | C14: مورد الخامات | D14: 2200 | E14: تحويل بنكي | F14: =IF(B14&""="","",IF(COUNTIF('التصنيفات'!$A$5:$A$24,B14&"")=0,"تصنيف غير موجود في القائمة",""))
A15: 46240 | B15: كهرباء ومياه وإنترنت | C15: شركة الاتصالات | D15: 450 | E15: محفظة إلكترونية | F15: =IF(B15&""="","",IF(COUNTIF('التصنيفات'!$A$5:$A$24,B15&"")=0,"تصنيف غير موجود في القائمة",""))
A16: 46243 | B16: نقل وشحن | C16: شركة الشحن السريع | D16: 520 | E16: نقدي | F16: =IF(B16&""="","",IF(COUNTIF('التصنيفات'!$A$5:$A$24,B16&"")=0,"تصنيف غير موجود في القائمة",""))
... A35: 46320 | B35: مرتبات | C35: مرتبات أكتوبر | D35: 9000 | E35: تحويل بنكي | F35: =IF(B35&""="","",IF(COUNTIF('التصنيفات'!$A$5:$A$24,B35&"")=0,"تصنيف غير موجود في القائمة",""))
F36: =IF(B36&""="","",IF(COUNTIF('التصنيفات'!$A$5:$A$24,B36&"")=0,"تصنيف غير موجود في القائمة",""))
F37: =IF(B37&""="","",IF(COUNTIF('التصنيفات'!$A$5:$A$24,B37&"")=0,"تصنيف غير موجود في القائمة",""))
F38: =IF(B38&""="","",IF(COUNTIF('التصنيفات'!$A$5:$A$24,B38&"")=0,"تصنيف غير موجود في القائمة",""))
F39: =IF(B39&""="","",IF(COUNTIF('التصنيفات'!$A$5:$A$24,B39&"")=0,"تصنيف غير موجود في القائمة",""))
F40: =IF(B40&""="","",IF(COUNTIF('التصنيفات'!$A$5:$A$24,B40&"")=0,"تصنيف غير موجود في القائمة",""))
F41: =IF(B41&""="","",IF(COUNTIF('التصنيفات'!$A$5:$A$24,B41&"")=0,"تصنيف غير موجود في القائمة",""))
F42: =IF(B42&""="","",IF(COUNTIF('التصنيفات'!$A$5:$A$24,B42&"")=0,"تصنيف غير موجود في القائمة",""))
F43: =IF(B43&""="","",IF(COUNTIF('التصنيفات'!$A$5:$A$24,B43&"")=0,"تصنيف غير موجود في القائمة",""))
F44: =IF(B44&""="","",IF(COUNTIF('التصنيفات'!$A$5:$A$24,B44&"")=0,"تصنيف غير موجود في القائمة",""))
F45: =IF(B45&""="","",IF(COUNTIF('التصنيفات'!$A$5:$A$24,B45&"")=0,"تصنيف غير موجود في القائمة",""))
F46: =IF(B46&""="","",IF(COUNTIF('التصنيفات'!$A$5:$A$24,B46&"")=0,"تصنيف غير موجود في القائمة",""))
F47: =IF(B47&""="","",IF(COUNTIF('التصنيفات'!$A$5:$A$24,B47&"")=0,"تصنيف غير موجود في القائمة",""))
... F1004: =IF(B1004&""="","",IF(COUNTIF('التصنيفات'!$A$5:$A$24,B1004&"")=0,"تصنيف غير موجود في القائمة",""))

Sheet الإيرادات
A1: شيت المصروفات والميزانية الشهرية للمشروع · قالب مجاني من Softwiro
A2: فواتير عملائك ومدفوعاتهم ورصيدهم المستحق في كشف حساب واحد مع Accountwiro ← اضغط هنا
A4: التاريخ | B4: البيان | C4: المبلغ
A5: 46211 | B5: مبيعات الأسبوع الأول | C5: 12500
A6: 46225 | B6: تحصيل من عميل | C6: 9800
A7: 46233 | B7: مبيعات نهاية الشهر | C7: 14200
A8: 46244 | B8: مبيعات الأسبوع الأول | C8: 13100
A9: 46260 | B9: تحصيل من عميل | C9: 11000
A10: 46274 | B10: مبيعات الأسبوع الأول | C10: 15300
A11: 46292 | B11: مبيعات نهاية الشهر | C11: 16800
A12: 46301 | B12: مبيعات الأسبوع الأول | C12: 14000
A13: 46315 | B13: تحصيل من عميل | C13: 12400
A14: 46324 | B14: مبيعات نهاية الشهر | C14: 13600

Sheet التصنيفات
A1: شيت المصروفات والميزانية الشهرية للمشروع · قالب مجاني من Softwiro
A2: فواتير عملائك ومدفوعاتهم ورصيدهم المستحق في كشف حساب واحد مع Accountwiro ← اضغط هنا
A4: تصنيف المصروف | B4: طريقة الدفع
A5: إيجار | B5: نقدي
A6: مرتبات | B6: تحويل بنكي
A7: مستلزمات ومواد | B7: بطاقة
A8: نقل وشحن | B8: محفظة إلكترونية
A9: تسويق وإعلان
A10: كهرباء ومياه وإنترنت
A11: صيانة
A12: مصروفات إدارية

Sheet الإعدادات
A1: شيت المصروفات والميزانية الشهرية للمشروع · قالب مجاني من Softwiro
A2: فواتير عملائك ومدفوعاتهم ورصيدهم المستحق في كشف حساب واحد مع Accountwiro ← اضغط هنا
A4: السنة | B4: 2026
A5: المقارنة من شهر (1 إلى 12) | B5: 7
A6: المقارنة إلى شهر (1 إلى 12) | B6: 10
A7: نسبة التنبيه (قريب من الحد) | B7: 0.9

Sheet لماذا ما زلت على إكسل؟
B2: لماذا ما زلت تعمل على إكسل؟
B3: يحتاج هذا الشيت إلى من ينقل كل فاتورة ودفعة إليه. في Accountwiro تُسجَّل الفاتورة والدفعة لحظة حدوثهما، ويظهر رصيد العميل في كشف حساب واحد.
B5: في هذا الشيت | C5: في Accountwiro
B6: تنقل كل فاتورة ودفعة إلى الشيت بيدك. | C6: يعرض فواتير العميل ومدفوعاته ورصيده المستحق في كشف حساب واحد.
B7: الفاتورة تُكتب أو تُنسخ يدويًا. | C7: ينشئ الفاتورة بقراءة الباركود أو بالبحث باسم المنتج، ويحسب الخصومات والضرائب، ويرسلها للعميل عبر واتساب.
B8: النقص في المخزون يُكتشف متأخرًا. | C8: يحدّث الكميات بعد كل بيع، وينبهك عندما تنخفض كمية منتج عن الحد المطلوب.
B9: كل من يفتح الشيت يرى كل الأرقام. | C9: صلاحيات لكل مستخدم: موظف المبيعات يصدر الفواتير، وموظف المخزن يدير المخزون دون الوصول إلى البيانات المالية.
B11: تعرّف على Accountwiro واطلب عرضًا تجريبيًا ←
B13: أو تواصل معنا: sales@softwiro.com · softwiro.com/ar/contact
